From mboxrd@z Thu Jan 1 00:00:00 1970 Return-Path: Received: from mails.dpdk.org (mails.dpdk.org [217.70.189.124]) by inbox.dpdk.org (Postfix) with ESMTP id DD3CE4662B for ; Tue, 29 Apr 2025 03:20:52 +0200 (CEST) Received: from mails.dpdk.org (localhost [127.0.0.1]) by mails.dpdk.org (Postfix) with ESMTP id DFED6402A3; Tue, 29 Apr 2025 03:20:51 +0200 (CEST) Received: from mail-pl1-f228.google.com (mail-pl1-f228.google.com [209.85.214.228]) by mails.dpdk.org (Postfix) with ESMTP id 644654026C for ; Tue, 29 Apr 2025 03:20:50 +0200 (CEST) Received: by mail-pl1-f228.google.com with SMTP id d9443c01a7336-227cf12df27so51856515ad.0 for ; Mon, 28 Apr 2025 18:20:50 -0700 (PDT) DKIM-Signature: v=1; a=rsa-sha256; c=relaxed/relaxed; d=iol.unh.edu; s=unh-iol; t=1745889649; x=1746494449; darn=dpdk.org; h=references:in-reply-to:cc:to:from:subject:message-id:date:from:to :cc:subject:date:message-id:reply-to; bh=YOugmv1D3Jca5a7q9svneECL7IV7KcvQuQYR0TTX66o=; b=PadY5kQauzxwZFOiLdEJyTIhXgSkj7z+1hrP3Q2/Zc6AevhhWyEwgHotVfE9JcDRjO I32IgwOhVJ6Hi0t852sHL2w5je94GRRKx/WSxj5WryPxqXAtUKlSbz/yvLxhHQxuajBX 3tt8L5pQfjG+prh8Fey4B1hd//HvYbzSiXdqw= X-Google-DKIM-Signature: v=1; a=rsa-sha256; c=relaxed/relaxed; d=1e100.net; s=20230601; t=1745889649; x=1746494449; h=references:in-reply-to:cc:to:from:subject:message-id:date :x-gm-message-state:from:to:cc:subject:date:message-id:reply-to; bh=YOugmv1D3Jca5a7q9svneECL7IV7KcvQuQYR0TTX66o=; b=VgRfvPoCooUf+5G4FKRqmHZyowmzyIgB/qDg022xHw8K0jnxarIXNfLiqpAWrmHag/ IqLARkxN3g+nosa/rerJKaUAHz7NlSjX5TikR34TudzbA5L1CIGM7V9ndevCvl/DMlJf bKYyfX/t7NO763dUq3MLUJK9p7LynMkRSWINGIAL/dwXRiw9t2bSVoo9w43+o8zAbKu6 kmDhTdkTWacvNaWRU33dKKa1d6HMvw/xTU6Xdt4WSND5rpi4hAt1bkcA4XvRAuBUJWJK NnSAMfY2625344Cdr5lDK8Q0Rg5ntYm+kT7hIZz3/Cb41LHfrlfygNESXY9zyCgG32uh zSUw== X-Gm-Message-State: AOJu0YySP0vWSosf0w57wWpuMNDVrD1jkFbzytRXMbKj7UuiX9SUuSSI WiIhymLmTBU2cApPRz2Q3MQfbfpewlEnm9CunFWsDAlevK8lbYUvcbCac5wi7KDXrGKDCJl1jS4 PoQ0eExQzyxulHY3yWhd48E9R3JzTptV7zE6rnwdt X-Gm-Gg: ASbGncvqBmHOFPBMaMm9dkKf4kNV/5qA408dnSoVz8Ek70v1uEn/lr4Lqg2+gYeLVPv 4p8q+cfmUxi4uw/AYWFd7AxtDHdfA2gk9ZSSU1EIxc9lGF29592qzlVHJH67X7DxCRKbFBtoMMm 2E9L2KaU7zo7zYBSZZg3X1vjAyQEL+mTOTLiwV2ZO+km/G9RRoV5ELrW/wZiYae6QSw3TQ/Ier9 z7tsHVITLboF27iV9QjTSHoGrEJtJQgRp2IN+zwuGJcI00HwmMNpodQgZ/6nh6oRtBljOPE+1Lu 2nUn2IOMiEeVI+w3ruZQ0vfLEuxDqYt6UOkQ X-Google-Smtp-Source: AGHT+IHowIOkwW+EDVV7pddzuDvKe5kFA/+soAmblGHCoGbgEV4qum4DtkqrtIMnzo9A5QZIXQue3ctJX6eJ X-Received: by 2002:a17:902:cf10:b0:224:7a4:b31 with SMTP id d9443c01a7336-22de6bfdeb1mr16264825ad.6.1745889649178; Mon, 28 Apr 2025 18:20:49 -0700 (PDT) Received: from postal.iol.unh.edu (postal.iol.unh.edu. [132.177.123.84]) by smtp-relay.gmail.com with ESMTPS id d9443c01a7336-22db5236858sm12870845ad.123.2025.04.28.18.20.49 (version=TLS1_2 cipher=ECDHE-ECDSA-AES128-GCM-SHA256 bits=128/128); Mon, 28 Apr 2025 18:20:49 -0700 (PDT) X-Relaying-Domain: iol.unh.edu Date: Mon, 28 Apr 2025 18:20:49 -0700 (PDT) Message-ID: <68102971.170a0220.230657.ce09SMTPIN_ADDED_MISSING@mx.google.com> Received: from [172.17.0.2] (unknown [172.18.0.74]) by postal.iol.unh.edu (Postfix) with ESMTP id 848F26052471; Mon, 28 Apr 2025 21:20:48 -0400 (EDT) Subject: |SUCCESS| pw153177-153178 [PATCH] [v6,2/2] node: use node mbuf dynfi From: dpdklab@iol.unh.edu To: Test Report Cc: dpdk-test-reports@iol.unh.edu In-Reply-To: <20250428103711.3317231-3-nsaxena@marvell.com> References: <20250428103711.3317231-3-nsaxena@marvell.com> Content-Type: text/plain X-BeenThere: test-report@dpdk.org X-Mailman-Version: 2.1.29 Precedence: list List-Id: automatic DPDK test reports List-Unsubscribe: , List-Archive: List-Post: List-Help: List-Subscribe: , Errors-To: test-report-bounces@dpdk.org Test-Label: iol-compile-arm64-testing Test-Status: SUCCESS http://dpdk.org/patch/153178 _Testing PASS_ Submitter: Nitin Saxena Date: Monday, April 28 2025 10:37:07 DPDK git baseline: Repo:dpdk Branch: master CommitID:ca1690ebd224f148268285b15b97441ccdbdd07e 153177-153178 --> testing pass Upstream job id: Generic-DPDK-Compile-Meson#383592 Test environment and result as below: +----------------------------------------+--------------------+ | Environment | dpdk_meson_compile | +========================================+====================+ | RHEL9 (ARM) | PASS | +----------------------------------------+--------------------+ | Ubuntu 20.04 ARM SVE | PASS | +----------------------------------------+--------------------+ | Ubuntu 20.04 ARM GCC Cross Compile | PASS | +----------------------------------------+--------------------+ | Fedora 40 (ARM) | PASS | +----------------------------------------+--------------------+ | Debian 12 with MUSDK | PASS | +----------------------------------------+--------------------+ | Fedora 40 (ARM Clang) | PASS | +----------------------------------------+--------------------+ | Ubuntu 20.04 (ARM) | PASS | +----------------------------------------+--------------------+ | Fedora 41 (ARM Clang) | PASS | +----------------------------------------+--------------------+ | Fedora 41 (ARM) | PASS | +----------------------------------------+--------------------+ | Ubuntu 24.04 (ARM) | PASS | +----------------------------------------+--------------------+ | Ubuntu 22.04 (ARM) | PASS | +----------------------------------------+--------------------+ | CentOS Stream 9 (ARM) | PASS | +----------------------------------------+--------------------+ | CentOS Stream 10 (ARM) | PASS | +----------------------------------------+--------------------+ | Debian 12 (arm) | PASS | +----------------------------------------+--------------------+ | Ubuntu 20.04 ARM Clang Cross Compile | PASS | +----------------------------------------+--------------------+ | Ubuntu 20.04 aarch32 GCC Cross Compile | PASS | +----------------------------------------+--------------------+ RHEL9 (ARM) Kernel: Depends on container host Compiler: gcc 11.5.0 20240719 (Red Hat 11.5.0-2) Ubuntu 20.04 ARM SVE Kernel: Depends on container host Compiler: gcc (Ubuntu 10.5.0-1ubuntu1~20.04) 10.5.0 Ubuntu 20.04 ARM GCC Cross Compile Kernel: Depends on container host Compiler: aarch64-linux-gnu-gcc (Ubuntu 9.4.0-1ubuntu1~20.04.2) 9.4.0 Fedora 40 (ARM) Kernel: Depends on container host Compiler: gcc 14.2.1 20240912 (Red Hat 14.2.1-3) Debian 12 with MUSDK Kernel: Depends on container host Compiler: gcc (Debian 12.2.0-14) 12.2.0 Fedora 40 (ARM Clang) Kernel: Depends on container host Compiler: clang 18.1.8 (Fedora 18.1.8-1.fc40) Ubuntu 20.04 (ARM) Kernel: Depends on container host Compiler: gcc (Ubuntu 9.4.0-1ubuntu1~20.04.2) 9.4.0 Fedora 41 (ARM Clang) Kernel: Depends on container host Compiler: clang 19.1.5 (Fedora 19.1.5-1.fc41) Fedora 41 (ARM) Kernel: Depends on container host Compiler: gcc 14.2.1 20240912 (Red Hat 14.2.1-3) Ubuntu 24.04 (ARM) Kernel: Depends on container host Compiler: gcc (Ubuntu 13.3.0-6ubuntu2~24.04) 13.3.0 Ubuntu 22.04 (ARM) Kernel: Depends on container host Compiler: gcc (Ubuntu 11.4.0-1ubuntu1~22.04) 11.4.0 CentOS Stream 9 (ARM) Kernel: Depends on container host Compiler: gcc 11.5.0 20240719 (Red Hat 11.5.0-2) CentOS Stream 10 (ARM) Kernel: Depends on container host Compiler: gcc 14.2.1 20241104 (Red Hat 14.2.1-6) Debian 12 (arm) Kernel: Depends on container host Compiler: gcc (Debian 12.2.0-14) 12.2.0 Ubuntu 20.04 ARM Clang Cross Compile Kernel: Depends on container host Compiler: clang 10.0.0-4ubuntu1 Ubuntu 20.04 aarch32 GCC Cross Compile Kernel: Depends on container host Compiler: gcc 9.4.0 To view detailed results, visit: https://lab.dpdk.org/results/dashboard/patchsets/33079/ UNH-IOL DPDK Community Lab To manage your email subscriptions, visit: https://lab.dpdk.org/results/dashboard/preferences/subscriptions/