From mboxrd@z Thu Jan 1 00:00:00 1970 Return-Path: Received: from mails.dpdk.org (mails.dpdk.org [217.70.189.124]) by inbox.dpdk.org (Postfix) with ESMTP id 6CC4E46658 for ; Tue, 29 Apr 2025 06:34:52 +0200 (CEST) Received: from mails.dpdk.org (localhost [127.0.0.1]) by mails.dpdk.org (Postfix) with ESMTP id 6B2994026C; Tue, 29 Apr 2025 06:34:51 +0200 (CEST) Received: from mail-pl1-f228.google.com (mail-pl1-f228.google.com [209.85.214.228]) by mails.dpdk.org (Postfix) with ESMTP id D975340263 for ; Tue, 29 Apr 2025 06:34:49 +0200 (CEST) Received: by mail-pl1-f228.google.com with SMTP id d9443c01a7336-227a8cdd241so76516445ad.3 for ; Mon, 28 Apr 2025 21:34:49 -0700 (PDT) DKIM-Signature: v=1; a=rsa-sha256; c=relaxed/relaxed; d=iol.unh.edu; s=unh-iol; t=1745901289; x=1746506089; darn=dpdk.org; h=references:in-reply-to:cc:to:from:subject:message-id:date:from:to :cc:subject:date:message-id:reply-to; bh=FIuGWe1Xb1Exz1tWsnBMM5lrLPNp7nEuJj1xVVffYjA=; b=cuFXwYe54tC7ZHhNNCYnLxRL4NELJPPlpIABLfd8zOcgApeyq8HLKZRWFBj9FB158G cGdeYOwnsWLF53e4sdmUrEDs8Nspih1bhS0HfXprEbjVVKvm1KAFIu/b2Ung9m4ehCdO yJE3jUA0PpP1cmNoaN6gNsGp/eMA0j/pTYlMA= X-Google-DKIM-Signature: v=1; a=rsa-sha256; c=relaxed/relaxed; d=1e100.net; s=20230601; t=1745901289; x=1746506089; h=references:in-reply-to:cc:to:from:subject:message-id:date :x-gm-message-state:from:to:cc:subject:date:message-id:reply-to; bh=FIuGWe1Xb1Exz1tWsnBMM5lrLPNp7nEuJj1xVVffYjA=; b=LENi+VTkdNO8sy8ebEl+QtkTYdjpVVrfaSNvBYiJEFb2SJPhicCNImbrbIn4WG/yMy JcOyoSwlP+Fk7Ye0iyeO5oyIq7DUvMGgDk3J5w31PjXMu+S4YcFzSBofuGy3zOpzmKYx 98p5FTV6ONdRql/ezzQKSNqnI18XPZHNkt7nVz0vwaUg+dDlFEpLt8E2H28V8nIkInyr BnRgLi2pdfZLZ+JOPUi5nGSODrpMwO9lo4B7PUvwspGESqjVLlKucB7GKgCRJjr5pmQb Xv08Y+M+D591nEN03CpkTgjCtMjNBmOPke47Dj1Bm0ZbztFHKAco45OvlEe8XrGMSQ/z uT7g== X-Gm-Message-State: AOJu0YxrGfTztJQ2z5qrtBbLnQFrDYmThD9v0Tv9KqN/kZihuufl5+f5 d4Npl3bRS6HyxoVV29zYwR1IsvFxhHGLFRsDRtT35f8JVsyJmMn9Y2aM5fOa/ljLlAJ2lFw23Sx keGsUrDfgKCLHWsjnJco00O1PzVIp3D+RZ+tJaCzX+0jKMCPqEy2hrK8w X-Gm-Gg: ASbGncvvuj6EbTiult+osSdZoTJ6p1fAEMVodLJ0a4FSF4q/KbIN+mty981oYxAuyf/ OOFHmODgZWCEwYMl22od6bnqifz+QNHHopKYhMs0mySYImOgdifzkFXyH2EIQJ+yYFZFHWZ5jqd Z7/c3U5bSvC8EG0g0lOHBajwyg2YMnXNrJZb2/647RFY2ajzEdhIcIyx087kOSsZPtEElC2LlMt l/dgDSS7tReFrSimvRVChet1a6YfKnZeSvibWTSQo/JGfPUNZG9rMM7y9SoTm7AKh9ggOFRJoFR MktkB1CS+1SNYXtAQ0Xi8uE/cyuZ0WcLv4ElNmylDt6R+ha8 X-Google-Smtp-Source: AGHT+IFwNVOjwCp6iQnLtvQ/z+tG2Dfve8Q2oaXUSiyE3bHtsLVcKqhyajKNiYi1X84sugM4kawYM3hs4Iyp X-Received: by 2002:a17:903:40d1:b0:224:1935:d9a3 with SMTP id d9443c01a7336-22de6f99676mr24527905ad.21.1745901288926; Mon, 28 Apr 2025 21:34:48 -0700 (PDT) Received: from postal.iol.unh.edu (postal.iol.unh.edu. [2606:4100:3880:1234::84]) by smtp-relay.gmail.com with ESMTPS id d9443c01a7336-22db5102947sm12952195ad.93.2025.04.28.21.34.48 (version=TLS1_2 cipher=ECDHE-ECDSA-AES128-GCM-SHA256 bits=128/128); Mon, 28 Apr 2025 21:34:48 -0700 (PDT) X-Relaying-Domain: iol.unh.edu Date: Mon, 28 Apr 2025 21:34:48 -0700 (PDT) Message-ID: <681056e8.170a0220.20f4fe.c841SMTPIN_ADDED_MISSING@mx.google.com> Received: from [172.21.0.5] (unknown [172.18.0.240]) by postal.iol.unh.edu (Postfix) with ESMTP id 05E9A6052471; Tue, 29 Apr 2025 00:34:48 -0400 (EDT) Subject: |SUCCESS| pw153181 [PATCH] Add new tracepoint function for type time From: dpdklab@iol.unh.edu To: Test Report Cc: dpdk-test-reports@iol.unh.edu In-Reply-To: <20250429030017.1126516-1-changqing.li@windriver.com> References: <20250429030017.1126516-1-changqing.li@windriver.com> Content-Type: text/plain X-BeenThere: test-report@dpdk.org X-Mailman-Version: 2.1.29 Precedence: list List-Id: automatic DPDK test reports List-Unsubscribe: , List-Archive: List-Post: List-Help: List-Subscribe: , Errors-To: test-report-bounces@dpdk.org Test-Label: iol-abi-testing Test-Status: SUCCESS http://dpdk.org/patch/153181 _Testing PASS_ Submitter: Changqing Li Date: Tuesday, April 29 2025 03:00:17 DPDK git baseline: Repo:dpdk Branch: master CommitID:ca1690ebd224f148268285b15b97441ccdbdd07e 153181 --> testing pass Upstream job id: Generic-DPDK-Compile-ABI#124718 Test environment and result as below: +-------------------+----------+ | Environment | abi_test | +===================+==========+ | CentOS Stream 10 | PASS | +-------------------+----------+ | Debian 12 | PASS | +-------------------+----------+ | Fedora 40 | PASS | +-------------------+----------+ | Fedora 40 (Clang) | PASS | +-------------------+----------+ | RHEL8 | PASS | +-------------------+----------+ | CentOS Stream 9 | PASS | +-------------------+----------+ | Ubuntu 22.04 | PASS | +-------------------+----------+ | Fedora 41 (Clang) | PASS | +-------------------+----------+ | Fedora 41 | PASS | +-------------------+----------+ | openSUSE Leap 15 | PASS | +-------------------+----------+ | RHEL9 | PASS | +-------------------+----------+ | Ubuntu 24.04 | PASS | +-------------------+----------+ CentOS Stream 10 Kernel: Depends on container host Compiler: gcc 14.2.1 20241104 (Red Hat 14.2.1-6) Debian 12 Kernel: Depends on container host Compiler: gcc (Debian 12.2.0-14) 12.2.0 Fedora 40 Kernel: Depends on container host Compiler: gcc 14.2.1 20240912 (Red Hat 14.2.1-3) Fedora 40 (Clang) Kernel: Depends on container host Compiler: clang 18.1.8 (Fedora 18.1.8-1.fc40) RHEL8 Kernel: Depends on container host Compiler: gcc 8.5.0 20210514 (Red Hat 8.5.0-22) CentOS Stream 9 Kernel: Depends on container host Compiler: gcc 11.5.0 20240719 (Red Hat 11.5.0-2) Ubuntu 22.04 Kernel: Depends on container host Compiler: gcc (Ubuntu 11.4.0-1ubuntu1~22.04) 11.4.0 Fedora 41 (Clang) Kernel: Depends on container host Compiler: clang 19.1.5 (Fedora 19.1.5-1.fc41) Fedora 41 Kernel: Depends on container host Compiler: gcc 14.2.1 20240912 (Red Hat 14.2.1-3) openSUSE Leap 15 Kernel: Depends on container host Compiler: gcc (SUSE Linux) 7.5.0 RHEL9 Kernel: Depends on container host Compiler: gcc 11.5.0 20240719 (Red Hat 11.5.0-2) Ubuntu 24.04 Kernel: Depends on container host Compiler: gcc (Ubuntu 13.3.0-6ubuntu2~24.04) 13.3.0 To view detailed results, visit: https://lab.dpdk.org/results/dashboard/patchsets/33082/ UNH-IOL DPDK Community Lab To manage your email subscriptions, visit: https://lab.dpdk.org/results/dashboard/preferences/subscriptions/