From mboxrd@z Thu Jan 1 00:00:00 1970 Return-Path: Received: from mails.dpdk.org (mails.dpdk.org [217.70.189.124]) by inbox.dpdk.org (Postfix) with ESMTP id D348246658 for ; Tue, 29 Apr 2025 06:59:32 +0200 (CEST) Received: from mails.dpdk.org (localhost [127.0.0.1]) by mails.dpdk.org (Postfix) with ESMTP id B38EB4026C; Tue, 29 Apr 2025 06:59:32 +0200 (CEST) Received: from mail-yw1-f227.google.com (mail-yw1-f227.google.com [209.85.128.227]) by mails.dpdk.org (Postfix) with ESMTP id 889444026C for ; Tue, 29 Apr 2025 06:59:31 +0200 (CEST) Received: by mail-yw1-f227.google.com with SMTP id 00721157ae682-7082b3d2960so51677807b3.2 for ; Mon, 28 Apr 2025 21:59:31 -0700 (PDT) DKIM-Signature: v=1; a=rsa-sha256; c=relaxed/relaxed; d=iol.unh.edu; s=unh-iol; t=1745902771; x=1746507571; darn=dpdk.org; h=references:in-reply-to:cc:to:from:subject:message-id:date:from:to :cc:subject:date:message-id:reply-to; bh=rmsIoXdiaZ+idZ3c2R4ScqCGILV3gga0w7pWrvB5tFM=; b=A3zDDOeadeHTQOe/sU+xr2UsZ7D6lISxu6eqc/zp3KLnUKU9gCN3W2dYuZD8GPEdAj 6zJa8mmjxKiJGFKIoTh7gVTNNpQAJo19PFPnWe5Lnon6+XI1F88J92uqRD8GzriodQuV 4t0yC3oGArEm5TCBs/eBSIzgAgsYkMNY2e8Mo= X-Google-DKIM-Signature: v=1; a=rsa-sha256; c=relaxed/relaxed; d=1e100.net; s=20230601; t=1745902771; x=1746507571; h=references:in-reply-to:cc:to:from:subject:message-id:date :x-gm-message-state:from:to:cc:subject:date:message-id:reply-to; bh=rmsIoXdiaZ+idZ3c2R4ScqCGILV3gga0w7pWrvB5tFM=; b=kUegG4snIbx9YbbSbk+LI7d2wDp3uDoVx55CEM3WGoZPdxY9e4BhJndNZ94FmZNP63 K6cXd6c56B+hY9vUyFM1pK/6JAUhNoDFbRlLurNWmxwwQvar09xaCeKyIB2A5Tpn2KyW HKNdSQqIj1VBJHYi36AoepB4+cJ0tRT2x1ySun8ck6jSvz/lBKX7AffCgSzAG7vkgpY8 /0O4W6XuGvlBudEVDTNkrMcddA/4UpZglWgNkBuxOneNrL9gGNKZVjA4IQj8hA5wTF6M 82D+3MUorq45C4ZwGSDdznSSH6j/MsD4QLoYxObWZ1yLG2hCCN4XTO6Aes4bMNumUUO9 xSVA== X-Gm-Message-State: AOJu0YwP13S8vijU5371YAFACI7NOYzrR1W6KvRyqoVBdEvdy3m9GZxt BAZ2szNfpuPzzIT+bs8qnkSwZDm56PD3UqjRux7zW2NbQwGin5FErhuqSWyGHhT/Yh5n3aG9Kb8 /KLUk3g1LdN00wyMu8nJDsp0AtHpPjPnS5HIC7vnyZjvOVe6DuN0thQ3u X-Gm-Gg: ASbGncuIJr1pT3xuTbFb8TcGvyezuhaAOohpCNDwBPp2xuLQuo3iv2ocUN8pfwWm5Wj cKy5V+y5yFbMtRM8c8niE0Ag62N9LmcTkFPSJJ14ZxPIFaL5oviGteX7D59ex4BA4lf+DR7bmVo 20UXgWKMSJz3uz+2J2KENq1tJtApJcgpWT0tn8Gh1pxwwBnz45dgiEljO+QGb8g8vaD6ovYbUm1 /6+cMYRonUoO0PVNeRyGh5y4X/sdxxGcJrR5xezDA/vNrRrIAJa8XWMJSZ54S8+NK/zvaaEH9zb nfKytkwKXoy4M4VvGR/ndKjx+DvYvQQL6CMWY4F16gPPkh9b X-Google-Smtp-Source: AGHT+IGzdzWQaFOQpJdelXYP93NhrEMYtApa6ubTjF22/aL/y57A5zcRZdPlInuQRjKaE6T/rfFn/ohsIAjp X-Received: by 2002:a05:690c:6b87:b0:708:26ea:f9a with SMTP id 00721157ae682-7089b005943mr22761477b3.0.1745902770761; Mon, 28 Apr 2025 21:59:30 -0700 (PDT) Received: from postal.iol.unh.edu (postal.iol.unh.edu. [2606:4100:3880:1234::84]) by smtp-relay.gmail.com with ESMTPS id 3f1490d57ef6-e73046391cdsm1114500276.28.2025.04.28.21.59.30 (version=TLS1_2 cipher=ECDHE-ECDSA-AES128-GCM-SHA256 bits=128/128); Mon, 28 Apr 2025 21:59:30 -0700 (PDT) X-Relaying-Domain: iol.unh.edu Date: Mon, 28 Apr 2025 21:59:30 -0700 (PDT) Message-ID: <68105cb2.250a0220.11756.0574SMTPIN_ADDED_MISSING@mx.google.com> Received: from [172.21.0.6] (unknown [172.18.0.240]) by postal.iol.unh.edu (Postfix) with ESMTP id 50B5C6052471; Tue, 29 Apr 2025 00:59:30 -0400 (EDT) Subject: |SUCCESS| pw153181 [PATCH] Add new tracepoint function for type time From: dpdklab@iol.unh.edu To: Test Report Cc: dpdk-test-reports@iol.unh.edu In-Reply-To: <20250429030017.1126516-1-changqing.li@windriver.com> References: <20250429030017.1126516-1-changqing.li@windriver.com> Content-Type: text/plain X-BeenThere: test-report@dpdk.org X-Mailman-Version: 2.1.29 Precedence: list List-Id: automatic DPDK test reports List-Unsubscribe: , List-Archive: List-Post: List-Help: List-Subscribe: , Errors-To: test-report-bounces@dpdk.org Test-Label: iol-sample-apps-testing Test-Status: SUCCESS http://dpdk.org/patch/153181 _Testing PASS_ Submitter: Changqing Li Date: Tuesday, April 29 2025 03:00:17 DPDK git baseline: Repo:dpdk Branch: master CommitID:ca1690ebd224f148268285b15b97441ccdbdd07e 153181 --> testing pass Upstream job id: ACVP-FIPS-testing#9664 Test environment and result as below: +--------------------+----------------------+----------------------+ | Environment | dpdk_fips_validation | compressdev_zlib_pmd | +====================+======================+======================+ | Ubuntu 20.04 | PASS | SKIPPED | +--------------------+----------------------+----------------------+ | Ubuntu 22.04 (ARM) | SKIPPED | PASS | +--------------------+----------------------+----------------------+ | Ubuntu 22.04 | SKIPPED | PASS | +--------------------+----------------------+----------------------+ Ubuntu 20.04 Kernel: Depends on container host Compiler: gcc (Ubuntu 9.4.0-1ubuntu1~20.04.2) 9.4.0 Ubuntu 22.04 (ARM) Kernel: 5.15.0-97-generic Compiler: gcc gcc (Ubuntu 11.4.0-1ubuntu1~22.04) 11.4.0 Ubuntu 22.04 Kernel: 5.15.0-100-generic Compiler: gcc gcc (Ubuntu 11.4.0-1ubuntu1~22.04) 11.4.0 To view detailed results, visit: https://lab.dpdk.org/results/dashboard/patchsets/33082/ UNH-IOL DPDK Community Lab To manage your email subscriptions, visit: https://lab.dpdk.org/results/dashboard/preferences/subscriptions/