From mboxrd@z Thu Jan 1 00:00:00 1970 Return-Path: Received: from mails.dpdk.org (mails.dpdk.org [217.70.189.124]) by inbox.dpdk.org (Postfix) with ESMTP id 60B8F46658 for ; Tue, 29 Apr 2025 07:34:07 +0200 (CEST) Received: from mails.dpdk.org (localhost [127.0.0.1]) by mails.dpdk.org (Postfix) with ESMTP id 37AAC4026C; Tue, 29 Apr 2025 07:34:07 +0200 (CEST) Received: from mail-pl1-f227.google.com (mail-pl1-f227.google.com [209.85.214.227]) by mails.dpdk.org (Postfix) with ESMTP id C38FE40263 for ; Tue, 29 Apr 2025 07:34:05 +0200 (CEST) Received: by mail-pl1-f227.google.com with SMTP id d9443c01a7336-22435603572so63406495ad.1 for ; Mon, 28 Apr 2025 22:34:05 -0700 (PDT) DKIM-Signature: v=1; a=rsa-sha256; c=relaxed/relaxed; d=iol.unh.edu; s=unh-iol; t=1745904844; x=1746509644; darn=dpdk.org; h=references:in-reply-to:cc:to:from:subject:message-id:date:from:to :cc:subject:date:message-id:reply-to; bh=kAIIf026UhoM2Rzd5bMVdi7Fma3rIE1miBJGV0y9AWg=; b=XHEhyTmENfEyAJTPhuP5arPDDvCmzzX7Oezc5NJA+TbBVEWUBF0OBDh49zOhsQBvLm pdBxM/wkZN1mODYwaYktKEynCHmTKGCXe3b3QAwglUiH5mhBTfka/dLne4Pz4RNlV+gD Miq6l3+/MNOQl0SjF4Q34M3t4HSea1jdPUxJw= X-Google-DKIM-Signature: v=1; a=rsa-sha256; c=relaxed/relaxed; d=1e100.net; s=20230601; t=1745904844; x=1746509644; h=references:in-reply-to:cc:to:from:subject:message-id:date :x-gm-message-state:from:to:cc:subject:date:message-id:reply-to; bh=kAIIf026UhoM2Rzd5bMVdi7Fma3rIE1miBJGV0y9AWg=; b=TYy0MAgzdt+yysVRy587qg970gc4lO9rCs4hFDmoYhb0KGEEfWOYIdw47DIso1c6Ku EWnQz+p6p9z50A2FMFinTrXDeSwqkqkgzp+B2gKfLXY1bcSBB7hwVuELZH2advT1Zzmx I6MFkm1LOimrkjBQkHUHP/euLxxWGKLgrCxz8ohovOvFS4weFCsydfdPBQCb84almeOS 35Qe6jtkgSeSjLom+9rvrfGpJbPMOtx4HnDTbrTTlO+TmCxfLJekwnxGXbjKxGzL30s6 sQAz7gnoh8iu4KxRlc/KuXhB/x1i1oFxriNNOSvsXCxPmH/XqHQCBQmaFedRKxZr2GCK U1YQ== X-Gm-Message-State: AOJu0YwrmKjXOSFXWqMhMTSPfL0Qmf2uz83JBCxwNRfBwcwKcv/yiBRj GotMh38A2JZrOHCwr83tPXHQwSDxwiHPVxT+klgnhYL0An4k73Jf7DXJD6jKveW62K+1y8OXbXc LYHG8Tt4qj0pFnNfqC+QlJfwyPhRYJav0L/QqDVro X-Gm-Gg: ASbGncveeP8/e/2oPvJEKVWpRk5igZ3EruSw/0M5lYtuZFb/CRxaw80UMCfOi5irvhA VskCUMOhR5KeiVVXZ3eXmp3aNy9Y6YWhJfBV7qfYEgBNOCw+N6Ms19zypgYzYfLkfV7RfpUmXOj xgZEtTfyGWSmo+4m4hlGVvvfy+YiMcELUSEPKS6yffLNFWIMvAbiQSbFcs01hMS4Hfq/qpJ/sfE 7x92wdIpD0Pnty0L9JO0nMG3vCqoED7maJzsIZS9gdojicbVOCPTMmovjkan4Y2D9y3yRzWKygD fKmUlTn4gM5R1VRYpk1bDmnGSoVvL2eV/6iv X-Google-Smtp-Source: AGHT+IEeFY62UtUCg9oPGKF0R80mHXY5ocw8u++1pDwmH6k8XPUIBTNVgDc6U5cLj2t1SPcZYjLBiRA1k9pI X-Received: by 2002:a17:902:db0d:b0:21f:4649:fd49 with SMTP id d9443c01a7336-22de608a4eemr31291855ad.49.1745904844572; Mon, 28 Apr 2025 22:34:04 -0700 (PDT) Received: from postal.iol.unh.edu (postal.iol.unh.edu. [132.177.123.84]) by smtp-relay.gmail.com with ESMTPS id d9443c01a7336-22db5219c74sm12616805ad.119.2025.04.28.22.34.04 (version=TLS1_2 cipher=ECDHE-ECDSA-AES128-GCM-SHA256 bits=128/128); Mon, 28 Apr 2025 22:34:04 -0700 (PDT) X-Relaying-Domain: iol.unh.edu Date: Mon, 28 Apr 2025 22:34:04 -0700 (PDT) Message-ID: <681064cc.170a0220.2a9175.b42eSMTPIN_ADDED_MISSING@mx.google.com> Received: from [172.21.0.5] (unknown [172.18.0.240]) by postal.iol.unh.edu (Postfix) with ESMTP id A3F1F6052471; Tue, 29 Apr 2025 01:34:03 -0400 (EDT) Subject: |SUCCESS| pw153181 [PATCH] Add new tracepoint function for type time From: dpdklab@iol.unh.edu To: Test Report Cc: dpdk-test-reports@iol.unh.edu In-Reply-To: <20250429030017.1126516-1-changqing.li@windriver.com> References: <20250429030017.1126516-1-changqing.li@windriver.com> Content-Type: text/plain X-BeenThere: test-report@dpdk.org X-Mailman-Version: 2.1.29 Precedence: list List-Id: automatic DPDK test reports List-Unsubscribe: , List-Archive: List-Post: List-Help: List-Subscribe: , Errors-To: test-report-bounces@dpdk.org Test-Label: iol-compile-amd64-testing Test-Status: SUCCESS http://dpdk.org/patch/153181 _Testing PASS_ Submitter: Changqing Li Date: Tuesday, April 29 2025 03:00:17 DPDK git baseline: Repo:dpdk Branch: master CommitID:ca1690ebd224f148268285b15b97441ccdbdd07e 153181 --> testing pass Upstream job id: Generic-DPDK-Compile-Meson#383616 Test environment and result as below: +-----------------------------------+--------------------+-------------------+------------------+-------------------+-------------------------+----------------------+ | Environment | dpdk_meson_compile | dpdk_compile_spdk | dpdk_compile_ovs | dpdk_msvc_compile | dpdk_llvm_clang_compile | dpdk_mingw64_compile | +===================================+====================+===================+==================+===================+=========================+======================+ | CentOS Stream 9 | PASS | PASS | SKIPPED | SKIPPED | SKIPPED | SKIPPED | +-----------------------------------+--------------------+-------------------+------------------+-------------------+-------------------------+----------------------+ | Debian 12 | PASS | PASS | SKIPPED | SKIPPED | SKIPPED | SKIPPED | +-----------------------------------+--------------------+-------------------+------------------+-------------------+-------------------------+----------------------+ | Fedora 40 | PASS | PASS | SKIPPED | SKIPPED | SKIPPED | SKIPPED | +-----------------------------------+--------------------+-------------------+------------------+-------------------+-------------------------+----------------------+ | Fedora 40 (Clang) | PASS | PASS | SKIPPED | SKIPPED | SKIPPED | SKIPPED | +-----------------------------------+--------------------+-------------------+------------------+-------------------+-------------------------+----------------------+ | Fedora 41 (Clang) | PASS | PASS | PASS | SKIPPED | SKIPPED | SKIPPED | +-----------------------------------+--------------------+-------------------+------------------+-------------------+-------------------------+----------------------+ | Ubuntu 24.04 | PASS | PASS | PASS | SKIPPED | SKIPPED | SKIPPED | +-----------------------------------+--------------------+-------------------+------------------+-------------------+-------------------------+----------------------+ | RHEL8 | PASS | SKIPPED | SKIPPED | SKIPPED | SKIPPED | SKIPPED | +-----------------------------------+--------------------+-------------------+------------------+-------------------+-------------------------+----------------------+ | Fedora 41 | PASS | PASS | PASS | SKIPPED | SKIPPED | SKIPPED | +-----------------------------------+--------------------+-------------------+------------------+-------------------+-------------------------+----------------------+ | RHEL9 | PASS | SKIPPED | SKIPPED | SKIPPED | SKIPPED | SKIPPED | +-----------------------------------+--------------------+-------------------+------------------+-------------------+-------------------------+----------------------+ | openSUSE Leap 15 | PASS | SKIPPED | SKIPPED | SKIPPED | SKIPPED | SKIPPED | +-----------------------------------+--------------------+-------------------+------------------+-------------------+-------------------------+----------------------+ | Ubuntu 20.04 | PASS | SKIPPED | SKIPPED | SKIPPED | SKIPPED | SKIPPED | +-----------------------------------+--------------------+-------------------+------------------+-------------------+-------------------------+----------------------+ | Ubuntu 22.04 | PASS | PASS | SKIPPED | SKIPPED | SKIPPED | SKIPPED | +-----------------------------------+--------------------+-------------------+------------------+-------------------+-------------------------+----------------------+ | FreeBSD 13.5 | PASS | SKIPPED | SKIPPED | SKIPPED | SKIPPED | SKIPPED | +-----------------------------------+--------------------+-------------------+------------------+-------------------+-------------------------+----------------------+ | Alpine | PASS | SKIPPED | SKIPPED | SKIPPED | SKIPPED | SKIPPED | +-----------------------------------+--------------------+-------------------+------------------+-------------------+-------------------------+----------------------+ | Ubuntu 24.04 32 Bit Cross Compile | PASS | SKIPPED | SKIPPED | SKIPPED | SKIPPED | SKIPPED | +-----------------------------------+--------------------+-------------------+------------------+-------------------+-------------------------+----------------------+ | FreeBSD 14.2 | PASS | SKIPPED | SKIPPED | SKIPPED | SKIPPED | SKIPPED | +-----------------------------------+--------------------+-------------------+------------------+-------------------+-------------------------+----------------------+ | CentOS Stream 10 | PASS | SKIPPED | SKIPPED | SKIPPED | SKIPPED | SKIPPED | +-----------------------------------+--------------------+-------------------+------------------+-------------------+-------------------------+----------------------+ | Windows Server 2022 | SKIPPED | SKIPPED | SKIPPED | PASS | PASS | PASS | +-----------------------------------+--------------------+-------------------+------------------+-------------------+-------------------------+----------------------+ CentOS Stream 9 Kernel: Depends on container host Compiler: gcc 11.5.0 20240719 (Red Hat 11.5.0-2) Debian 12 Kernel: Depends on container host Compiler: gcc (Debian 12.2.0-14) 12.2.0 Fedora 40 Kernel: Depends on container host Compiler: gcc 14.2.1 20240912 (Red Hat 14.2.1-3) Fedora 40 (Clang) Kernel: Depends on container host Compiler: clang 18.1.8 (Fedora 18.1.8-1.fc40) Fedora 41 (Clang) Kernel: Depends on container host Compiler: clang 19.1.5 (Fedora 19.1.5-1.fc41) Ubuntu 24.04 Kernel: Depends on container host Compiler: gcc (Ubuntu 13.3.0-6ubuntu2~24.04) 13.3.0 RHEL8 Kernel: Depends on container host Compiler: gcc 8.5.0 20210514 (Red Hat 8.5.0-22) Fedora 41 Kernel: Depends on container host Compiler: gcc 14.2.1 20240912 (Red Hat 14.2.1-3) RHEL9 Kernel: Depends on container host Compiler: gcc 11.5.0 20240719 (Red Hat 11.5.0-2) openSUSE Leap 15 Kernel: Depends on container host Compiler: gcc (SUSE Linux) 7.5.0 Ubuntu 20.04 Kernel: Depends on container host Compiler: gcc (Ubuntu 9.4.0-1ubuntu1~20.04.2) 9.4.0 Ubuntu 22.04 Kernel: Depends on container host Compiler: gcc (Ubuntu 11.4.0-1ubuntu1~22.04) 11.4.0 FreeBSD 13.5 Kernel: 13.5-RELEASE Compiler: clang 19.1.7 Alpine Kernel: Depends on container host Compiler: gcc (Alpine 14.2.0) 14.2.0 Ubuntu 24.04 32 Bit Cross Compile Kernel: Depends on container host Compiler: gcc (Ubuntu 13.3.0-6ubuntu2~24.04) 13.3.0 FreeBSD 14.2 Kernel: 14.2-RELEASE Compiler: clang 18.1.6 CentOS Stream 10 Kernel: Depends on container host Compiler: gcc 14.2.1 20241104 (Red Hat 14.2.1-6) Windows Server 2022 Kernel: 10.0.20348.2031 Compiler: clang 15.0.7, gcc 14.1.0 (MinGW), and MSVC VS 19.39.33521 To view detailed results, visit: https://lab.dpdk.org/results/dashboard/patchsets/33082/ UNH-IOL DPDK Community Lab To manage your email subscriptions, visit: https://lab.dpdk.org/results/dashboard/preferences/subscriptions/