From mboxrd@z Thu Jan 1 00:00:00 1970 Return-Path: Received: from mails.dpdk.org (mails.dpdk.org [217.70.189.124]) by inbox.dpdk.org (Postfix) with ESMTP id 9C88646658 for ; Tue, 29 Apr 2025 07:58:41 +0200 (CEST) Received: from mails.dpdk.org (localhost [127.0.0.1]) by mails.dpdk.org (Postfix) with ESMTP id 5E2A14026C; Tue, 29 Apr 2025 07:58:41 +0200 (CEST) Received: from mail-vk1-f228.google.com (mail-vk1-f228.google.com [209.85.221.228]) by mails.dpdk.org (Postfix) with ESMTP id 171D340263 for ; Tue, 29 Apr 2025 07:58:40 +0200 (CEST) Received: by mail-vk1-f228.google.com with SMTP id 71dfb90a1353d-5290be1aedcso7368486e0c.1 for ; Mon, 28 Apr 2025 22:58:40 -0700 (PDT) DKIM-Signature: v=1; a=rsa-sha256; c=relaxed/relaxed; d=iol.unh.edu; s=unh-iol; t=1745906319; x=1746511119; darn=dpdk.org; h=references:in-reply-to:cc:to:from:subject:message-id:date:from:to :cc:subject:date:message-id:reply-to; bh=TAOzuMMeNUT8b1OMMl0VQdUyI+gDNsniPMXUCJaJGqA=; b=Q/WVYKyZ+RmGvrMx5VXPmGNMYKm1JuxmDMibU4tBGbeU01tg3axhMydh0qh+x/Qw28 gJMCioTNK7fR6956gcr8GZW4lUR7LCbqV+WA9D7N44zeqak49yEvmgVGQ7dr+zQjDyyG 9eITCFkcbLGcr+2F5BopoRK1nyiY/NH+I23zk= X-Google-DKIM-Signature: v=1; a=rsa-sha256; c=relaxed/relaxed; d=1e100.net; s=20230601; t=1745906319; x=1746511119; h=references:in-reply-to:cc:to:from:subject:message-id:date :x-gm-message-state:from:to:cc:subject:date:message-id:reply-to; bh=TAOzuMMeNUT8b1OMMl0VQdUyI+gDNsniPMXUCJaJGqA=; b=Ga7dzbde8wGUTcRTQ5Y16F5AsA8n+IEqYg/SL/zpjjhj8UaD53Zm1daObfPp4ucokQ jiiyJarl2di2RDt0bQ5ZATKAPiPZevhzlOjqadCAb3O7GM2Uyy55JEUczY8j8AFLGYuW HpL4BW1Eh8C7r+xk2O9p1+39f+D2Bodr0FS9tNoZlZp6l0wjEAv2Cp+Uiiwif/szNPEt JIZlaapYpjhxugi//liJ2O6x2c9wyPF1WBI3vI2M6sVeFBm1r8ho8sCWNY1m5/pLMnO5 ZH/QcqA62EM2YBVE7iZpTKA4Uy1Uqh7nQ4iQbk0CmJJOLhXkjgrbYCGdKuacuc1jglWt XU1g== X-Gm-Message-State: AOJu0YwXymQzDwxOgV5rThyyerTIdkv7a83LpATKIH5uwvbINpJ1xzDt fQQQumR6TfRuRCtZyyzK2pFvmZgd07MwPfSXKAkBaUw358+DIha29IsU9iKFT1TUTQf4WUsxfCZ Oi0SdyDPtUDq/NJpnJWbK+ZiAI7cmkUbBh9QJB0IA X-Gm-Gg: ASbGncs+32lxEQGaicVYD/qQCdUVzNd0bs0BEMMG3hKsPK1+7C+5OtuvvPE9ASe2URy eSiaudcCUPR8ZOm95iiLciZc2qCAEhDeMihVlSefJsEpibuYdzfVlu/ROOnT9zprgXGEKTowGsu SOa2CddMfwY7qVEeTDczUALU3rMqONbU6H4fIPqy6gUYyGwAoBr65QARzrOo9DRXI2Giqota7Ch Uc8fTyQKGVPOrjLFWoNzau9XcEAcL5N9lhbF6PM4ydsyvxRpZpMKD4ek9fGfAYLqGipHhWICrs2 sMwE5iI3JqUL+VFTDWm+PLI2E6gfoN4izXaK X-Google-Smtp-Source: AGHT+IGdkJhANEbUZCKBqwW+zMaEirKl9LapMf4lwNLAJZpYrwodlZmYfm+Jtsb05cJTZbGHAcdjx1ldUtu9 X-Received: by 2002:a05:6122:881:b0:51f:a02b:45d4 with SMTP id 71dfb90a1353d-52abf64828dmr1189439e0c.1.1745906319349; Mon, 28 Apr 2025 22:58:39 -0700 (PDT) Received: from postal.iol.unh.edu (postal.iol.unh.edu. [132.177.123.84]) by smtp-relay.gmail.com with ESMTPS id 71dfb90a1353d-52a993a2955sm800477e0c.10.2025.04.28.22.58.39 (version=TLS1_2 cipher=ECDHE-ECDSA-AES128-GCM-SHA256 bits=128/128); Mon, 28 Apr 2025 22:58:39 -0700 (PDT) X-Relaying-Domain: iol.unh.edu Date: Mon, 28 Apr 2025 22:58:39 -0700 (PDT) Message-ID: <68106a8f.050a0220.3b33b2.ee9aSMTPIN_ADDED_MISSING@mx.google.com> Received: from [172.21.0.5] (unknown [172.18.0.240]) by postal.iol.unh.edu (Postfix) with ESMTP id DFEC96052471; Tue, 29 Apr 2025 01:58:38 -0400 (EDT) Subject: |SUCCESS| pw153180 [PATCH] [v2] net/iavf: support Rx/Tx burst mode i From: dpdklab@iol.unh.edu To: Test Report Cc: dpdk-test-reports@iol.unh.edu In-Reply-To: <20250428220712.571492-1-rmelton@cisco.com> References: <20250428220712.571492-1-rmelton@cisco.com> Content-Type: text/plain X-BeenThere: test-report@dpdk.org X-Mailman-Version: 2.1.29 Precedence: list List-Id: automatic DPDK test reports List-Unsubscribe: , List-Archive: List-Post: List-Help: List-Subscribe: , Errors-To: test-report-bounces@dpdk.org Test-Label: iol-abi-testing Test-Status: SUCCESS http://dpdk.org/patch/153180 _Testing PASS_ Submitter: Roger Melton Date: Monday, April 28 2025 22:07:13 DPDK git baseline: Repo:dpdk Branch: master CommitID:ecadeeb16e75595c1420f7b77a66013893c399dd 153180 --> testing pass Upstream job id: Generic-DPDK-Compile-ABI#124730 Test environment and result as below: +-------------------+----------+ | Environment | abi_test | +===================+==========+ | CentOS Stream 9 | PASS | +-------------------+----------+ | Debian 12 | PASS | +-------------------+----------+ | CentOS Stream 10 | PASS | +-------------------+----------+ | Fedora 41 (Clang) | PASS | +-------------------+----------+ | Fedora 40 | PASS | +-------------------+----------+ | Fedora 40 (Clang) | PASS | +-------------------+----------+ | Ubuntu 22.04 | PASS | +-------------------+----------+ | openSUSE Leap 15 | PASS | +-------------------+----------+ | Fedora 41 | PASS | +-------------------+----------+ | RHEL9 | PASS | +-------------------+----------+ | RHEL8 | PASS | +-------------------+----------+ | Ubuntu 24.04 | PASS | +-------------------+----------+ CentOS Stream 9 Kernel: Depends on container host Compiler: gcc 11.5.0 20240719 (Red Hat 11.5.0-2) Debian 12 Kernel: Depends on container host Compiler: gcc (Debian 12.2.0-14) 12.2.0 CentOS Stream 10 Kernel: Depends on container host Compiler: gcc 14.2.1 20241104 (Red Hat 14.2.1-6) Fedora 41 (Clang) Kernel: Depends on container host Compiler: clang 19.1.5 (Fedora 19.1.5-1.fc41) Fedora 40 Kernel: Depends on container host Compiler: gcc 14.2.1 20240912 (Red Hat 14.2.1-3) Fedora 40 (Clang) Kernel: Depends on container host Compiler: clang 18.1.8 (Fedora 18.1.8-1.fc40) Ubuntu 22.04 Kernel: Depends on container host Compiler: gcc (Ubuntu 11.4.0-1ubuntu1~22.04) 11.4.0 openSUSE Leap 15 Kernel: Depends on container host Compiler: gcc (SUSE Linux) 7.5.0 Fedora 41 Kernel: Depends on container host Compiler: gcc 14.2.1 20240912 (Red Hat 14.2.1-3) RHEL9 Kernel: Depends on container host Compiler: gcc 11.5.0 20240719 (Red Hat 11.5.0-2) RHEL8 Kernel: Depends on container host Compiler: gcc 8.5.0 20210514 (Red Hat 8.5.0-22) Ubuntu 24.04 Kernel: Depends on container host Compiler: gcc (Ubuntu 13.3.0-6ubuntu2~24.04) 13.3.0 To view detailed results, visit: https://lab.dpdk.org/results/dashboard/patchsets/33081/ UNH-IOL DPDK Community Lab To manage your email subscriptions, visit: https://lab.dpdk.org/results/dashboard/preferences/subscriptions/