From mboxrd@z Thu Jan 1 00:00:00 1970 Return-Path: Received: from mails.dpdk.org (mails.dpdk.org [217.70.189.124]) by inbox.dpdk.org (Postfix) with ESMTP id 50CFD4665A for ; Tue, 29 Apr 2025 08:55:07 +0200 (CEST) Received: from mails.dpdk.org (localhost [127.0.0.1]) by mails.dpdk.org (Postfix) with ESMTP id 2D2BC4026C; Tue, 29 Apr 2025 08:55:07 +0200 (CEST) Received: from mail-pg1-f228.google.com (mail-pg1-f228.google.com [209.85.215.228]) by mails.dpdk.org (Postfix) with ESMTP id 38DE640263 for ; Tue, 29 Apr 2025 08:55:06 +0200 (CEST) Received: by mail-pg1-f228.google.com with SMTP id 41be03b00d2f7-7fd581c2bf4so4466693a12.3 for ; Mon, 28 Apr 2025 23:55:06 -0700 (PDT) DKIM-Signature: v=1; a=rsa-sha256; c=relaxed/relaxed; d=iol.unh.edu; s=unh-iol; t=1745909705; x=1746514505; darn=dpdk.org; h=references:in-reply-to:cc:to:from:subject:message-id:date:from:to :cc:subject:date:message-id:reply-to; bh=70CtSuCgx/LpXZ6NzOZ0ud0jEPGTOSNh4DYyKmMF+mc=; b=Mccnfn84fR9+VyTKBvnci+432cWNOXb84jKEixbmBWVztktFqeS/gvOChd/eKxwwMa MLAfpZB3oGCzAxQ2sJLwYiuz4I9U29TzsyHYy3bJbWNJyemttbG465WvaCDhKvg1jp/b jIfue7OT+LVf3q0EY3/EmQsIM2GjUHcq86fm0= X-Google-DKIM-Signature: v=1; a=rsa-sha256; c=relaxed/relaxed; d=1e100.net; s=20230601; t=1745909705; x=1746514505; h=references:in-reply-to:cc:to:from:subject:message-id:date :x-gm-message-state:from:to:cc:subject:date:message-id:reply-to; bh=70CtSuCgx/LpXZ6NzOZ0ud0jEPGTOSNh4DYyKmMF+mc=; b=NqsUGBwFgkiQYovDTnZocz8roKaruHwjANTLAMeBSgAYkHkYRUacTcB0u+1WgMf1+J i9Sbf/M4VFIfA1rAVvOKKvzm7+WA9l5HViyomhUgZ4wT1q29eGiC7xpgSqP8Q1JrX04b 5/XMiyEB6pPRdZwppP34eqKeMxrUlCvHtLU9jxbya649omTP117E7F1F+YIgHSRg39yl NEIsEk8gEE74JDnIxI882jg5QTPgjRjeW0Rrkjydg+vqMMR9qKFO44yNz536ttuAUsaK 7ZohbAxYZhat2X1jElYBiaEGt3OYRm+/sOEgexHC+v2cjpO/8CNRFD64viEDmy+/HXRK uUTA== X-Gm-Message-State: AOJu0YweQhxe7aLeToUbUqJ8PKOcJr6MHvTyxGr6JFoTbo2tOSKw+nCn LlysAFlayUvjfzKnqMTZM9UfJYxR1zg54pEjBBqeZF1+83xy6T0Kk8noxacX89kYnj9ozwpWj2E 4FWfYeE/D55Gf/YoPz6M0WWaG9vNkl4mX8ZVl6FOdDIrymFAGMui4/u3I X-Gm-Gg: ASbGncuglIdRsUIi5zS3n00nnIzSq22U13dyXVbEm4isXIourWCKzpzJWnggLQUbPd1 rndEPtpjEZrqwm9/zXNPmfrkEp1zqrR/EfJ/mJvYmbl8Td9fiX4elb9uKYdL+3fQTQagKenBYWj MgZP6yDN+tmojU2Jvm9SCElMDtkQgUcdNkalK7ZUyQxmB6r5ABC4rwYbu2W8aY1aRVjgVEnN0W7 yRmbXLWC5krpwy9Iq0NL0VeGYEB1/7yeoSIF9Q/UpPrIrQyTKCTOCQKLjFlRUyqA0synaH1vQsa ercoYc5yYa+tk6PWNU/ToyVU0DhFH+hf8clm+UxwKCnakyxN X-Google-Smtp-Source: AGHT+IFEZ5ijwF5v4NEFIbVDsBAmq6XX/k7dNHRGWzEY+Ei5Lu1S6kNJg2qxCBo3AgfGgVdOgBRafSRHJCa6 X-Received: by 2002:a05:6a21:1511:b0:1f5:769a:a4c2 with SMTP id adf61e73a8af0-2093caf4415mr3093772637.22.1745909705268; Mon, 28 Apr 2025 23:55:05 -0700 (PDT) Received: from postal.iol.unh.edu (postal.iol.unh.edu. [2606:4100:3880:1234::84]) by smtp-relay.gmail.com with ESMTPS id d2e1a72fcca58-73e25a97838sm1132297b3a.6.2025.04.28.23.55.05 (version=TLS1_2 cipher=ECDHE-ECDSA-AES128-GCM-SHA256 bits=128/128); Mon, 28 Apr 2025 23:55:05 -0700 (PDT) X-Relaying-Domain: iol.unh.edu Date: Mon, 28 Apr 2025 23:55:05 -0700 (PDT) Message-ID: <681077c9.050a0220.237b6b.c3feSMTPIN_ADDED_MISSING@mx.google.com> Received: from [172.21.0.6] (unknown [172.18.0.240]) by postal.iol.unh.edu (Postfix) with ESMTP id 3CBB06052471; Tue, 29 Apr 2025 02:55:04 -0400 (EDT) Subject: |SUCCESS| pw153181 [PATCH] Add new tracepoint function for type time From: dpdklab@iol.unh.edu To: Test Report Cc: dpdk-test-reports@iol.unh.edu In-Reply-To: <20250429030017.1126516-1-changqing.li@windriver.com> References: <20250429030017.1126516-1-changqing.li@windriver.com> Content-Type: text/plain X-BeenThere: test-report@dpdk.org X-Mailman-Version: 2.1.29 Precedence: list List-Id: automatic DPDK test reports List-Unsubscribe: , List-Archive: List-Post: List-Help: List-Subscribe: , Errors-To: test-report-bounces@dpdk.org Test-Label: iol-unit-arm64-testing Test-Status: SUCCESS http://dpdk.org/patch/153181 _Testing PASS_ Submitter: Changqing Li Date: Tuesday, April 29 2025 03:00:17 DPDK git baseline: Repo:dpdk Branch: master CommitID:ca1690ebd224f148268285b15b97441ccdbdd07e 153181 --> testing pass Upstream job id: Generic-Unit-Test-DPDK#334155 Test environment and result as below: +-----------------------------+----------------+--------------+------------------------------+---------------------------+ | Environment | dpdk_unit_test | lpm_autotest | cryptodev_sw_snow3g_autotest | cryptodev_sw_zuc_autotest | +=============================+================+==============+==============================+===========================+ | CentOS Stream 9 (ARM) | PASS | SKIPPED | SKIPPED | SKIPPED | +-----------------------------+----------------+--------------+------------------------------+---------------------------+ | Debian 12 (arm) | PASS | SKIPPED | PASS | PASS | +-----------------------------+----------------+--------------+------------------------------+---------------------------+ | Fedora 40 (ARM) | PASS | SKIPPED | SKIPPED | SKIPPED | +-----------------------------+----------------+--------------+------------------------------+---------------------------+ | Fedora 40 (ARM Clang) | PASS | SKIPPED | SKIPPED | SKIPPED | +-----------------------------+----------------+--------------+------------------------------+---------------------------+ | Fedora 41 (ARM Clang) | PASS | SKIPPED | SKIPPED | SKIPPED | +-----------------------------+----------------+--------------+------------------------------+---------------------------+ | Fedora 41 (ARM) | PASS | SKIPPED | SKIPPED | SKIPPED | +-----------------------------+----------------+--------------+------------------------------+---------------------------+ | Ubuntu 20.04 (ARM) | PASS | SKIPPED | SKIPPED | SKIPPED | +-----------------------------+----------------+--------------+------------------------------+---------------------------+ | RHEL9 (ARM) | PASS | SKIPPED | SKIPPED | SKIPPED | +-----------------------------+----------------+--------------+------------------------------+---------------------------+ | Ubuntu 22.04 (ARM) | PASS | SKIPPED | SKIPPED | SKIPPED | +-----------------------------+----------------+--------------+------------------------------+---------------------------+ | Ubuntu 24.04 (ARM) | PASS | SKIPPED | SKIPPED | SKIPPED | +-----------------------------+----------------+--------------+------------------------------+---------------------------+ | CentOS Stream 10 (ARM) | PASS | SKIPPED | SKIPPED | SKIPPED | +-----------------------------+----------------+--------------+------------------------------+---------------------------+ | 32-bit Ubuntu 22.04.4 (ARM) | PASS | SKIPPED | SKIPPED | SKIPPED | +-----------------------------+----------------+--------------+------------------------------+---------------------------+ | Ubuntu 20.04 ARM SVE | SKIPPED | PASS | SKIPPED | SKIPPED | +-----------------------------+----------------+--------------+------------------------------+---------------------------+ CentOS Stream 9 (ARM) Kernel: Depends on container host Compiler: gcc 11.5.0 20240719 (Red Hat 11.5.0-2) Debian 12 (arm) Kernel: Depends on container host Compiler: gcc (Debian 12.2.0-14) 12.2.0 Fedora 40 (ARM) Kernel: Depends on container host Compiler: gcc 14.2.1 20240912 (Red Hat 14.2.1-3) Fedora 40 (ARM Clang) Kernel: Depends on container host Compiler: clang 18.1.8 (Fedora 18.1.8-1.fc40) Fedora 41 (ARM Clang) Kernel: Depends on container host Compiler: clang 19.1.5 (Fedora 19.1.5-1.fc41) Fedora 41 (ARM) Kernel: Depends on container host Compiler: gcc 14.2.1 20240912 (Red Hat 14.2.1-3) Ubuntu 20.04 (ARM) Kernel: Depends on container host Compiler: gcc (Ubuntu 9.4.0-1ubuntu1~20.04.2) 9.4.0 RHEL9 (ARM) Kernel: Depends on container host Compiler: gcc 11.5.0 20240719 (Red Hat 11.5.0-2) Ubuntu 22.04 (ARM) Kernel: Depends on container host Compiler: gcc (Ubuntu 11.4.0-1ubuntu1~22.04) 11.4.0 Ubuntu 24.04 (ARM) Kernel: Depends on container host Compiler: gcc (Ubuntu 13.3.0-6ubuntu2~24.04) 13.3.0 CentOS Stream 10 (ARM) Kernel: Depends on container host Compiler: gcc 14.2.1 20241104 (Red Hat 14.2.1-6) 32-bit Ubuntu 22.04.4 (ARM) Kernel: 5.15.83+ aarch64 Compiler: gcc (Ubuntu 11.4.0-1ubuntu1~22.04) 11.4.0 Ubuntu 20.04 ARM SVE Kernel: Depends on container host Compiler: gcc (Ubuntu 10.5.0-1ubuntu1~20.04) 10.5.0 To view detailed results, visit: https://lab.dpdk.org/results/dashboard/patchsets/33082/ UNH-IOL DPDK Community Lab To manage your email subscriptions, visit: https://lab.dpdk.org/results/dashboard/preferences/subscriptions/