From mboxrd@z Thu Jan 1 00:00:00 1970 Return-Path: Received: from mails.dpdk.org (mails.dpdk.org [217.70.189.124]) by inbox.dpdk.org (Postfix) with ESMTP id B80374665A for ; Tue, 29 Apr 2025 09:12:04 +0200 (CEST) Received: from mails.dpdk.org (localhost [127.0.0.1]) by mails.dpdk.org (Postfix) with ESMTP id BEEF34026C; Tue, 29 Apr 2025 09:12:03 +0200 (CEST) Received: from mail-pl1-f226.google.com (mail-pl1-f226.google.com [209.85.214.226]) by mails.dpdk.org (Postfix) with ESMTP id 1A8A140263 for ; Tue, 29 Apr 2025 09:12:03 +0200 (CEST) Received: by mail-pl1-f226.google.com with SMTP id d9443c01a7336-22c33e4fdb8so59969265ad.2 for ; Tue, 29 Apr 2025 00:12:03 -0700 (PDT) DKIM-Signature: v=1; a=rsa-sha256; c=relaxed/relaxed; d=iol.unh.edu; s=unh-iol; t=1745910722; x=1746515522; darn=dpdk.org; h=references:in-reply-to:cc:to:from:subject:message-id:date:from:to :cc:subject:date:message-id:reply-to; bh=WyluuT74kuTGFipZyOBd4ttEPasjUraWqXj1Qio+OvU=; b=Zp8QcC4s6Gor7NOF63LP4mn8mSYlshmA6zF+GvtCw5KD+C3mD3lYOmAyoSqgm4qOLp OdLbxDJt0lBQ4RRSlOR7S62hzN67tQN/RZLu37U2HQOWJKqNaMZt8za7nx3wactjvsbS QmUJQ5KSPVACWSP+NmXHa5+/AgW+mjRV4Tp28= X-Google-DKIM-Signature: v=1; a=rsa-sha256; c=relaxed/relaxed; d=1e100.net; s=20230601; t=1745910722; x=1746515522; h=references:in-reply-to:cc:to:from:subject:message-id:date :x-gm-message-state:from:to:cc:subject:date:message-id:reply-to; bh=WyluuT74kuTGFipZyOBd4ttEPasjUraWqXj1Qio+OvU=; b=M4HNVIxzgRbslplde12E9QIarqGTEKV9QJaL9U+qrjrtgViMjypa4ZsNCVGvBaJ1fm Ca0Bc9OCN86hWr0rX23+7AI8Jh5bi+YPj3JDcTbgM23cTpE484GAwoI3+/NV93q1U8m/ UtnNq4ARrzjQ4AANffK88bxhePuRFp1HQqymZgFRqv7dv8CtHi/AE/vmQ9Cl0Vimc4GC OMA1u984LOROmWqRKFoJkWsM4uhYDe0h8yA9lg1WULQZKt7FZ34C+UGhhp8p5MjUMWZs EZvgGplLeCd1qn7Q2FbruJdPhCt0Cok2r62SDfnMSio8PYfVCEZu6YI5VxNMbjMm/2ms 2znQ== X-Gm-Message-State: AOJu0Yx8odFQv59WjYp7VzfNwgdleLnas4+4iU6JhR9JiKZL+6/vb1iU f2Awdt8I4fGBriZypvyY5GAyyxIeo0D8xjspUlX7ZN/uqjzpP9mI3XJWWW7PhHu5O2g6zdfqb1J CYTdnExHdItqRZLpWS8mp6I7+OURBtvj2e2m8pHxS X-Gm-Gg: ASbGncse/+6nKRT7Rr01bf8YBmNnQ78VOW3M8dl+03k4Vbjn2cLDRAkPOSxStJMcKqV LsVeAxxni5EyDDfWYRMoWMLvRs1YSeyiMmYvyLMG4i9Bfkx1u0E1OCpRvOY2lZmoCsbbD3dnpgB E8CuH8ys/MbcuLlkTcHQYP+MzxFTUIx0eliDE6Kuiaw0/8jYB04gJEBBPyVGPtWqD0/rUn5d5Ox bBxousKyP/p7Xwgk1u1Whzt34z3zEFVBKJcvakkcbv2DmKg7Yo1TIUHgZpnLm0DRgwS8acyPVvC 8LDXckfywmf8Uof8UvFS5VuDtc1fedXbCBK8 X-Google-Smtp-Source: AGHT+IHrSc2ZxUT4XCHqqbE2R0jSRadRwchoc6lZHtklNQHnyWC5we51HTpQheNbqOBKMeGcV2KJCaMtjLvU X-Received: by 2002:a17:903:2309:b0:223:669f:ca2d with SMTP id d9443c01a7336-22de6066c1bmr36831085ad.35.1745910722166; Tue, 29 Apr 2025 00:12:02 -0700 (PDT) Received: from postal.iol.unh.edu (postal.iol.unh.edu. [132.177.123.84]) by smtp-relay.gmail.com with ESMTPS id d9443c01a7336-22db51018a8sm12770585ad.94.2025.04.29.00.12.02 (version=TLS1_2 cipher=ECDHE-ECDSA-AES128-GCM-SHA256 bits=128/128); Tue, 29 Apr 2025 00:12:02 -0700 (PDT) X-Relaying-Domain: iol.unh.edu Date: Tue, 29 Apr 2025 00:12:02 -0700 (PDT) Message-ID: <68107bc2.170a0220.2c85c9.c99bSMTPIN_ADDED_MISSING@mx.google.com> Received: from [172.21.0.5] (unknown [172.18.0.240]) by postal.iol.unh.edu (Postfix) with ESMTP id 453E86052471; Tue, 29 Apr 2025 03:12:01 -0400 (EDT) Subject: |SUCCESS| pw153180 [PATCH] [v2] net/iavf: support Rx/Tx burst mode i From: dpdklab@iol.unh.edu To: Test Report Cc: dpdk-test-reports@iol.unh.edu In-Reply-To: <20250428220712.571492-1-rmelton@cisco.com> References: <20250428220712.571492-1-rmelton@cisco.com> Content-Type: text/plain X-BeenThere: test-report@dpdk.org X-Mailman-Version: 2.1.29 Precedence: list List-Id: automatic DPDK test reports List-Unsubscribe: , List-Archive: List-Post: List-Help: List-Subscribe: , Errors-To: test-report-bounces@dpdk.org Test-Label: iol-sample-apps-testing Test-Status: SUCCESS http://dpdk.org/patch/153180 _Testing PASS_ Submitter: Roger Melton Date: Monday, April 28 2025 22:07:13 DPDK git baseline: Repo:dpdk Branch: master CommitID:ecadeeb16e75595c1420f7b77a66013893c399dd 153180 --> testing pass Upstream job id: ACVP-FIPS-testing#9665 Test environment and result as below: +--------------------+----------------------+----------------------+ | Environment | compressdev_zlib_pmd | dpdk_fips_validation | +====================+======================+======================+ | Ubuntu 22.04 (ARM) | PASS | SKIPPED | +--------------------+----------------------+----------------------+ | Ubuntu 22.04 | PASS | SKIPPED | +--------------------+----------------------+----------------------+ | Ubuntu 20.04 | SKIPPED | PASS | +--------------------+----------------------+----------------------+ Ubuntu 22.04 (ARM) Kernel: 5.15.0-97-generic Compiler: gcc gcc (Ubuntu 11.4.0-1ubuntu1~22.04) 11.4.0 Ubuntu 22.04 Kernel: 5.15.0-100-generic Compiler: gcc gcc (Ubuntu 11.4.0-1ubuntu1~22.04) 11.4.0 Ubuntu 20.04 Kernel: Depends on container host Compiler: gcc (Ubuntu 9.4.0-1ubuntu1~20.04.2) 9.4.0 To view detailed results, visit: https://lab.dpdk.org/results/dashboard/patchsets/33081/ UNH-IOL DPDK Community Lab To manage your email subscriptions, visit: https://lab.dpdk.org/results/dashboard/preferences/subscriptions/