From mboxrd@z Thu Jan  1 00:00:00 1970
Return-Path: <test-report-bounces@dpdk.org>
Received: from mails.dpdk.org (mails.dpdk.org [217.70.189.124])
	by inbox.dpdk.org (Postfix) with ESMTP id E05934665A
	for <public@inbox.dpdk.org>; Tue, 29 Apr 2025 09:23:48 +0200 (CEST)
Received: from mails.dpdk.org (localhost [127.0.0.1])
	by mails.dpdk.org (Postfix) with ESMTP id DBFE34026C;
	Tue, 29 Apr 2025 09:23:48 +0200 (CEST)
Received: from mail-vk1-f225.google.com (mail-vk1-f225.google.com
 [209.85.221.225])
 by mails.dpdk.org (Postfix) with ESMTP id 0D6B340263
 for <test-report@dpdk.org>; Tue, 29 Apr 2025 09:23:48 +0200 (CEST)
Received: by mail-vk1-f225.google.com with SMTP id
 71dfb90a1353d-523f670ca99so1966971e0c.1
 for <test-report@dpdk.org>; Tue, 29 Apr 2025 00:23:47 -0700 (PDT)
DKIM-Signature: v=1; a=rsa-sha256; c=relaxed/relaxed;
 d=iol.unh.edu; s=unh-iol; t=1745911427; x=1746516227; darn=dpdk.org;
 h=references:in-reply-to:cc:to:from:subject:message-id:date:from:to
 :cc:subject:date:message-id:reply-to;
 bh=Crdy4gar6NH6cZM+tbAfplgoQz4JKIKeJDRXyTUM4n8=;
 b=cIfyIuq+WCZKPB5QJceW+Cl7uA0vWOzji35F2CpT5QW2Q+e9dtfxgC/H8p7RKMMF9Y
 5mhoj97xigtZPyfdTaIo0l1qTZKCjPjTvjK3PQ8lf284SWw8zez+ZWyvq3mTq0BdBe6i
 0uTgKPjFqW7R0WhnvEtMODOmK16nINTS4Dusc=
X-Google-DKIM-Signature: v=1; a=rsa-sha256; c=relaxed/relaxed;
 d=1e100.net; s=20230601; t=1745911427; x=1746516227;
 h=references:in-reply-to:cc:to:from:subject:message-id:date
 :x-gm-message-state:from:to:cc:subject:date:message-id:reply-to;
 bh=Crdy4gar6NH6cZM+tbAfplgoQz4JKIKeJDRXyTUM4n8=;
 b=JKKwot++DpRQdLOPvt5D/T6mOB6Nm8mCkLwV6lgIiQEGzmnM2/Dx6VVA1QtjOZfN8t
 oiOj7b7841HN16ycltzSnhCVlrktUfstCIQLOTZpwcibgup31FAAaEmx8nvSlJ4HXmAm
 HX0zy2i1V7tQO+4W+mSr5ThkA6yLGtg/C1Ns0Zx7tgv7q0BBuVSLJMnXwvdlnhALFEIe
 XqENzs7tOX2N7hfU9GIpL5d2NpPgV6qukk3w53TeZi+f1xCearrtKTY50kGgIih4r70W
 3OCbAbed2sv6LsdnGE9EkresLCMcxcTAwbPgVLRY9ST2Tu5sjfF5B4dgsnG0SEZe/88V
 trSQ==
X-Gm-Message-State: AOJu0YyaqP9WvmpN/LwBAmcsoOeuOD3IlAbR2vGB8vIwXks4o6COMxPS
 UPFVTj9DvY1AeVZU2n8b43Fgr9vPc36XPLgkF/CF9R1WnQKp9Z7sY9ePEkGdMk8luzwdBu5r63l
 op9owSUdmdeVTe+1Vw/xgaVT1J0+BkQVx4EFNjOnj
X-Gm-Gg: ASbGncu1FsCl+2qJfEG7b1lLX0zSG0E9cKIuvX5jorrEZ3hgiwVrKNAUCo+O0iZS1zD
 hyRY5p4MPXJ7doT/RdMhbVkWsd2xWW6Lo3iIdW959X9R0hXeuyu2nHZJQZtamxGcJioHL0lyS+J
 8aC/RNf5IyoKocjS0NTgeoBBree4asf6zVvyKSmpTN/9zIS4Jaak25Cc12qN3485qHd46ieCzOU
 40UxCZ+xMXunfrS6CFBAz8MdZSO6OmlcX3rKUXbfBbZiKS4KCuSkR0LnsIK741ITG+Ql90GP2jo
 mKyEraZPOb0AZsCd48Cj4+a97qDTi1dtJA2U
X-Google-Smtp-Source: AGHT+IFSqnqCm+SyK8vgnKU9lNTL/5hp80HA68ALscb/+BjtA5eSy1nMRK7OlFrnePGYysYMKKTWDoyWhcja
X-Received: by 2002:a05:6122:1d56:b0:520:af9c:c058 with SMTP id
 71dfb90a1353d-52abf2dd1cfmr1457171e0c.5.1745911427133; 
 Tue, 29 Apr 2025 00:23:47 -0700 (PDT)
Received: from postal.iol.unh.edu (postal.iol.unh.edu. [132.177.123.84])
 by smtp-relay.gmail.com with ESMTPS id
 71dfb90a1353d-52a993769c3sm803382e0c.7.2025.04.29.00.23.47
 (version=TLS1_2 cipher=ECDHE-ECDSA-AES128-GCM-SHA256 bits=128/128);
 Tue, 29 Apr 2025 00:23:47 -0700 (PDT)
X-Relaying-Domain: iol.unh.edu
Date: Tue, 29 Apr 2025 00:23:47 -0700 (PDT)
Message-ID: <68107e83.050a0220.901bd.e3ebSMTPIN_ADDED_MISSING@mx.google.com>
Received: from [172.21.0.5] (unknown [172.18.0.240])
 by postal.iol.unh.edu (Postfix) with ESMTP id B2CDD6052471;
 Tue, 29 Apr 2025 03:23:46 -0400 (EDT)
Subject: |SUCCESS| pw153180 [PATCH] [v2] net/iavf: support Rx/Tx burst mode i
From: dpdklab@iol.unh.edu
To: Test Report <test-report@dpdk.org>
Cc: dpdk-test-reports@iol.unh.edu
In-Reply-To: <20250428220712.571492-1-rmelton@cisco.com>
References: <20250428220712.571492-1-rmelton@cisco.com>
Content-Type: text/plain
X-BeenThere: test-report@dpdk.org
X-Mailman-Version: 2.1.29
Precedence: list
List-Id: automatic DPDK test reports <test-report.dpdk.org>
List-Unsubscribe: <https://mails.dpdk.org/options/test-report>,
 <mailto:test-report-request@dpdk.org?subject=unsubscribe>
List-Archive: <http://mails.dpdk.org/archives/test-report/>
List-Post: <mailto:test-report@dpdk.org>
List-Help: <mailto:test-report-request@dpdk.org?subject=help>
List-Subscribe: <https://mails.dpdk.org/listinfo/test-report>,
 <mailto:test-report-request@dpdk.org?subject=subscribe>
Errors-To: test-report-bounces@dpdk.org

Test-Label: iol-compile-amd64-testing
Test-Status: SUCCESS
http://dpdk.org/patch/153180

_Testing PASS_

Submitter: Roger Melton <rmelton@cisco.com>
Date: Monday, April 28 2025 22:07:13 
DPDK git baseline: Repo:dpdk
  Branch: master
  CommitID:ecadeeb16e75595c1420f7b77a66013893c399dd

153180 --> testing pass

Upstream job id: Generic-DPDK-Compile-Meson#383641

Test environment and result as below:

+-----------------------------------+--------------------+-------------------+------------------+-------------------------+-------------------+----------------------+
|            Environment            | dpdk_meson_compile | dpdk_compile_spdk | dpdk_compile_ovs | dpdk_llvm_clang_compile | dpdk_msvc_compile | dpdk_mingw64_compile |
+===================================+====================+===================+==================+=========================+===================+======================+
| CentOS Stream 9                   | PASS               | PASS              | SKIPPED          | SKIPPED                 | SKIPPED           | SKIPPED              |
+-----------------------------------+--------------------+-------------------+------------------+-------------------------+-------------------+----------------------+
| CentOS Stream 10                  | PASS               | SKIPPED           | SKIPPED          | SKIPPED                 | SKIPPED           | SKIPPED              |
+-----------------------------------+--------------------+-------------------+------------------+-------------------------+-------------------+----------------------+
| Debian 12                         | PASS               | PASS              | SKIPPED          | SKIPPED                 | SKIPPED           | SKIPPED              |
+-----------------------------------+--------------------+-------------------+------------------+-------------------------+-------------------+----------------------+
| Fedora 40 (Clang)                 | PASS               | PASS              | SKIPPED          | SKIPPED                 | SKIPPED           | SKIPPED              |
+-----------------------------------+--------------------+-------------------+------------------+-------------------------+-------------------+----------------------+
| Fedora 40                         | PASS               | PASS              | SKIPPED          | SKIPPED                 | SKIPPED           | SKIPPED              |
+-----------------------------------+--------------------+-------------------+------------------+-------------------------+-------------------+----------------------+
| Fedora 41                         | PASS               | PASS              | PASS             | SKIPPED                 | SKIPPED           | SKIPPED              |
+-----------------------------------+--------------------+-------------------+------------------+-------------------------+-------------------+----------------------+
| Fedora 41 (Clang)                 | PASS               | PASS              | PASS             | SKIPPED                 | SKIPPED           | SKIPPED              |
+-----------------------------------+--------------------+-------------------+------------------+-------------------------+-------------------+----------------------+
| RHEL9                             | PASS               | SKIPPED           | SKIPPED          | SKIPPED                 | SKIPPED           | SKIPPED              |
+-----------------------------------+--------------------+-------------------+------------------+-------------------------+-------------------+----------------------+
| RHEL8                             | PASS               | SKIPPED           | SKIPPED          | SKIPPED                 | SKIPPED           | SKIPPED              |
+-----------------------------------+--------------------+-------------------+------------------+-------------------------+-------------------+----------------------+
| Ubuntu 20.04                      | PASS               | SKIPPED           | SKIPPED          | SKIPPED                 | SKIPPED           | SKIPPED              |
+-----------------------------------+--------------------+-------------------+------------------+-------------------------+-------------------+----------------------+
| Ubuntu 22.04                      | PASS               | PASS              | SKIPPED          | SKIPPED                 | SKIPPED           | SKIPPED              |
+-----------------------------------+--------------------+-------------------+------------------+-------------------------+-------------------+----------------------+
| Ubuntu 24.04                      | PASS               | PASS              | PASS             | SKIPPED                 | SKIPPED           | SKIPPED              |
+-----------------------------------+--------------------+-------------------+------------------+-------------------------+-------------------+----------------------+
| Ubuntu 24.04 32 Bit Cross Compile | PASS               | SKIPPED           | SKIPPED          | SKIPPED                 | SKIPPED           | SKIPPED              |
+-----------------------------------+--------------------+-------------------+------------------+-------------------------+-------------------+----------------------+
| Alpine                            | PASS               | SKIPPED           | SKIPPED          | SKIPPED                 | SKIPPED           | SKIPPED              |
+-----------------------------------+--------------------+-------------------+------------------+-------------------------+-------------------+----------------------+
| FreeBSD 13.5                      | PASS               | SKIPPED           | SKIPPED          | SKIPPED                 | SKIPPED           | SKIPPED              |
+-----------------------------------+--------------------+-------------------+------------------+-------------------------+-------------------+----------------------+
| FreeBSD 14.2                      | PASS               | SKIPPED           | SKIPPED          | SKIPPED                 | SKIPPED           | SKIPPED              |
+-----------------------------------+--------------------+-------------------+------------------+-------------------------+-------------------+----------------------+
| openSUSE Leap 15                  | PASS               | SKIPPED           | SKIPPED          | SKIPPED                 | SKIPPED           | SKIPPED              |
+-----------------------------------+--------------------+-------------------+------------------+-------------------------+-------------------+----------------------+
| Windows Server 2022               | SKIPPED            | SKIPPED           | SKIPPED          | PASS                    | PASS              | PASS                 |
+-----------------------------------+--------------------+-------------------+------------------+-------------------------+-------------------+----------------------+


CentOS Stream 9
	Kernel: Depends on container host
	Compiler: gcc 11.5.0 20240719 (Red Hat 11.5.0-2)

CentOS Stream 10
	Kernel: Depends on container host
	Compiler: gcc 14.2.1 20241104 (Red Hat 14.2.1-6)

Debian 12
	Kernel: Depends on container host
	Compiler: gcc (Debian 12.2.0-14) 12.2.0

Fedora 40 (Clang)
	Kernel: Depends on container host
	Compiler: clang 18.1.8 (Fedora 18.1.8-1.fc40)

Fedora 40
	Kernel: Depends on container host
	Compiler: gcc 14.2.1 20240912 (Red Hat 14.2.1-3)

Fedora 41
	Kernel: Depends on container host
	Compiler: gcc 14.2.1 20240912 (Red Hat 14.2.1-3)

Fedora 41 (Clang)
	Kernel: Depends on container host
	Compiler: clang 19.1.5 (Fedora 19.1.5-1.fc41)

RHEL9
	Kernel: Depends on container host
	Compiler: gcc 11.5.0 20240719 (Red Hat 11.5.0-2)

RHEL8
	Kernel: Depends on container host
	Compiler: gcc 8.5.0 20210514 (Red Hat 8.5.0-22)

Ubuntu 20.04
	Kernel: Depends on container host
	Compiler: gcc (Ubuntu 9.4.0-1ubuntu1~20.04.2) 9.4.0

Ubuntu 22.04
	Kernel: Depends on container host
	Compiler: gcc (Ubuntu 11.4.0-1ubuntu1~22.04) 11.4.0

Ubuntu 24.04
	Kernel: Depends on container host
	Compiler: gcc (Ubuntu 13.3.0-6ubuntu2~24.04) 13.3.0

Ubuntu 24.04 32 Bit Cross Compile
	Kernel: Depends on container host
	Compiler: gcc (Ubuntu 13.3.0-6ubuntu2~24.04) 13.3.0

Alpine
	Kernel: Depends on container host
	Compiler: gcc (Alpine 14.2.0) 14.2.0

FreeBSD 13.5
	Kernel: 13.5-RELEASE
	Compiler: clang 19.1.7

FreeBSD 14.2
	Kernel: 14.2-RELEASE
	Compiler: clang 18.1.6

openSUSE Leap 15
	Kernel: Depends on container host
	Compiler: gcc (SUSE Linux) 7.5.0

Windows Server 2022
	Kernel: 10.0.20348.2031
	Compiler: clang 15.0.7, gcc 14.1.0 (MinGW), and MSVC VS 19.39.33521

To view detailed results, visit:
https://lab.dpdk.org/results/dashboard/patchsets/33081/

UNH-IOL DPDK Community Lab

To manage your email subscriptions, visit: 
https://lab.dpdk.org/results/dashboard/preferences/subscriptions/