From mboxrd@z Thu Jan 1 00:00:00 1970 Return-Path: Received: from mails.dpdk.org (mails.dpdk.org [217.70.189.124]) by inbox.dpdk.org (Postfix) with ESMTP id B03944665A for ; Tue, 29 Apr 2025 09:59:32 +0200 (CEST) Received: from mails.dpdk.org (localhost [127.0.0.1]) by mails.dpdk.org (Postfix) with ESMTP id 86B0E4026C; Tue, 29 Apr 2025 09:59:32 +0200 (CEST) Received: from mail-pf1-f228.google.com (mail-pf1-f228.google.com [209.85.210.228]) by mails.dpdk.org (Postfix) with ESMTP id 1948540263 for ; Tue, 29 Apr 2025 09:59:31 +0200 (CEST) Received: by mail-pf1-f228.google.com with SMTP id d2e1a72fcca58-7370a2d1981so4565629b3a.2 for ; Tue, 29 Apr 2025 00:59:30 -0700 (PDT) DKIM-Signature: v=1; a=rsa-sha256; c=relaxed/relaxed; d=iol.unh.edu; s=unh-iol; t=1745913570; x=1746518370; darn=dpdk.org; h=references:in-reply-to:cc:to:from:subject:message-id:date:from:to :cc:subject:date:message-id:reply-to; bh=/KYK3sJtiebnxT3u5csgeMgBEg8wU6BM4m77tq7ezDI=; b=iO9EjGHS5MGoKkWOcx55U9VlpSP0jbr1aDnRShiy/4CQDpTWE9fNGhJRpHeub3aDyR A9dWa5r472ZoQwh4eGKA2WofwFdQjRxdm14pOm7oMNTw8VL+9fk3cxLeFAc9FfGKuZu9 ZARVVUAKWDCNGjo3mrrrPMLnhHTuYUFFDqc0w= X-Google-DKIM-Signature: v=1; a=rsa-sha256; c=relaxed/relaxed; d=1e100.net; s=20230601; t=1745913570; x=1746518370; h=references:in-reply-to:cc:to:from:subject:message-id:date :x-gm-message-state:from:to:cc:subject:date:message-id:reply-to; bh=/KYK3sJtiebnxT3u5csgeMgBEg8wU6BM4m77tq7ezDI=; b=PDdEfpyiaqStUqIUrdy8cB8Nt0F+X2JFF18dMjk11b+cZ8rZxMYorRTk9zDNztxTLk wigSx9x68ZPHJhy+NhjEj4RvRMiTJjuLF2lji9yjBMvkbEk98QwlkLTLAbUH8DyjiTv+ KeDyNZBisxL6gFDS6hgUAyu+MQgTS/O4HlX2DQiInIaLArfeOtS7jYwDmKyhYdOG2pjA tWO75AuIxziMkE2Ql4uDUQtkzG9YhC5KNuXuXInOpN1vdpiWa2qAaDx5cfn3V6909vpO mkLIx4D9dMMAwnYZaDAVNXv8oiqdiTu+CL3NgNpBnujvShWtOPPFC/4uZ9lgAha0cWhf KagQ== X-Gm-Message-State: AOJu0Ywglp1381DdSFQbXznKMBR3ckXcIeIojbS46S2n61t2jOHUIXug bZYDa7oXl+eJxc989d7ZomJaIO617aLX4ee7LDyAT3AfHoaRDajNW+BFU6THkNaPMy9ubYu/p/s +gv6Qem5XGc9jtWRlbqfta48Z4vylH0g/ajvGVV9R8Hmp/7TR9609UkpK X-Gm-Gg: ASbGnctMIHgC89LoHahZYjVBZcoEpmijDjuyQvGBcpTzQcBU7idTfhhxDr5mmEB+PN3 gtxGfhetGKODU5snRJFfOWKGV4kDOgw28/rL7cc2bbjpk2hum7RT3LVFEEy4chxV3fnbIhC3ci+ v6oUv/AbDVgcDvIsYO8myy2S52He704dghnbD6fclv5Q+O3Gs1Hj4pk0ITRoagmuYQpDPOUL1F4 CkNao0U3RA2VSv7wOT/i3OZNm4TJYkHVc5748UYh4gjJ71SIqy8+KXft078EPmKsVFXg3N1ez7z T0laM6Emi9AEhSVBldgVTl5RqiiB36FaRyl1qtL3ZMECGq2Z X-Google-Smtp-Source: AGHT+IFmUDYzxoQzkKwbhAI7FjZ3Q58OQqTdSCv0H1U/JAS5wx4Ag4I8Ww+D6ac9g/lmydGuZyWPYoSAz8dZ X-Received: by 2002:a05:6a21:108f:b0:1f3:41d5:65f6 with SMTP id adf61e73a8af0-2046a6ea951mr20412745637.32.1745913570050; Tue, 29 Apr 2025 00:59:30 -0700 (PDT) Received: from postal.iol.unh.edu (postal.iol.unh.edu. [2606:4100:3880:1234::84]) by smtp-relay.gmail.com with ESMTPS id 41be03b00d2f7-b15fb5baf00sm1018940a12.29.2025.04.29.00.59.29 (version=TLS1_2 cipher=ECDHE-ECDSA-AES128-GCM-SHA256 bits=128/128); Tue, 29 Apr 2025 00:59:30 -0700 (PDT) X-Relaying-Domain: iol.unh.edu Date: Tue, 29 Apr 2025 00:59:30 -0700 (PDT) Message-ID: <681086e2.630a0220.469b1.fa78SMTPIN_ADDED_MISSING@mx.google.com> Received: from [172.17.0.2] (unknown [172.18.0.74]) by postal.iol.unh.edu (Postfix) with ESMTP id 21B576052471; Tue, 29 Apr 2025 03:59:29 -0400 (EDT) Subject: |SUCCESS| pw153180 [PATCH] [v2] net/iavf: support Rx/Tx burst mode i From: dpdklab@iol.unh.edu To: Test Report Cc: dpdk-test-reports@iol.unh.edu In-Reply-To: <20250428220712.571492-1-rmelton@cisco.com> References: <20250428220712.571492-1-rmelton@cisco.com> Content-Type: text/plain X-BeenThere: test-report@dpdk.org X-Mailman-Version: 2.1.29 Precedence: list List-Id: automatic DPDK test reports List-Unsubscribe: , List-Archive: List-Post: List-Help: List-Subscribe: , Errors-To: test-report-bounces@dpdk.org Test-Label: iol-compile-arm64-testing Test-Status: SUCCESS http://dpdk.org/patch/153180 _Testing PASS_ Submitter: Roger Melton Date: Monday, April 28 2025 22:07:13 DPDK git baseline: Repo:dpdk Branch: master CommitID:ecadeeb16e75595c1420f7b77a66013893c399dd 153180 --> testing pass Upstream job id: Generic-DPDK-Compile-Meson#383656 Test environment and result as below: +----------------------------------------+--------------------+ | Environment | dpdk_meson_compile | +========================================+====================+ | RHEL9 (ARM) | PASS | +----------------------------------------+--------------------+ | Ubuntu 20.04 ARM GCC Cross Compile | PASS | +----------------------------------------+--------------------+ | Ubuntu 20.04 ARM SVE | PASS | +----------------------------------------+--------------------+ | Debian 12 with MUSDK | PASS | +----------------------------------------+--------------------+ | Fedora 40 (ARM) | PASS | +----------------------------------------+--------------------+ | Fedora 41 (ARM) | PASS | +----------------------------------------+--------------------+ | Fedora 41 (ARM Clang) | PASS | +----------------------------------------+--------------------+ | Fedora 40 (ARM Clang) | PASS | +----------------------------------------+--------------------+ | Ubuntu 20.04 (ARM) | PASS | +----------------------------------------+--------------------+ | Ubuntu 22.04 (ARM) | PASS | +----------------------------------------+--------------------+ | Ubuntu 24.04 (ARM) | PASS | +----------------------------------------+--------------------+ | CentOS Stream 9 (ARM) | PASS | +----------------------------------------+--------------------+ | Debian 12 (arm) | PASS | +----------------------------------------+--------------------+ | CentOS Stream 10 (ARM) | PASS | +----------------------------------------+--------------------+ | Ubuntu 20.04 ARM Clang Cross Compile | PASS | +----------------------------------------+--------------------+ | Ubuntu 20.04 aarch32 GCC Cross Compile | PASS | +----------------------------------------+--------------------+ RHEL9 (ARM) Kernel: Depends on container host Compiler: gcc 11.5.0 20240719 (Red Hat 11.5.0-2) Ubuntu 20.04 ARM GCC Cross Compile Kernel: Depends on container host Compiler: aarch64-linux-gnu-gcc (Ubuntu 9.4.0-1ubuntu1~20.04.2) 9.4.0 Ubuntu 20.04 ARM SVE Kernel: Depends on container host Compiler: gcc (Ubuntu 10.5.0-1ubuntu1~20.04) 10.5.0 Debian 12 with MUSDK Kernel: Depends on container host Compiler: gcc (Debian 12.2.0-14) 12.2.0 Fedora 40 (ARM) Kernel: Depends on container host Compiler: gcc 14.2.1 20240912 (Red Hat 14.2.1-3) Fedora 41 (ARM) Kernel: Depends on container host Compiler: gcc 14.2.1 20240912 (Red Hat 14.2.1-3) Fedora 41 (ARM Clang) Kernel: Depends on container host Compiler: clang 19.1.5 (Fedora 19.1.5-1.fc41) Fedora 40 (ARM Clang) Kernel: Depends on container host Compiler: clang 18.1.8 (Fedora 18.1.8-1.fc40) Ubuntu 20.04 (ARM) Kernel: Depends on container host Compiler: gcc (Ubuntu 9.4.0-1ubuntu1~20.04.2) 9.4.0 Ubuntu 22.04 (ARM) Kernel: Depends on container host Compiler: gcc (Ubuntu 11.4.0-1ubuntu1~22.04) 11.4.0 Ubuntu 24.04 (ARM) Kernel: Depends on container host Compiler: gcc (Ubuntu 13.3.0-6ubuntu2~24.04) 13.3.0 CentOS Stream 9 (ARM) Kernel: Depends on container host Compiler: gcc 11.5.0 20240719 (Red Hat 11.5.0-2) Debian 12 (arm) Kernel: Depends on container host Compiler: gcc (Debian 12.2.0-14) 12.2.0 CentOS Stream 10 (ARM) Kernel: Depends on container host Compiler: gcc 14.2.1 20241104 (Red Hat 14.2.1-6) Ubuntu 20.04 ARM Clang Cross Compile Kernel: Depends on container host Compiler: clang 10.0.0-4ubuntu1 Ubuntu 20.04 aarch32 GCC Cross Compile Kernel: Depends on container host Compiler: gcc 9.4.0 To view detailed results, visit: https://lab.dpdk.org/results/dashboard/patchsets/33081/ UNH-IOL DPDK Community Lab To manage your email subscriptions, visit: https://lab.dpdk.org/results/dashboard/preferences/subscriptions/