From mboxrd@z Thu Jan 1 00:00:00 1970 Return-Path: Received: from mails.dpdk.org (mails.dpdk.org [217.70.189.124]) by inbox.dpdk.org (Postfix) with ESMTP id 1E4F44665D for ; Tue, 29 Apr 2025 10:02:49 +0200 (CEST) Received: from mails.dpdk.org (localhost [127.0.0.1]) by mails.dpdk.org (Postfix) with ESMTP id 04E084026C; Tue, 29 Apr 2025 10:02:49 +0200 (CEST) Received: from mail-pf1-f228.google.com (mail-pf1-f228.google.com [209.85.210.228]) by mails.dpdk.org (Postfix) with ESMTP id 28DF740263 for ; Tue, 29 Apr 2025 10:02:48 +0200 (CEST) Received: by mail-pf1-f228.google.com with SMTP id d2e1a72fcca58-7399a2dc13fso8097383b3a.2 for ; Tue, 29 Apr 2025 01:02:48 -0700 (PDT) DKIM-Signature: v=1; a=rsa-sha256; c=relaxed/relaxed; d=iol.unh.edu; s=unh-iol; t=1745913767; x=1746518567; darn=dpdk.org; h=cc:to:from:subject:message-id:date:from:to:cc:subject:date :message-id:reply-to; bh=pceltTSsgmS1/06sDBECGdO8uilw1GtOcyGYeSgq1Bk=; b=aoa1yo2wGpYv4sazsV21UvglnbYb1QR33bIvFzYi8AfWVLfWLpvGeEl+qAuVopKlBo 8CfwWvp2IA5gPdc+d6KXgUP3Q+VeId1u1fpEsQZnlqaUIq/LLT4Z0uvXU00Ev4O8e+oD /bu73OJMcRPSVK+0e6vL0WS5w+3+gUmrme1/E= X-Google-DKIM-Signature: v=1; a=rsa-sha256; c=relaxed/relaxed; d=1e100.net; s=20230601; t=1745913767; x=1746518567; h=cc:to:from:subject:message-id:date:x-gm-message-state:from:to:cc :subject:date:message-id:reply-to; bh=pceltTSsgmS1/06sDBECGdO8uilw1GtOcyGYeSgq1Bk=; b=cYBx6BMo5dBpFMEjFedlCFWvvDF5Q7uS+j1rQEGFr1cmiDO2t9BxK0qD9v8FNXV7L2 muv82tx/7RatZEEQ/iQelpgZSB/Ojyq60zc/kSlh16q6tN/k9Yr2EduZdOczrMTW28IF ZdHWbu2PuLqf651sw7uyOwDQD1PlDZCJjyNAyzsZTHqAxoelAM1dkTt6qOy0D2PuJzOh 0V0LPFreyFRo6h5fpPuUIdXlj8E8Mxj4T1uRhYwJs3Zmm1mduSM/HcFa57rIS1upG0wV y5BL+av1DBIzOOgxjrKC8nUyONT0aIVoghPGpMPFgnj6ZCdcQAPXAp85kXwAbOwsQ3Wd g1lQ== X-Gm-Message-State: AOJu0Yykz5EJvw50LXc2YZGZ2EeE6lhJSYA6yMvwU7MK5Op80x7dLjmz XPYV5ez+GSV6qQpEL7N0M7HdqWXcUNfVOb6LLzaTvZIj3ptxnq+EBKe4gmlAXYGbhTgdD1nmlEa COnlUVsEL7hm2wpnrpGjKoL0qkfKYOR6ENjX+kMlJQ+vo/siI X-Gm-Gg: ASbGncvoiRH7uvjQfSXyMNzwbhfBqUxoEaLeJwoTJkUi2i4blU3mpZBll+SjG8UVuG7 0MSEQIRPJb2oimHOUmQw2HYus2KD9/TZRoJEkaxJ/9Hd1QS+VeBUh6y7rt8BPgBl+poNUPDI+SZ NleQawHrpEGSHIsUbitPwVapYAusVcYRgoQvZfBn8Ax8EuTAJ3kqiaOcuQLBxJ9fwaIm+g1yIzn Yf2h1ib67LTkRR4A44tIDUoax0jH67LkyMalTCuBiw3z9Xdtmoj6YK6suZduGh2Sgssza3zaA1x PQsc0Qtk8Ehj477OcichDsHgnZOLGyzJHv5HGlnkRq8jSQKy X-Google-Smtp-Source: AGHT+IF8AStPYRQ2VNXkM+N1ksWHHtIGEZ7w0Jn6rSu16csMjKI0mZUiG6xt90HDCHUWcj7iYpHezB3kRXMK X-Received: by 2002:a05:6a00:2e84:b0:736:a638:7f9e with SMTP id d2e1a72fcca58-73ff729f80emr18719370b3a.8.1745913766975; Tue, 29 Apr 2025 01:02:46 -0700 (PDT) Received: from postal.iol.unh.edu (postal.iol.unh.edu. [2606:4100:3880:1234::84]) by smtp-relay.gmail.com with ESMTPS id d2e1a72fcca58-73e25be1536sm1100453b3a.22.2025.04.29.01.02.46 (version=TLS1_2 cipher=ECDHE-ECDSA-AES128-GCM-SHA256 bits=128/128); Tue, 29 Apr 2025 01:02:46 -0700 (PDT) X-Relaying-Domain: iol.unh.edu Date: Tue, 29 Apr 2025 01:02:46 -0700 (PDT) Message-ID: <681087a6.050a0220.293a30.939dSMTPIN_ADDED_MISSING@mx.google.com> Received: from [172.17.0.2] (unknown [172.18.0.74]) by postal.iol.unh.edu (Postfix) with ESMTP id 1B3726052471; Tue, 29 Apr 2025 04:02:46 -0400 (EDT) Subject: |SUCCESS| [GIT MASTER] 4401486b5e30d43a134f80f9802f60b5f43e74a8 From: dpdklab@iol.unh.edu To: Test Report Cc: dpdk-test-reports@iol.unh.edu, Xueming Li , Christian Ehrhardt , Kevin Traynor , Luca Boccassi Content-Type: text/plain X-BeenThere: test-report@dpdk.org X-Mailman-Version: 2.1.29 Precedence: list List-Id: automatic DPDK test reports List-Unsubscribe: , List-Archive: List-Post: List-Help: List-Subscribe: , Errors-To: test-report-bounces@dpdk.org _Testing PASS_ Branch: tags/v22.11 4401486b5e30d43a134f80f9802f60b5f43e74a8 --> testing pass Upstream job id: ACVP-FIPS-testing#9666 Test environment and result as below: +--------------------+----------------------+----------------------+ | Environment | compressdev_zlib_pmd | dpdk_fips_validation | +====================+======================+======================+ | Ubuntu 22.04 (ARM) | PASS | SKIPPED | +--------------------+----------------------+----------------------+ | Ubuntu 22.04 | PASS | SKIPPED | +--------------------+----------------------+----------------------+ | Ubuntu 20.04 | SKIPPED | PASS | +--------------------+----------------------+----------------------+ Ubuntu 22.04 (ARM) Kernel: 5.15.0-97-generic Compiler: gcc gcc (Ubuntu 11.4.0-1ubuntu1~22.04) 11.4.0 Ubuntu 22.04 Kernel: 5.15.0-100-generic Compiler: gcc gcc (Ubuntu 11.4.0-1ubuntu1~22.04) 11.4.0 Ubuntu 20.04 Kernel: Depends on container host Compiler: gcc (Ubuntu 9.4.0-1ubuntu1~20.04.2) 9.4.0 To view detailed results, visit: https://lab.dpdk.org/results/dashboard/tarballs/33384/ UNH-IOL DPDK Community Lab To manage your email subscriptions, visit: https://lab.dpdk.org/results/dashboard/preferences/subscriptions/