From mboxrd@z Thu Jan 1 00:00:00 1970 Return-Path: Received: from mails.dpdk.org (mails.dpdk.org [217.70.189.124]) by inbox.dpdk.org (Postfix) with ESMTP id 6A28B4665D for ; Tue, 29 Apr 2025 10:18:54 +0200 (CEST) Received: from mails.dpdk.org (localhost [127.0.0.1]) by mails.dpdk.org (Postfix) with ESMTP id 64A934026C; Tue, 29 Apr 2025 10:18:53 +0200 (CEST) Received: from mail-il1-f226.google.com (mail-il1-f226.google.com [209.85.166.226]) by mails.dpdk.org (Postfix) with ESMTP id 5E7A540263 for ; Tue, 29 Apr 2025 10:18:52 +0200 (CEST) Received: by mail-il1-f226.google.com with SMTP id e9e14a558f8ab-3d9189e9a06so18929295ab.2 for ; Tue, 29 Apr 2025 01:18:52 -0700 (PDT) DKIM-Signature: v=1; a=rsa-sha256; c=relaxed/relaxed; d=iol.unh.edu; s=unh-iol; t=1745914731; x=1746519531; darn=dpdk.org; h=references:in-reply-to:cc:to:from:subject:message-id:date:from:to :cc:subject:date:message-id:reply-to; bh=xVIhKuDm6BidPXUUZ5AaIDuk2TleWYJp7IyGG9S4dmw=; b=H0OOgddMQpbn2Khdv5dSZ3lHvclcmnk0zOTNNYGZTTp8oa/mJDonw5a0AcXtK8T4hk JRT1FkEjd84eoPp6VBMSKlXhGDXAcYTG5Jxjwz/t3vAdRfAxSD2m5sYruEpk7RVkx7sr x/i/ad871sNZw28lZP+0LyCjNcHK2rwGZu6tQ= X-Google-DKIM-Signature: v=1; a=rsa-sha256; c=relaxed/relaxed; d=1e100.net; s=20230601; t=1745914731; x=1746519531; h=references:in-reply-to:cc:to:from:subject:message-id:date :x-gm-message-state:from:to:cc:subject:date:message-id:reply-to; bh=xVIhKuDm6BidPXUUZ5AaIDuk2TleWYJp7IyGG9S4dmw=; b=u9tlLPfBc39dzv16xCRx5Mn1fYfh7SEi9EtZaC1pYNNZmoycxY0DzM5G8qawDjncXZ tFsZ7zdeFtvCnxq6wkhONOgNtAZ6lS/BxUWmNnrDfXzZdj3IBaWrXCgUFVuahvSFRYAT gjsGgEtTVfw7VysGW4ghRdsr7q2VJa25uFUJ32TmrayvS1f4B7RxuxHEQ6pazLNkMAAV e2BqssFx/fRGHo2Y3cPga2x6jbw/bRg67Tz60Bea9E33T6S0J6A57+f1VWjETuKvEenB 84f6jd3tVlDJh8CCY0SraPK7F+KwfeM8Di4dsGlFHBVdeSZscTg8CB0+sGwiE9tEyeMZ 7fPQ== X-Gm-Message-State: AOJu0Yx8cJRZ4IZsMeuQVY9XK6nHDDFaJxEQde8DUl/y1uJNpGpxV69t 1LRDaE7/ukzTSBe8pKfg5qcdp3K3bA59cZ7Gbrsy9/A/cEG42THjCF+4ihVX4MbyxiTR2cStII6 sPLSIxk0z6D1A4PO8fkNC+MMS1ZkKpm3/QSaSSWDt X-Gm-Gg: ASbGncuuLTmxeo+tJ+JXziRimg2KKSxP7e2YJjxNzogS7s/OPg4RmjYyE26ukM/yep2 dKFZF4spKS2m7LesN28MdMo9gLVLlUwQt3PG1JrpI4tev0SFruwYTkRBaw8azCXKnV+Arvo/t4c JOm+3wqRbPvc/peEL6GXnmR+1NOlFLbGjjxU8ctyWAzPWaCrjc88MU5od3sgA2l66A3zk6yBNcv 3tnKvH3XlgPvnv+iJaGrF2XrcEGwRUbPLe9jQNf+Y4nw6HMGkmHKmpiS0QOV2jxFb3O8231IWCF xYVIs4V8xsWnA12Ig6uZ0lJi8z3Y2YmQ9HIG X-Google-Smtp-Source: AGHT+IHRamrUHP0hwjQjAsMYgxvOIiwgw7ipz949VIWnZryuNzVk7EuI5cCP3Jse/Yaj9L10JkWNO8MpCUCu X-Received: by 2002:a05:6e02:170f:b0:3d3:fdcc:8fb8 with SMTP id e9e14a558f8ab-3d942d62ccemr109277665ab.10.1745914731473; Tue, 29 Apr 2025 01:18:51 -0700 (PDT) Received: from postal.iol.unh.edu (postal.iol.unh.edu. [132.177.123.84]) by smtp-relay.gmail.com with ESMTPS id e9e14a558f8ab-3d95f312076sm764935ab.35.2025.04.29.01.18.51 (version=TLS1_2 cipher=ECDHE-ECDSA-AES128-GCM-SHA256 bits=128/128); Tue, 29 Apr 2025 01:18:51 -0700 (PDT) X-Relaying-Domain: iol.unh.edu Date: Tue, 29 Apr 2025 01:18:51 -0700 (PDT) Message-ID: <68108b6b.050a0220.1a8be4.2a2bSMTPIN_ADDED_MISSING@mx.google.com> Received: from [172.17.0.2] (unknown [172.18.0.74]) by postal.iol.unh.edu (Postfix) with ESMTP id 052A06052471; Tue, 29 Apr 2025 04:18:51 -0400 (EDT) Subject: |SUCCESS| pw153181 [PATCH] Add new tracepoint function for type time From: dpdklab@iol.unh.edu To: Test Report Cc: dpdk-test-reports@iol.unh.edu In-Reply-To: <20250429030017.1126516-1-changqing.li@windriver.com> References: <20250429030017.1126516-1-changqing.li@windriver.com> Content-Type: text/plain X-BeenThere: test-report@dpdk.org X-Mailman-Version: 2.1.29 Precedence: list List-Id: automatic DPDK test reports List-Unsubscribe: , List-Archive: List-Post: List-Help: List-Subscribe: , Errors-To: test-report-bounces@dpdk.org Test-Label: iol-compile-arm64-testing Test-Status: SUCCESS http://dpdk.org/patch/153181 _Testing PASS_ Submitter: Changqing Li Date: Tuesday, April 29 2025 03:00:17 DPDK git baseline: Repo:dpdk Branch: master CommitID:ca1690ebd224f148268285b15b97441ccdbdd07e 153181 --> testing pass Upstream job id: Generic-DPDK-Compile-Meson#383631 Test environment and result as below: +----------------------------------------+--------------------+ | Environment | dpdk_meson_compile | +========================================+====================+ | RHEL9 (ARM) | PASS | +----------------------------------------+--------------------+ | Ubuntu 20.04 ARM GCC Cross Compile | PASS | +----------------------------------------+--------------------+ | Ubuntu 20.04 ARM SVE | PASS | +----------------------------------------+--------------------+ | Debian 12 with MUSDK | PASS | +----------------------------------------+--------------------+ | Fedora 41 (ARM Clang) | PASS | +----------------------------------------+--------------------+ | Ubuntu 20.04 (ARM) | PASS | +----------------------------------------+--------------------+ | Ubuntu 22.04 (ARM) | PASS | +----------------------------------------+--------------------+ | Fedora 41 (ARM) | PASS | +----------------------------------------+--------------------+ | Fedora 40 (ARM) | PASS | +----------------------------------------+--------------------+ | Fedora 40 (ARM Clang) | PASS | +----------------------------------------+--------------------+ | CentOS Stream 9 (ARM) | PASS | +----------------------------------------+--------------------+ | Ubuntu 24.04 (ARM) | PASS | +----------------------------------------+--------------------+ | CentOS Stream 10 (ARM) | PASS | +----------------------------------------+--------------------+ | Debian 12 (arm) | PASS | +----------------------------------------+--------------------+ | Ubuntu 20.04 ARM Clang Cross Compile | PASS | +----------------------------------------+--------------------+ | Ubuntu 20.04 aarch32 GCC Cross Compile | PASS | +----------------------------------------+--------------------+ RHEL9 (ARM) Kernel: Depends on container host Compiler: gcc 11.5.0 20240719 (Red Hat 11.5.0-2) Ubuntu 20.04 ARM GCC Cross Compile Kernel: Depends on container host Compiler: aarch64-linux-gnu-gcc (Ubuntu 9.4.0-1ubuntu1~20.04.2) 9.4.0 Ubuntu 20.04 ARM SVE Kernel: Depends on container host Compiler: gcc (Ubuntu 10.5.0-1ubuntu1~20.04) 10.5.0 Debian 12 with MUSDK Kernel: Depends on container host Compiler: gcc (Debian 12.2.0-14) 12.2.0 Fedora 41 (ARM Clang) Kernel: Depends on container host Compiler: clang 19.1.5 (Fedora 19.1.5-1.fc41) Ubuntu 20.04 (ARM) Kernel: Depends on container host Compiler: gcc (Ubuntu 9.4.0-1ubuntu1~20.04.2) 9.4.0 Ubuntu 22.04 (ARM) Kernel: Depends on container host Compiler: gcc (Ubuntu 11.4.0-1ubuntu1~22.04) 11.4.0 Fedora 41 (ARM) Kernel: Depends on container host Compiler: gcc 14.2.1 20240912 (Red Hat 14.2.1-3) Fedora 40 (ARM) Kernel: Depends on container host Compiler: gcc 14.2.1 20240912 (Red Hat 14.2.1-3) Fedora 40 (ARM Clang) Kernel: Depends on container host Compiler: clang 18.1.8 (Fedora 18.1.8-1.fc40) CentOS Stream 9 (ARM) Kernel: Depends on container host Compiler: gcc 11.5.0 20240719 (Red Hat 11.5.0-2) Ubuntu 24.04 (ARM) Kernel: Depends on container host Compiler: gcc (Ubuntu 13.3.0-6ubuntu2~24.04) 13.3.0 CentOS Stream 10 (ARM) Kernel: Depends on container host Compiler: gcc 14.2.1 20241104 (Red Hat 14.2.1-6) Debian 12 (arm) Kernel: Depends on container host Compiler: gcc (Debian 12.2.0-14) 12.2.0 Ubuntu 20.04 ARM Clang Cross Compile Kernel: Depends on container host Compiler: clang 10.0.0-4ubuntu1 Ubuntu 20.04 aarch32 GCC Cross Compile Kernel: Depends on container host Compiler: gcc 9.4.0 To view detailed results, visit: https://lab.dpdk.org/results/dashboard/patchsets/33082/ UNH-IOL DPDK Community Lab To manage your email subscriptions, visit: https://lab.dpdk.org/results/dashboard/preferences/subscriptions/