From mboxrd@z Thu Jan 1 00:00:00 1970 Return-Path: Received: from mails.dpdk.org (mails.dpdk.org [217.70.189.124]) by inbox.dpdk.org (Postfix) with ESMTP id 524CB465DA for ; Tue, 29 Apr 2025 11:21:35 +0200 (CEST) Received: from mails.dpdk.org (localhost [127.0.0.1]) by mails.dpdk.org (Postfix) with ESMTP id 5ECC34026C; Tue, 29 Apr 2025 11:21:34 +0200 (CEST) Received: from mail-pf1-f226.google.com (mail-pf1-f226.google.com [209.85.210.226]) by mails.dpdk.org (Postfix) with ESMTP id E076340263 for ; Tue, 29 Apr 2025 11:21:32 +0200 (CEST) Received: by mail-pf1-f226.google.com with SMTP id d2e1a72fcca58-739b3fe7ce8so5274548b3a.0 for ; Tue, 29 Apr 2025 02:21:32 -0700 (PDT) DKIM-Signature: v=1; a=rsa-sha256; c=relaxed/relaxed; d=iol.unh.edu; s=unh-iol; t=1745918492; x=1746523292; darn=dpdk.org; h=cc:to:from:subject:message-id:date:from:to:cc:subject:date :message-id:reply-to; bh=57EwL00hrGkroIcp6dVfdvcB1uAihD1TLmuiuV86X5U=; b=ix6fjpT7y/j4Tm1pTCmDra83/bdr1+N4+rC3TBXzvcdjYJwib6G9KPgf3ZTcTlaoVF dPnnO4HPIsUSZrxz7Qy0QNeLN36KRcWq4k7c70tL68j/HBGRctBQ0ATVLjD3x2du1+1L 3TxSPKpzvn3CpW0tgUfMU1NIChGnACMK/5S2M= X-Google-DKIM-Signature: v=1; a=rsa-sha256; c=relaxed/relaxed; d=1e100.net; s=20230601; t=1745918492; x=1746523292; h=cc:to:from:subject:message-id:date:x-gm-message-state:from:to:cc :subject:date:message-id:reply-to; bh=57EwL00hrGkroIcp6dVfdvcB1uAihD1TLmuiuV86X5U=; b=OjeP2ZGAijxjXSzfrPsjy8oLHsksOBjZu8fUKKRt86YZAvmWfVM22YVRtoI8W3U3hE v2LMcfM/gJEnT9hQIPxRiLCfQcDi3PBGI4TDuvUPypEvhaRut8xwVTe5dQYbTdegflBK fCmdoP3lOM78M9FHWsNJGcKGBwtPr5bpHBlwBWjfeqWE3aYIDt6Rv7/xSbEaetOSxR53 fEArlPS1du8kE/DEquE3+iZ9GmUhtpC5usYOWYi12OwEYi9AaZeTTokwsYXwQuW3Xg8j Lq4qvcOoZ3UH8fLbGPmPpJ0EZVxyWU8xJaqUzlU3hIOgjiJoAd3WAhzO/0IXWJAibDx8 iqfw== X-Gm-Message-State: AOJu0YzerSOAz5CH4nXakXOLm4lAcsEB+KAx3CfswA66j/MwpH8ht/wt G8SqWH98LPsUpsXOr8u3yjg2nbveSWXT6G8R9ycZMfsCXo9hKdbQDQi/TciGVIa0AdPwVHIkgrk GzrEdcspgzpK6OKCcJtSibfvMMMcSIn/dUwqL1cJOuFbLW+3e X-Gm-Gg: ASbGncskPceYiS8KktDGhZCdB27oFsZGpuA1kwOqgxThVm8ukl6YJSX9R2zV6N6KeE1 kXH2XRdjQ873eMEDP32wH+pl4z1p4psELJqbiV5K+2ptgIdm9r35nzs6F9D1gBJvReYMxDBciY6 csqBeszRDiB64NeaAQ3zh3fAjo0JU/xQPD6qbB6FvGnRuyAtXCpciJQtVTkGKtD6BBUPby3i8/o oq1pdx+4GjTSjOVcSkziwye/WGxbp4eG2L/Rq/1MKXnLggSMVALF4Ozl8zj8+e5z2S/AIm/RZem TFK+x7LydmVPkd/0PQWwLRNQ0soV80jDz1lfMETuuM7kyj4K X-Google-Smtp-Source: AGHT+IHsuggPSP/6PqGp8dfkIApWCYK6ZjFXPekhfp9rl5kfOKHpUJO/imCbVxdQ7T7Vfugd6UyKqHMY41C1 X-Received: by 2002:a05:6a00:2448:b0:736:32d2:aa8e with SMTP id d2e1a72fcca58-74029426cb7mr3112191b3a.6.1745918492001; Tue, 29 Apr 2025 02:21:32 -0700 (PDT) Received: from postal.iol.unh.edu (postal.iol.unh.edu. [2606:4100:3880:1234::84]) by smtp-relay.gmail.com with ESMTPS id d2e1a72fcca58-73e25bb4c9dsm1173992b3a.19.2025.04.29.02.21.31 (version=TLS1_2 cipher=ECDHE-ECDSA-AES128-GCM-SHA256 bits=128/128); Tue, 29 Apr 2025 02:21:31 -0700 (PDT) X-Relaying-Domain: iol.unh.edu Date: Tue, 29 Apr 2025 02:21:31 -0700 (PDT) Message-ID: <68109a1b.050a0220.3c9aaf.c519SMTPIN_ADDED_MISSING@mx.google.com> Received: from [172.17.0.2] (unknown [172.18.0.74]) by postal.iol.unh.edu (Postfix) with ESMTP id 9FA4C6052471; Tue, 29 Apr 2025 05:21:30 -0400 (EDT) Subject: |SUCCESS| [GIT MASTER] 4401486b5e30d43a134f80f9802f60b5f43e74a8 From: dpdklab@iol.unh.edu To: Test Report Cc: dpdk-test-reports@iol.unh.edu, Xueming Li , Christian Ehrhardt , Kevin Traynor , Luca Boccassi Content-Type: text/plain X-BeenThere: test-report@dpdk.org X-Mailman-Version: 2.1.29 Precedence: list List-Id: automatic DPDK test reports List-Unsubscribe: , List-Archive: List-Post: List-Help: List-Subscribe: , Errors-To: test-report-bounces@dpdk.org _Testing PASS_ Branch: tags/v22.11 4401486b5e30d43a134f80f9802f60b5f43e74a8 --> testing pass Upstream job id: Generic-DPDK-Compile-Meson#383690 Test environment and result as below: +------------------------------------+--------------------+ | Environment | dpdk_meson_compile | +====================================+====================+ | RHEL9 (ARM) | PASS | +------------------------------------+--------------------+ | Ubuntu 20.04 ARM GCC Cross Compile | PASS | +------------------------------------+--------------------+ | Ubuntu 20.04 ARM SVE | PASS | +------------------------------------+--------------------+ | Debian 12 with MUSDK | PASS | +------------------------------------+--------------------+ | Fedora 40 (ARM) | PASS | +------------------------------------+--------------------+ | Fedora 40 (ARM Clang) | PASS | +------------------------------------+--------------------+ | Fedora 41 (ARM) | PASS | +------------------------------------+--------------------+ | Fedora 41 (ARM Clang) | PASS | +------------------------------------+--------------------+ | Ubuntu 20.04 (ARM) | PASS | +------------------------------------+--------------------+ | Ubuntu 22.04 (ARM) | PASS | +------------------------------------+--------------------+ | Ubuntu 24.04 (ARM) | PASS | +------------------------------------+--------------------+ | CentOS Stream 9 (ARM) | PASS | +------------------------------------+--------------------+ | CentOS Stream 10 (ARM) | PASS | +------------------------------------+--------------------+ | Debian 12 (arm) | PASS | +------------------------------------+--------------------+ RHEL9 (ARM) Kernel: Depends on container host Compiler: gcc 11.5.0 20240719 (Red Hat 11.5.0-2) Ubuntu 20.04 ARM GCC Cross Compile Kernel: Depends on container host Compiler: aarch64-linux-gnu-gcc (Ubuntu 9.4.0-1ubuntu1~20.04.2) 9.4.0 Ubuntu 20.04 ARM SVE Kernel: Depends on container host Compiler: gcc (Ubuntu 10.5.0-1ubuntu1~20.04) 10.5.0 Debian 12 with MUSDK Kernel: Depends on container host Compiler: gcc (Debian 12.2.0-14) 12.2.0 Fedora 40 (ARM) Kernel: Depends on container host Compiler: gcc 14.2.1 20240912 (Red Hat 14.2.1-3) Fedora 40 (ARM Clang) Kernel: Depends on container host Compiler: clang 18.1.8 (Fedora 18.1.8-1.fc40) Fedora 41 (ARM) Kernel: Depends on container host Compiler: gcc 14.2.1 20240912 (Red Hat 14.2.1-3) Fedora 41 (ARM Clang) Kernel: Depends on container host Compiler: clang 19.1.5 (Fedora 19.1.5-1.fc41) Ubuntu 20.04 (ARM) Kernel: Depends on container host Compiler: gcc (Ubuntu 9.4.0-1ubuntu1~20.04.2) 9.4.0 Ubuntu 22.04 (ARM) Kernel: Depends on container host Compiler: gcc (Ubuntu 11.4.0-1ubuntu1~22.04) 11.4.0 Ubuntu 24.04 (ARM) Kernel: Depends on container host Compiler: gcc (Ubuntu 13.3.0-6ubuntu2~24.04) 13.3.0 CentOS Stream 9 (ARM) Kernel: Depends on container host Compiler: gcc 11.5.0 20240719 (Red Hat 11.5.0-2) CentOS Stream 10 (ARM) Kernel: Depends on container host Compiler: gcc 14.2.1 20241104 (Red Hat 14.2.1-6) Debian 12 (arm) Kernel: Depends on container host Compiler: gcc (Debian 12.2.0-14) 12.2.0 To view detailed results, visit: https://lab.dpdk.org/results/dashboard/tarballs/33384/ UNH-IOL DPDK Community Lab To manage your email subscriptions, visit: https://lab.dpdk.org/results/dashboard/preferences/subscriptions/