From mboxrd@z Thu Jan 1 00:00:00 1970 Return-Path: Received: from mails.dpdk.org (mails.dpdk.org [217.70.189.124]) by inbox.dpdk.org (Postfix) with ESMTP id 1A4064662F for ; Tue, 29 Apr 2025 13:18:45 +0200 (CEST) Received: from mails.dpdk.org (localhost [127.0.0.1]) by mails.dpdk.org (Postfix) with ESMTP id E46084026C; Tue, 29 Apr 2025 13:18:44 +0200 (CEST) Received: from mail-yw1-f228.google.com (mail-yw1-f228.google.com [209.85.128.228]) by mails.dpdk.org (Postfix) with ESMTP id ED51140263 for ; Tue, 29 Apr 2025 13:18:43 +0200 (CEST) Received: by mail-yw1-f228.google.com with SMTP id 00721157ae682-70821dba48eso45351047b3.0 for ; Tue, 29 Apr 2025 04:18:43 -0700 (PDT) DKIM-Signature: v=1; a=rsa-sha256; c=relaxed/relaxed; d=iol.unh.edu; s=unh-iol; t=1745925523; x=1746530323; darn=dpdk.org; h=references:in-reply-to:cc:to:from:subject:message-id:date:from:to :cc:subject:date:message-id:reply-to; bh=CD7P892R9gNvZ0HvZ3t/IdkMk1d+ET6v8m6scJ78vbo=; b=LVHg+NrwmEwrezGo5W1GRe/o3GW7nkL4QCGAo2we4UEMyrdIjgFV+zlPpMb4N6Af0x 6bCjOMQsKT3Kr2JTOYpiT8hurtYaF/iEGqPmMWg48LZThnqIk9Nciv3PoKkKEzf7Ea3e ljxOqMDkvTtNF8rmJ3kEH9R6cXgwOOzWeAsho= X-Google-DKIM-Signature: v=1; a=rsa-sha256; c=relaxed/relaxed; d=1e100.net; s=20230601; t=1745925523; x=1746530323; h=references:in-reply-to:cc:to:from:subject:message-id:date :x-gm-message-state:from:to:cc:subject:date:message-id:reply-to; bh=CD7P892R9gNvZ0HvZ3t/IdkMk1d+ET6v8m6scJ78vbo=; b=Hg/ZzzZtbTrIAAggjP4PdX9pP4l875LesOCjXIYp3UAWv/6mBJstig40lPKOmx564G G+VAjkzoCXUfI9olUPxVQm+AAvzA9lVOZwCzJmlFfJlDBb9ck8LBdh61iGu/L3pusuvF enQHpWit8vbE/wI7Ax54/b05al3ACtyVQ2ub6LEkzO2ytV+W8B4f+RRGXi/QrtiweBac 5cTwFgWUEqF4O4E90uQEUQPvmSz5xQkIBfCeFHasB3h7m43nYu7fqm6TEYx3aNJd4asi TwRRwwNPTX8dr6a4SQMcKoqM01i5xlvRBR4Yijxq4t5uWvuUxqcJTY9Ef56cbURxfjYQ CzAQ== X-Gm-Message-State: AOJu0Yw6Y8cRR7xwmqMSYJt8Dm3kbUVd7cu+PK8ouoFilneGKwHygTr/ FQtpvdLsiQx/NUj6HB+0tz97X50CMx1bapLjXmX909kx/o+ZVI//3tN/YEtMlemcc+VHAVcJK6+ XQidbKfrSBTICFzQ+BTowc21jlkkJWPrEu5i0XyB0 X-Gm-Gg: ASbGncuATL2ZVZQEKIN2vfIjYgExR5JszoJU8lEFCwkY1xuFOqmAdNJ68uaOa+v5FDg bOpgjl3RzkKW/o4jyH6QeaBegE6P2IwZOsXBwNNk09JWASzVJ5kK/hNZKMXyINK1wzZih7OK/RQ T9OHUWL0Gj+Xs9THET5Qsp6r3aTiYp6CbkHyduCUIX3NSB/E9HuZOtCH+tNkQzGoO5mOfwFI5HI MyUGELOAzaRI+4OA7HIhNrWvMV3ru02YYLoiYYCO7RiM9PVOCSsaEd4L1zwfxHkJ5cY9JmFF0Ob 2v4uTODMO/6xU1q1+F2IrHVay9J8P3N92rEk X-Google-Smtp-Source: AGHT+IFm51x+ThuNWr4uuRZ8t1C7oXiG48ifmSIXp/tubSLHoGQIQBn9V10Z942ry5r9fYc2PktA1wgE51uJ X-Received: by 2002:a05:690c:4588:b0:708:1852:9897 with SMTP id 00721157ae682-7085f185148mr197376877b3.11.1745925522993; Tue, 29 Apr 2025 04:18:42 -0700 (PDT) Received: from postal.iol.unh.edu (postal.iol.unh.edu. [132.177.123.84]) by smtp-relay.gmail.com with ESMTPS id 00721157ae682-70841af46c1sm13153237b3.67.2025.04.29.04.18.42 (version=TLS1_2 cipher=ECDHE-ECDSA-AES128-GCM-SHA256 bits=128/128); Tue, 29 Apr 2025 04:18:42 -0700 (PDT) X-Relaying-Domain: iol.unh.edu Date: Tue, 29 Apr 2025 04:18:42 -0700 (PDT) Message-ID: <6810b592.0d0a0220.2e7d2a.3354SMTPIN_ADDED_MISSING@mx.google.com> Received: from [172.17.0.5] (unknown [172.18.0.74]) by postal.iol.unh.edu (Postfix) with ESMTP id 84F5B6052471; Tue, 29 Apr 2025 07:18:42 -0400 (EDT) Subject: |SUCCESS| pw153186 [PATCH] app/crypto-perf: add RSA test vectors From: dpdklab@iol.unh.edu To: Test Report Cc: dpdk-test-reports@iol.unh.edu In-Reply-To: <20250429095856.1915-1-gmuthukrishn@marvell.com> References: <20250429095856.1915-1-gmuthukrishn@marvell.com> Content-Type: text/plain X-BeenThere: test-report@dpdk.org X-Mailman-Version: 2.1.29 Precedence: list List-Id: automatic DPDK test reports List-Unsubscribe: , List-Archive: List-Post: List-Help: List-Subscribe: , Errors-To: test-report-bounces@dpdk.org Test-Label: iol-unit-arm64-testing Test-Status: SUCCESS http://dpdk.org/patch/153186 _Testing PASS_ Submitter: Gowrishankar Muthukrishnan Date: Tuesday, April 29 2025 09:58:52 DPDK git baseline: Repo:dpdk Branch: master CommitID:ca1690ebd224f148268285b15b97441ccdbdd07e 153186 --> testing pass Upstream job id: Generic-Unit-Test-DPDK#334211 Test environment and result as below: +------------------------+----------------+--------------+------------------------------+---------------------------+ | Environment | dpdk_unit_test | lpm_autotest | cryptodev_sw_snow3g_autotest | cryptodev_sw_zuc_autotest | +========================+================+==============+==============================+===========================+ | Fedora 40 (ARM) | PASS | SKIPPED | SKIPPED | SKIPPED | +------------------------+----------------+--------------+------------------------------+---------------------------+ | CentOS Stream 9 (ARM) | PASS | SKIPPED | SKIPPED | SKIPPED | +------------------------+----------------+--------------+------------------------------+---------------------------+ | Debian 12 (arm) | PASS | SKIPPED | PASS | PASS | +------------------------+----------------+--------------+------------------------------+---------------------------+ | CentOS Stream 10 (ARM) | PASS | SKIPPED | SKIPPED | SKIPPED | +------------------------+----------------+--------------+------------------------------+---------------------------+ | Ubuntu 22.04 (ARM) | PASS | SKIPPED | SKIPPED | SKIPPED | +------------------------+----------------+--------------+------------------------------+---------------------------+ | Fedora 41 (ARM) | PASS | SKIPPED | SKIPPED | SKIPPED | +------------------------+----------------+--------------+------------------------------+---------------------------+ | Ubuntu 20.04 (ARM) | PASS | SKIPPED | SKIPPED | SKIPPED | +------------------------+----------------+--------------+------------------------------+---------------------------+ | Fedora 40 (ARM Clang) | PASS | SKIPPED | SKIPPED | SKIPPED | +------------------------+----------------+--------------+------------------------------+---------------------------+ | Fedora 41 (ARM Clang) | PASS | SKIPPED | SKIPPED | SKIPPED | +------------------------+----------------+--------------+------------------------------+---------------------------+ | RHEL9 (ARM) | PASS | SKIPPED | SKIPPED | SKIPPED | +------------------------+----------------+--------------+------------------------------+---------------------------+ | Ubuntu 24.04 (ARM) | PASS | SKIPPED | SKIPPED | SKIPPED | +------------------------+----------------+--------------+------------------------------+---------------------------+ | Ubuntu 20.04 ARM SVE | SKIPPED | PASS | SKIPPED | SKIPPED | +------------------------+----------------+--------------+------------------------------+---------------------------+ Fedora 40 (ARM) Kernel: Depends on container host Compiler: gcc 14.2.1 20240912 (Red Hat 14.2.1-3) CentOS Stream 9 (ARM) Kernel: Depends on container host Compiler: gcc 11.5.0 20240719 (Red Hat 11.5.0-2) Debian 12 (arm) Kernel: Depends on container host Compiler: gcc (Debian 12.2.0-14) 12.2.0 CentOS Stream 10 (ARM) Kernel: Depends on container host Compiler: gcc 14.2.1 20241104 (Red Hat 14.2.1-6) Ubuntu 22.04 (ARM) Kernel: Depends on container host Compiler: gcc (Ubuntu 11.4.0-1ubuntu1~22.04) 11.4.0 Fedora 41 (ARM) Kernel: Depends on container host Compiler: gcc 14.2.1 20240912 (Red Hat 14.2.1-3) Ubuntu 20.04 (ARM) Kernel: Depends on container host Compiler: gcc (Ubuntu 9.4.0-1ubuntu1~20.04.2) 9.4.0 Fedora 40 (ARM Clang) Kernel: Depends on container host Compiler: clang 18.1.8 (Fedora 18.1.8-1.fc40) Fedora 41 (ARM Clang) Kernel: Depends on container host Compiler: clang 19.1.5 (Fedora 19.1.5-1.fc41) RHEL9 (ARM) Kernel: Depends on container host Compiler: gcc 11.5.0 20240719 (Red Hat 11.5.0-2) Ubuntu 24.04 (ARM) Kernel: Depends on container host Compiler: gcc (Ubuntu 13.3.0-6ubuntu2~24.04) 13.3.0 Ubuntu 20.04 ARM SVE Kernel: Depends on container host Compiler: gcc (Ubuntu 10.5.0-1ubuntu1~20.04) 10.5.0 To view detailed results, visit: https://lab.dpdk.org/results/dashboard/patchsets/33086/ UNH-IOL DPDK Community Lab To manage your email subscriptions, visit: https://lab.dpdk.org/results/dashboard/preferences/subscriptions/