From mboxrd@z Thu Jan 1 00:00:00 1970 Return-Path: Received: from mails.dpdk.org (mails.dpdk.org [217.70.189.124]) by inbox.dpdk.org (Postfix) with ESMTP id 11C554662F for ; Tue, 29 Apr 2025 13:28:28 +0200 (CEST) Received: from mails.dpdk.org (localhost [127.0.0.1]) by mails.dpdk.org (Postfix) with ESMTP id DF6954026C; Tue, 29 Apr 2025 13:28:27 +0200 (CEST) Received: from mail-il1-f226.google.com (mail-il1-f226.google.com [209.85.166.226]) by mails.dpdk.org (Postfix) with ESMTP id 6569840263 for ; Tue, 29 Apr 2025 13:28:26 +0200 (CEST) Received: by mail-il1-f226.google.com with SMTP id e9e14a558f8ab-3d6d6d82633so20015055ab.0 for ; Tue, 29 Apr 2025 04:28:26 -0700 (PDT) DKIM-Signature: v=1; a=rsa-sha256; c=relaxed/relaxed; d=iol.unh.edu; s=unh-iol; t=1745926105; x=1746530905; darn=dpdk.org; h=references:in-reply-to:cc:to:from:subject:message-id:date:from:to :cc:subject:date:message-id:reply-to; bh=r0bie/WVIzWWdba5GZIUqH5YK4ZDOFfaGW1TeDdqGNU=; b=Ne5x8RJ/xTCzgLQfzN4W2XEL1BdXolGjUnq5FNTmd+JdDW/tf2Uc7tD4vhZcrcBtCn wZsZ2zm/D3+sygq8WjdlE2cpKTvQcT9c/l/sGHh37jJ32fz/44Cz7N5IAitfl9KLFkml 5EiTmG1pjv8+kxkVyN5Wfda3bT//ZOriztqG4= X-Google-DKIM-Signature: v=1; a=rsa-sha256; c=relaxed/relaxed; d=1e100.net; s=20230601; t=1745926105; x=1746530905; h=references:in-reply-to:cc:to:from:subject:message-id:date :x-gm-message-state:from:to:cc:subject:date:message-id:reply-to; bh=r0bie/WVIzWWdba5GZIUqH5YK4ZDOFfaGW1TeDdqGNU=; b=Z0j5fWFYpq9CKDd3LNJp6aFO2z6KHks9tm4VqZ28Y16tQ9Y+TsH/KLEnPzXSc8V14L W4bxiRdpsla02x235yN3TC8AEt4ZYKa2pJDc6xDyC7OfKzh1doTd+djjVdDO1U1MHHHh B7JkbpaNBTDg3luGGGaW6Q+m3fd+NfTW74m0s6xkd0rURYQN4yOsk/Ep4u9OmA8dpgYk lgAcPbp2sk4I2G+TeBwVBFovfhpRCWVxK/PMS4mZGN3FrCrNvpyKnLgqYTjr+BX+XweQ i0LTXrEnkfbus6JVb7ti+r8EHD+WJRFa23HP1H94ktA8nrSwah8xWQ99v0dX3NPlXh8L kzKg== X-Gm-Message-State: AOJu0Yw4xjdHzKNliHT1Orl2PQgjd2s0cmRDqgJ66paUP8kEQn6uV7YA 8upAoDh3FcPMu5UvZLXsrtOX+N9b+LELSNBSzjvOfqRV9P0HiP47VpIo98wEOf03DAu0lI8Iyg9 bUhCA8AkxzpFoPBqUDuWYRUjeOHqP6eYT7niJzGA6 X-Gm-Gg: ASbGncs+i+HqKrwMdhQkWpNg+hoz1DZgFPw8kD3oAA30fdJO2b5o/Xcu9abm7NL05BZ bYpntVYH7jJF6wTQiifENAbc9Y/yHADSdtKk3sNRNyJjX51KQf/8N88yL4LKsh521wUtcRXsyJ6 tRwjhbjpdYyzP/rmaspwQrGBHZdY6S/RgRo3Kfevn3NwC2XkNiLcqZufSiIkwj80Z5x4WW7k+F1 fvLA26DG3lbbXvZml2vAv+5s9DksMxiaD2zOsXzLZYrW/FAd3BaYlZA8CtcI2zfJlFgVWQgdTPG DZiLSg8zFWyI8chXMxCyjScQTzBGLjEwztBT X-Google-Smtp-Source: AGHT+IFCZdhFSUn2hUCCmdEmbyNU5fe96fSgQP9aA3tb9nR0fUOijavGLS7rEZSvvbyDjpQ/fYQcNZX44bBV X-Received: by 2002:a05:6e02:18c9:b0:3d6:d179:a311 with SMTP id e9e14a558f8ab-3d95df4616fmr21203155ab.6.1745926105649; Tue, 29 Apr 2025 04:28:25 -0700 (PDT) Received: from postal.iol.unh.edu (postal.iol.unh.edu. [132.177.123.84]) by smtp-relay.gmail.com with ESMTPS id e9e14a558f8ab-3d95f2b86eesm1681925ab.7.2025.04.29.04.28.25 (version=TLS1_2 cipher=ECDHE-ECDSA-AES128-GCM-SHA256 bits=128/128); Tue, 29 Apr 2025 04:28:25 -0700 (PDT) X-Relaying-Domain: iol.unh.edu Date: Tue, 29 Apr 2025 04:28:25 -0700 (PDT) Message-ID: <6810b7d9.050a0220.7c23d.3358SMTPIN_ADDED_MISSING@mx.google.com> Received: from [172.17.0.2] (unknown [172.18.0.74]) by postal.iol.unh.edu (Postfix) with ESMTP id 06CB06052471; Tue, 29 Apr 2025 07:28:25 -0400 (EDT) Subject: |SUCCESS| pw153186 [PATCH] app/crypto-perf: add RSA test vectors From: dpdklab@iol.unh.edu To: Test Report Cc: dpdk-test-reports@iol.unh.edu In-Reply-To: <20250429095856.1915-1-gmuthukrishn@marvell.com> References: <20250429095856.1915-1-gmuthukrishn@marvell.com> Content-Type: text/plain X-BeenThere: test-report@dpdk.org X-Mailman-Version: 2.1.29 Precedence: list List-Id: automatic DPDK test reports List-Unsubscribe: , List-Archive: List-Post: List-Help: List-Subscribe: , Errors-To: test-report-bounces@dpdk.org Test-Label: iol-abi-testing Test-Status: SUCCESS http://dpdk.org/patch/153186 _Testing PASS_ Submitter: Gowrishankar Muthukrishnan Date: Tuesday, April 29 2025 09:58:52 DPDK git baseline: Repo:dpdk Branch: master CommitID:ca1690ebd224f148268285b15b97441ccdbdd07e 153186 --> testing pass Upstream job id: Generic-DPDK-Compile-ABI#124753 Test environment and result as below: +-------------------+----------+ | Environment | abi_test | +===================+==========+ | CentOS Stream 9 | PASS | +-------------------+----------+ | Debian 12 | PASS | +-------------------+----------+ | Fedora 40 (Clang) | PASS | +-------------------+----------+ | CentOS Stream 10 | PASS | +-------------------+----------+ | Fedora 40 | PASS | +-------------------+----------+ | Fedora 41 (Clang) | PASS | +-------------------+----------+ | openSUSE Leap 15 | PASS | +-------------------+----------+ | Fedora 41 | PASS | +-------------------+----------+ | RHEL8 | PASS | +-------------------+----------+ | RHEL9 | PASS | +-------------------+----------+ | Ubuntu 24.04 | PASS | +-------------------+----------+ | Ubuntu 22.04 | PASS | +-------------------+----------+ CentOS Stream 9 Kernel: Depends on container host Compiler: gcc 11.5.0 20240719 (Red Hat 11.5.0-2) Debian 12 Kernel: Depends on container host Compiler: gcc (Debian 12.2.0-14) 12.2.0 Fedora 40 (Clang) Kernel: Depends on container host Compiler: clang 18.1.8 (Fedora 18.1.8-1.fc40) CentOS Stream 10 Kernel: Depends on container host Compiler: gcc 14.2.1 20241104 (Red Hat 14.2.1-6) Fedora 40 Kernel: Depends on container host Compiler: gcc 14.2.1 20240912 (Red Hat 14.2.1-3) Fedora 41 (Clang) Kernel: Depends on container host Compiler: clang 19.1.5 (Fedora 19.1.5-1.fc41) openSUSE Leap 15 Kernel: Depends on container host Compiler: gcc (SUSE Linux) 7.5.0 Fedora 41 Kernel: Depends on container host Compiler: gcc 14.2.1 20240912 (Red Hat 14.2.1-3) RHEL8 Kernel: Depends on container host Compiler: gcc 8.5.0 20210514 (Red Hat 8.5.0-22) RHEL9 Kernel: Depends on container host Compiler: gcc 11.5.0 20240719 (Red Hat 11.5.0-2) Ubuntu 24.04 Kernel: Depends on container host Compiler: gcc (Ubuntu 13.3.0-6ubuntu2~24.04) 13.3.0 Ubuntu 22.04 Kernel: Depends on container host Compiler: gcc (Ubuntu 11.4.0-1ubuntu1~22.04) 11.4.0 To view detailed results, visit: https://lab.dpdk.org/results/dashboard/patchsets/33086/ UNH-IOL DPDK Community Lab To manage your email subscriptions, visit: https://lab.dpdk.org/results/dashboard/preferences/subscriptions/