From mboxrd@z Thu Jan 1 00:00:00 1970 Return-Path: Received: from mails.dpdk.org (mails.dpdk.org [217.70.189.124]) by inbox.dpdk.org (Postfix) with ESMTP id F091D4662F for ; Tue, 29 Apr 2025 13:35:04 +0200 (CEST) Received: from mails.dpdk.org (localhost [127.0.0.1]) by mails.dpdk.org (Postfix) with ESMTP id ED7E84026C; Tue, 29 Apr 2025 13:35:04 +0200 (CEST) Received: from mail-pj1-f97.google.com (mail-pj1-f97.google.com [209.85.216.97]) by mails.dpdk.org (Postfix) with ESMTP id D0F1440263 for ; Tue, 29 Apr 2025 13:35:03 +0200 (CEST) Received: by mail-pj1-f97.google.com with SMTP id 98e67ed59e1d1-309f3bf23b8so6436832a91.3 for ; Tue, 29 Apr 2025 04:35:03 -0700 (PDT) DKIM-Signature: v=1; a=rsa-sha256; c=relaxed/relaxed; d=iol.unh.edu; s=unh-iol; t=1745926503; x=1746531303; darn=dpdk.org; h=references:in-reply-to:cc:to:from:subject:message-id:date:from:to :cc:subject:date:message-id:reply-to; bh=c8ouGA5RKxhefwThyDDwR7Sg++0AkJHJex40jPxEyh0=; b=dEel2FzWjpByM7c017rSqzOA001te5+nwIoLOkiMJ53MTVI9wKng/z3buc44f8ZfI3 PYBlWb4nIMoy9NtgjUO3qV0E76Wq9o6GfKTg1EsTJ3R7YTHTFs+gCTuSfciLWGG++Tfi Xx0vuoZrI/xfCgms6nzOxvEoqshcN1PBq+Lvo= X-Google-DKIM-Signature: v=1; a=rsa-sha256; c=relaxed/relaxed; d=1e100.net; s=20230601; t=1745926503; x=1746531303; h=references:in-reply-to:cc:to:from:subject:message-id:date :x-gm-message-state:from:to:cc:subject:date:message-id:reply-to; bh=c8ouGA5RKxhefwThyDDwR7Sg++0AkJHJex40jPxEyh0=; b=Nx8qKbeOKxwmgurmDJOl0YDx9icsAaxapwEni4qhYlavMOUa/TXFpzYvU4fEDUpknI gmcn63ppuWJCoEUhtIUPK+AjkXdv9CFYzS0lbQKA9H85FOviE8EXgNT86McQVwuHu3b4 EFqPVIMTM9eKvc5yTIf0RwpIuix6H3AODs6ZCLqKzO9PUPe2I0ZTz4wPAdgTsNYl/8Sy iPl5Tb/htdmh65CyXYnkfj+8VBMFQFCWcAWqvFytZ8OK53UzEkMF/RqHvN0UbCCFtJoU muMTz/dEq8SwofG9zvn0jZ5CcIGx7e4FYEjW5c7HeFFY/lXD9c8HiSrq+QQTjOsfHakv ptwQ== X-Gm-Message-State: AOJu0Yz71nNo321yw9Sl+SZWAuqUed9MiApZaP6H/CPLEI4ArctLFPw4 JrxK/SEH+vFFekK+sE3Oy5J7yW8f/2FslM++59vILTa3J/KvMjnZxTfs9T7P/iik9H3Cd6LBejD ZqRfq9vfTQRH2hW+w6UQeT/ev6wWf+EoEDXUwadNz X-Gm-Gg: ASbGncuicfALSlbB+6lr4zEWIWCKtHLUYH/SOeRvGfHXPEk2NTa+hzdp+eKcDrGwD0F DCihZDRD8Veyh5gjax+0c1rz5CUDjxIeHxpeYAysTfnNfykc5zQBkePFT2a5OZJOeH4N/VFSDK8 9CC9JXXLZMobB5VOgXsj4Rdr35bsTsKIpPyQTlzjZFA0r+flcrZW59KoX1PV7F80NiAR3wU4soB kEHAAN7RNG7GfbESyOlR9nAjX7ZJEXEaQt465JgknxYgx385zbqVXjmh5fUUcibbXr32lH/LNea h47+CnYSC3E9FIKMxvhSPL53fi2Gvu34vAxy X-Google-Smtp-Source: AGHT+IHPVDSL7jakxndesdaG2gK0H3zMLjHXpsSesy5Z+/RNcaisIQ5Uk+4Bm4mE7ya3EBAOJUwG3saTwzys X-Received: by 2002:a17:90b:274b:b0:2ff:6a5f:9b39 with SMTP id 98e67ed59e1d1-30a0133e848mr21618305a91.18.1745926503054; Tue, 29 Apr 2025 04:35:03 -0700 (PDT) Received: from postal.iol.unh.edu (postal.iol.unh.edu. [132.177.123.84]) by smtp-relay.gmail.com with ESMTPS id 98e67ed59e1d1-309f783b04esm1416783a91.15.2025.04.29.04.35.02 (version=TLS1_2 cipher=ECDHE-ECDSA-AES128-GCM-SHA256 bits=128/128); Tue, 29 Apr 2025 04:35:03 -0700 (PDT) X-Relaying-Domain: iol.unh.edu Date: Tue, 29 Apr 2025 04:35:03 -0700 (PDT) Message-ID: <6810b967.170a0220.36fdc0.bb5eSMTPIN_ADDED_MISSING@mx.google.com> Received: from [172.17.0.2] (unknown [172.18.0.74]) by postal.iol.unh.edu (Postfix) with ESMTP id 388486052471; Tue, 29 Apr 2025 07:35:02 -0400 (EDT) Subject: |SUCCESS| pw153186 [PATCH] app/crypto-perf: add RSA test vectors From: dpdklab@iol.unh.edu To: Test Report Cc: dpdk-test-reports@iol.unh.edu In-Reply-To: <20250429095856.1915-1-gmuthukrishn@marvell.com> References: <20250429095856.1915-1-gmuthukrishn@marvell.com> Content-Type: text/plain X-BeenThere: test-report@dpdk.org X-Mailman-Version: 2.1.29 Precedence: list List-Id: automatic DPDK test reports List-Unsubscribe: , List-Archive: List-Post: List-Help: List-Subscribe: , Errors-To: test-report-bounces@dpdk.org Test-Label: iol-unit-amd64-testing Test-Status: SUCCESS http://dpdk.org/patch/153186 _Testing PASS_ Submitter: Gowrishankar Muthukrishnan Date: Tuesday, April 29 2025 09:58:52 DPDK git baseline: Repo:dpdk Branch: master CommitID:ca1690ebd224f148268285b15b97441ccdbdd07e 153186 --> testing pass Upstream job id: Generic-VM-Unit-Test-DPDK#28233 Test environment and result as below: +---------------------+----------------+ | Environment | dpdk_unit_test | +=====================+================+ | CentOS Stream 9 | PASS | +---------------------+----------------+ | Fedora 41 (Clang) | PASS | +---------------------+----------------+ | Fedora 41 | PASS | +---------------------+----------------+ | Debian 12 | PASS | +---------------------+----------------+ | Fedora 40 | PASS | +---------------------+----------------+ | CentOS Stream 10 | PASS | +---------------------+----------------+ | Fedora 40 (Clang) | PASS | +---------------------+----------------+ | Ubuntu 24.04 | PASS | +---------------------+----------------+ | RHEL8 | PASS | +---------------------+----------------+ | RHEL9 | PASS | +---------------------+----------------+ | Ubuntu 20.04 | PASS | +---------------------+----------------+ | Ubuntu 22.04 | PASS | +---------------------+----------------+ | Windows Server 2022 | PASS | +---------------------+----------------+ CentOS Stream 9 Kernel: Depends on container host Compiler: gcc 11.5.0 20240719 (Red Hat 11.5.0-2) Fedora 41 (Clang) Kernel: Depends on container host Compiler: clang 19.1.5 (Fedora 19.1.5-1.fc41) Fedora 41 Kernel: Depends on container host Compiler: gcc 14.2.1 20240912 (Red Hat 14.2.1-3) Debian 12 Kernel: Depends on container host Compiler: gcc (Debian 12.2.0-14) 12.2.0 Fedora 40 Kernel: Depends on container host Compiler: gcc 14.2.1 20240912 (Red Hat 14.2.1-3) CentOS Stream 10 Kernel: Depends on container host Compiler: gcc 14.2.1 20241104 (Red Hat 14.2.1-6) Fedora 40 (Clang) Kernel: Depends on container host Compiler: clang 18.1.8 (Fedora 18.1.8-1.fc40) Ubuntu 24.04 Kernel: Depends on container host Compiler: gcc (Ubuntu 13.3.0-6ubuntu2~24.04) 13.3.0 RHEL8 Kernel: Depends on container host Compiler: gcc 8.5.0 20210514 (Red Hat 8.5.0-22) RHEL9 Kernel: Depends on container host Compiler: gcc 11.5.0 20240719 (Red Hat 11.5.0-2) Ubuntu 20.04 Kernel: Depends on container host Compiler: gcc (Ubuntu 9.4.0-1ubuntu1~20.04.2) 9.4.0 Ubuntu 22.04 Kernel: Depends on container host Compiler: gcc (Ubuntu 11.4.0-1ubuntu1~22.04) 11.4.0 Windows Server 2022 Kernel: 10.0.20348.2031 Compiler: clang 15.0.7, gcc 14.1.0 (MinGW), and MSVC VS 19.39.33521 To view detailed results, visit: https://lab.dpdk.org/results/dashboard/patchsets/33086/ UNH-IOL DPDK Community Lab To manage your email subscriptions, visit: https://lab.dpdk.org/results/dashboard/preferences/subscriptions/