From mboxrd@z Thu Jan 1 00:00:00 1970 Return-Path: Received: from mails.dpdk.org (mails.dpdk.org [217.70.189.124]) by inbox.dpdk.org (Postfix) with ESMTP id EA7A44662F for ; Tue, 29 Apr 2025 13:43:45 +0200 (CEST) Received: from mails.dpdk.org (localhost [127.0.0.1]) by mails.dpdk.org (Postfix) with ESMTP id A8D3E4026C; Tue, 29 Apr 2025 13:43:45 +0200 (CEST) Received: from mail-pl1-f226.google.com (mail-pl1-f226.google.com [209.85.214.226]) by mails.dpdk.org (Postfix) with ESMTP id 4037740263 for ; Tue, 29 Apr 2025 13:43:44 +0200 (CEST) Received: by mail-pl1-f226.google.com with SMTP id d9443c01a7336-227c7e57da2so49572305ad.0 for ; Tue, 29 Apr 2025 04:43:44 -0700 (PDT) DKIM-Signature: v=1; a=rsa-sha256; c=relaxed/relaxed; d=iol.unh.edu; s=unh-iol; t=1745927023; x=1746531823; darn=dpdk.org; h=references:in-reply-to:cc:to:from:subject:message-id:date:from:to :cc:subject:date:message-id:reply-to; bh=TZCcUhg+yCQRa+V0NDnuZndwvqAPvHnVaSFgnGXD2q8=; b=OVn9k6AnJEB0tnQG4jgPbRTzt5ZDN4gi1rbw/81F5x1syemcCxOF4Wd6V37BHstJXV F6U/PoXRN8Yb/CDVLvPJ1NRfyBWliXWBydGbwsVR+Yw+m1GPAsjZE7m9mF7gLwYOFz3i 1i03YlrI68+0HvH0UQ/yq/LVE9PH2IIXBqJoM= X-Google-DKIM-Signature: v=1; a=rsa-sha256; c=relaxed/relaxed; d=1e100.net; s=20230601; t=1745927023; x=1746531823; h=references:in-reply-to:cc:to:from:subject:message-id:date :x-gm-message-state:from:to:cc:subject:date:message-id:reply-to; bh=TZCcUhg+yCQRa+V0NDnuZndwvqAPvHnVaSFgnGXD2q8=; b=mLG7REyMcQpRazkra6E58VZ9eDbVQB8vBI/mNjuW7aTFuTHdv4CDbXvt0JSZYBez/n HbDqa3mxNJLUcwPBeAgteMt19yTC5EeogDmgG4q6jsn50EfirtFtoZemGiAZLyGSdu54 UJVvOkZKYoutjSzqNwove9IGo1GhnwOBWrVhPE1CeDuhP05LUHNEp7KHlupzxZT46P2v HtC7o1DQcNrktVJJeMx9XMGNQJpm1cfRptv6cVL0cThXfyyKeI9wP9VElX7kft61VPjL 6AJb9WTQ9fW8yUUj/cG4ovj+EL7okLcRdKTIw0G1Yevq+ReUuYfbPFKKkySx8LfdBkKm 5tfQ== X-Gm-Message-State: AOJu0Yy6SUVZpgmq5FCwnuqZNE9UvCUQiEeNco0RzoZDQ2JvpMq7xrcd l95S2T4pikrQWGBwMEuq5NXMIQcLNpezX8g9rVDxtA0f67Pa+gLRMsl1xlcfcvj68z0/JQ8FYAj oO4ndmVzAaOvrJPKEQRWAijDF4K6xOzxJMqJyezwNDY6vpGbL4iOFUYbC X-Gm-Gg: ASbGncus58zOg4OHjNjHuks80AwgZ/LabcXVeei2Wi/YltHZZa0DyaoenBf7CHEVwaY PZ2YBz4xvneQ0VskcSaUQUiM0ukynoCwRd4tZrK5+q86+k1EcgnhVKajMYaxHYMRH5E9z6j+uyr MJ8ni4Zs7FnJ7Eqol8d0zhVEPwt4oEWMKFTI0O5emeSUyMUn+aOVzLAQr9wnnQF0zD9DMQmuNuQ viyeuiwt8DTiWCOAJUPfoNS4DnA8QALShzzMSA+B3IV2Q1YE74ue1EjSeWKgrKlyGt+5FKaP/gX FWYdOXNSEfNGZlP6nUWbfeU6DLo1QjChqoGAYmgdbJfqxLTA X-Google-Smtp-Source: AGHT+IG4MNRoqiCpZalb/2uOCJLyO0fx62R5z+z4SBoLj3ZE9behN8e2q/75xTzjJMW+qvA7PPFUvNhd57xS X-Received: by 2002:a17:902:ce0b:b0:223:4e54:d2c8 with SMTP id d9443c01a7336-22dc6a00e93mr185774015ad.21.1745927023294; Tue, 29 Apr 2025 04:43:43 -0700 (PDT) Received: from postal.iol.unh.edu (postal.iol.unh.edu. [2606:4100:3880:1234::84]) by smtp-relay.gmail.com with ESMTPS id d9443c01a7336-22db4da02f0sm13795465ad.13.2025.04.29.04.43.43 (version=TLS1_2 cipher=ECDHE-ECDSA-AES128-GCM-SHA256 bits=128/128); Tue, 29 Apr 2025 04:43:43 -0700 (PDT) X-Relaying-Domain: iol.unh.edu Date: Tue, 29 Apr 2025 04:43:43 -0700 (PDT) Message-ID: <6810bb6f.170a0220.1169ed.dc09SMTPIN_ADDED_MISSING@mx.google.com> Received: from [172.17.0.2] (unknown [172.18.0.74]) by postal.iol.unh.edu (Postfix) with ESMTP id 5C6A26052471; Tue, 29 Apr 2025 07:43:42 -0400 (EDT) Subject: |SUCCESS| pw153186 [PATCH] app/crypto-perf: add RSA test vectors From: dpdklab@iol.unh.edu To: Test Report Cc: dpdk-test-reports@iol.unh.edu In-Reply-To: <20250429095856.1915-1-gmuthukrishn@marvell.com> References: <20250429095856.1915-1-gmuthukrishn@marvell.com> Content-Type: text/plain X-BeenThere: test-report@dpdk.org X-Mailman-Version: 2.1.29 Precedence: list List-Id: automatic DPDK test reports List-Unsubscribe: , List-Archive: List-Post: List-Help: List-Subscribe: , Errors-To: test-report-bounces@dpdk.org Test-Label: iol-unit-arm64-testing Test-Status: SUCCESS http://dpdk.org/patch/153186 _Testing PASS_ Submitter: Gowrishankar Muthukrishnan Date: Tuesday, April 29 2025 09:58:52 DPDK git baseline: Repo:dpdk Branch: master CommitID:ca1690ebd224f148268285b15b97441ccdbdd07e 153186 --> testing pass Upstream job id: Aarch32-Unit-Test#6088 Test environment and result as below: +-----------------------------+----------------+--------------+------------------------------+---------------------------+ | Environment | dpdk_unit_test | lpm_autotest | cryptodev_sw_snow3g_autotest | cryptodev_sw_zuc_autotest | +=============================+================+==============+==============================+===========================+ | Fedora 40 (ARM) | PASS | SKIPPED | SKIPPED | SKIPPED | +-----------------------------+----------------+--------------+------------------------------+---------------------------+ | CentOS Stream 9 (ARM) | PASS | SKIPPED | SKIPPED | SKIPPED | +-----------------------------+----------------+--------------+------------------------------+---------------------------+ | Debian 12 (arm) | PASS | SKIPPED | PASS | PASS | +-----------------------------+----------------+--------------+------------------------------+---------------------------+ | CentOS Stream 10 (ARM) | PASS | SKIPPED | SKIPPED | SKIPPED | +-----------------------------+----------------+--------------+------------------------------+---------------------------+ | Ubuntu 22.04 (ARM) | PASS | SKIPPED | SKIPPED | SKIPPED | +-----------------------------+----------------+--------------+------------------------------+---------------------------+ | Fedora 41 (ARM) | PASS | SKIPPED | SKIPPED | SKIPPED | +-----------------------------+----------------+--------------+------------------------------+---------------------------+ | Ubuntu 20.04 (ARM) | PASS | SKIPPED | SKIPPED | SKIPPED | +-----------------------------+----------------+--------------+------------------------------+---------------------------+ | Fedora 40 (ARM Clang) | PASS | SKIPPED | SKIPPED | SKIPPED | +-----------------------------+----------------+--------------+------------------------------+---------------------------+ | Fedora 41 (ARM Clang) | PASS | SKIPPED | SKIPPED | SKIPPED | +-----------------------------+----------------+--------------+------------------------------+---------------------------+ | RHEL9 (ARM) | PASS | SKIPPED | SKIPPED | SKIPPED | +-----------------------------+----------------+--------------+------------------------------+---------------------------+ | Ubuntu 24.04 (ARM) | PASS | SKIPPED | SKIPPED | SKIPPED | +-----------------------------+----------------+--------------+------------------------------+---------------------------+ | 32-bit Ubuntu 22.04.4 (ARM) | PASS | SKIPPED | SKIPPED | SKIPPED | +-----------------------------+----------------+--------------+------------------------------+---------------------------+ | Ubuntu 20.04 ARM SVE | SKIPPED | PASS | SKIPPED | SKIPPED | +-----------------------------+----------------+--------------+------------------------------+---------------------------+ Fedora 40 (ARM) Kernel: Depends on container host Compiler: gcc 14.2.1 20240912 (Red Hat 14.2.1-3) CentOS Stream 9 (ARM) Kernel: Depends on container host Compiler: gcc 11.5.0 20240719 (Red Hat 11.5.0-2) Debian 12 (arm) Kernel: Depends on container host Compiler: gcc (Debian 12.2.0-14) 12.2.0 CentOS Stream 10 (ARM) Kernel: Depends on container host Compiler: gcc 14.2.1 20241104 (Red Hat 14.2.1-6) Ubuntu 22.04 (ARM) Kernel: Depends on container host Compiler: gcc (Ubuntu 11.4.0-1ubuntu1~22.04) 11.4.0 Fedora 41 (ARM) Kernel: Depends on container host Compiler: gcc 14.2.1 20240912 (Red Hat 14.2.1-3) Ubuntu 20.04 (ARM) Kernel: Depends on container host Compiler: gcc (Ubuntu 9.4.0-1ubuntu1~20.04.2) 9.4.0 Fedora 40 (ARM Clang) Kernel: Depends on container host Compiler: clang 18.1.8 (Fedora 18.1.8-1.fc40) Fedora 41 (ARM Clang) Kernel: Depends on container host Compiler: clang 19.1.5 (Fedora 19.1.5-1.fc41) RHEL9 (ARM) Kernel: Depends on container host Compiler: gcc 11.5.0 20240719 (Red Hat 11.5.0-2) Ubuntu 24.04 (ARM) Kernel: Depends on container host Compiler: gcc (Ubuntu 13.3.0-6ubuntu2~24.04) 13.3.0 32-bit Ubuntu 22.04.4 (ARM) Kernel: 5.15.83+ aarch64 Compiler: gcc (Ubuntu 11.4.0-1ubuntu1~22.04) 11.4.0 Ubuntu 20.04 ARM SVE Kernel: Depends on container host Compiler: gcc (Ubuntu 10.5.0-1ubuntu1~20.04) 10.5.0 To view detailed results, visit: https://lab.dpdk.org/results/dashboard/patchsets/33086/ UNH-IOL DPDK Community Lab To manage your email subscriptions, visit: https://lab.dpdk.org/results/dashboard/preferences/subscriptions/