From mboxrd@z Thu Jan 1 00:00:00 1970 Return-Path: Received: from mails.dpdk.org (mails.dpdk.org [217.70.189.124]) by inbox.dpdk.org (Postfix) with ESMTP id 617054662F for ; Tue, 29 Apr 2025 13:49:24 +0200 (CEST) Received: from mails.dpdk.org (localhost [127.0.0.1]) by mails.dpdk.org (Postfix) with ESMTP id 387E24026C; Tue, 29 Apr 2025 13:49:24 +0200 (CEST) Received: from mail-pl1-f225.google.com (mail-pl1-f225.google.com [209.85.214.225]) by mails.dpdk.org (Postfix) with ESMTP id 9B29740263 for ; Tue, 29 Apr 2025 13:49:22 +0200 (CEST) Received: by mail-pl1-f225.google.com with SMTP id d9443c01a7336-22438c356c8so63962285ad.1 for ; Tue, 29 Apr 2025 04:49:22 -0700 (PDT) DKIM-Signature: v=1; a=rsa-sha256; c=relaxed/relaxed; d=iol.unh.edu; s=unh-iol; t=1745927361; x=1746532161; darn=dpdk.org; h=references:in-reply-to:cc:to:from:subject:message-id:date:from:to :cc:subject:date:message-id:reply-to; bh=zfruYDymgIuCvfCl8wRZweKZCUadyhsuGn8Wr41VTHk=; b=T48k7zr2eO+cDg2v0sakY+O557W2vtUL8hbPxLXHF3WqCcrc54auBCwB5KHmMY2gCQ +92tnzBKaqUxvaL1yiCg0+oGMWgX6ALXn602EZbsXRA9JUMQ0XhFf+3OTmzLX2ktSeT/ yWMVchV8HE1qJhROSgkxN/PL+QOyQuO6mCBRc= X-Google-DKIM-Signature: v=1; a=rsa-sha256; c=relaxed/relaxed; d=1e100.net; s=20230601; t=1745927361; x=1746532161; h=references:in-reply-to:cc:to:from:subject:message-id:date :x-gm-message-state:from:to:cc:subject:date:message-id:reply-to; bh=zfruYDymgIuCvfCl8wRZweKZCUadyhsuGn8Wr41VTHk=; b=hXfisPHoeduc0VgchkzHenth6Vw0C66PhTA2+COsDK0pTFgEEqGXqpVNUWec1/ZNG9 eFlsFh7PT7wMxB56HDrCjXlD0vmgvkmxzTLqnCSww4ycXWodnhlAOPlGrYa3Kv/MAolo D5iPG9R4A1yG1qk0unVTmLj6Cwxsk3fUB769XhqlbzF3bwUfe3KlT0rxvl+ne53V1AvX x+OYKCV5xklQKdnZcMO/sc9IFwfUZnSlwBLGalCMfK68i9jXTvMzyG9jlsKeef2y7ZYk 770wDn4xEffB0jYSaipJ1mXAKF9gKR6J6zkS7ZfCb25vC1FNAyVpHhmzsGQgqqNm1+0k 8hcw== X-Gm-Message-State: AOJu0YzLtPEQe+PlEirVdesjubm/50GWDtcFORXvf1rTcMh/aSqQahW/ zKGCc3aJqGK8ai+t0/+yx2wLgn51ss6dUY4sPttYDFrDBzqCJy0uEnEhGLBl9eqBsoD8DZoeGc4 i2EQQSDc0Xy99Bmb+cc6zjIh/Te6wdqyZLxZUlfYD+1YJT06CbPpaomg3 X-Gm-Gg: ASbGncvErLm1qxb2iodfQMtof1PKKpbewyy/G+WXFT49IEQqftsQ6fLVnAL2mgD0dk4 eb3Miyt9RpKKuXfMhc6X0Uw/TNrU4ewWj24Igdh3j3BVSGYwOLUXtxOJdIAEZJDPi60/GsEIHjs 3GFj1GMjvQUrNiP48UMhrGE3HRIpCIMFbzsOYu2rqaRc3Ze6hlcHW6tJY+/NZfepC4/X4GN/lin v9K2p7ksXv4YzEwb9b72/sKokkVtAbhLpiigaXcJTevIjbKUvzKW5i4/bJmn5TU1X3TH9SWh034 0Af3jsX/Q+gAz6G1Cd6T34+Ue7JwxO1/G5DSxJeafhMJqiu0 X-Google-Smtp-Source: AGHT+IG6Y1dVvrMrqgj5VPr7tM+/8Wh3stXVhAUo8dQqznh8yoGo67L0LzaEIZVL+clLeNke3uVcCi4m87O5 X-Received: by 2002:a17:903:186:b0:223:66bb:8993 with SMTP id d9443c01a7336-22de6080febmr49761195ad.43.1745927361618; Tue, 29 Apr 2025 04:49:21 -0700 (PDT) Received: from postal.iol.unh.edu (postal.iol.unh.edu. [2606:4100:3880:1234::84]) by smtp-relay.gmail.com with ESMTPS id d9443c01a7336-22db4f362d0sm14091395ad.60.2025.04.29.04.49.21 (version=TLS1_2 cipher=ECDHE-ECDSA-AES128-GCM-SHA256 bits=128/128); Tue, 29 Apr 2025 04:49:21 -0700 (PDT) X-Relaying-Domain: iol.unh.edu Date: Tue, 29 Apr 2025 04:49:21 -0700 (PDT) Message-ID: <6810bcc1.170a0220.359925.f06aSMTPIN_ADDED_MISSING@mx.google.com> Received: from [172.17.0.4] (unknown [172.18.0.74]) by postal.iol.unh.edu (Postfix) with ESMTP id B3DA76052471; Tue, 29 Apr 2025 07:49:20 -0400 (EDT) Subject: |SUCCESS| pw153186 [PATCH] app/crypto-perf: add RSA test vectors From: dpdklab@iol.unh.edu To: Test Report Cc: dpdk-test-reports@iol.unh.edu In-Reply-To: <20250429095856.1915-1-gmuthukrishn@marvell.com> References: <20250429095856.1915-1-gmuthukrishn@marvell.com> Content-Type: text/plain X-BeenThere: test-report@dpdk.org X-Mailman-Version: 2.1.29 Precedence: list List-Id: automatic DPDK test reports List-Unsubscribe: , List-Archive: List-Post: List-Help: List-Subscribe: , Errors-To: test-report-bounces@dpdk.org Test-Label: iol-sample-apps-testing Test-Status: SUCCESS http://dpdk.org/patch/153186 _Testing PASS_ Submitter: Gowrishankar Muthukrishnan Date: Tuesday, April 29 2025 09:58:52 DPDK git baseline: Repo:dpdk Branch: master CommitID:ca1690ebd224f148268285b15b97441ccdbdd07e 153186 --> testing pass Upstream job id: ACVP-FIPS-testing#9667 Test environment and result as below: +--------------------+----------------------+----------------------+ | Environment | compressdev_zlib_pmd | dpdk_fips_validation | +====================+======================+======================+ | Ubuntu 22.04 (ARM) | PASS | SKIPPED | +--------------------+----------------------+----------------------+ | Ubuntu 22.04 | PASS | SKIPPED | +--------------------+----------------------+----------------------+ | Ubuntu 20.04 | SKIPPED | PASS | +--------------------+----------------------+----------------------+ Ubuntu 22.04 (ARM) Kernel: 5.15.0-97-generic Compiler: gcc gcc (Ubuntu 11.4.0-1ubuntu1~22.04) 11.4.0 Ubuntu 22.04 Kernel: 5.15.0-100-generic Compiler: gcc gcc (Ubuntu 11.4.0-1ubuntu1~22.04) 11.4.0 Ubuntu 20.04 Kernel: Depends on container host Compiler: gcc (Ubuntu 9.4.0-1ubuntu1~20.04.2) 9.4.0 To view detailed results, visit: https://lab.dpdk.org/results/dashboard/patchsets/33086/ UNH-IOL DPDK Community Lab To manage your email subscriptions, visit: https://lab.dpdk.org/results/dashboard/preferences/subscriptions/