From mboxrd@z Thu Jan 1 00:00:00 1970 Return-Path: Received: from mails.dpdk.org (mails.dpdk.org [217.70.189.124]) by inbox.dpdk.org (Postfix) with ESMTP id 34E324665D for ; Tue, 29 Apr 2025 14:59:57 +0200 (CEST) Received: from mails.dpdk.org (localhost [127.0.0.1]) by mails.dpdk.org (Postfix) with ESMTP id E3244402AB; Tue, 29 Apr 2025 14:59:56 +0200 (CEST) Received: from mail-yw1-f226.google.com (mail-yw1-f226.google.com [209.85.128.226]) by mails.dpdk.org (Postfix) with ESMTP id D87A4402A9 for ; Tue, 29 Apr 2025 14:59:55 +0200 (CEST) Received: by mail-yw1-f226.google.com with SMTP id 00721157ae682-708154c2a80so45227077b3.1 for ; Tue, 29 Apr 2025 05:59:55 -0700 (PDT) DKIM-Signature: v=1; a=rsa-sha256; c=relaxed/relaxed; d=iol.unh.edu; s=unh-iol; t=1745931595; x=1746536395; darn=dpdk.org; h=references:in-reply-to:cc:to:from:subject:message-id:date:from:to :cc:subject:date:message-id:reply-to; bh=GWG+30x5M1GswsqLeQc0IUh53E14tOBntSnxT7f8jXo=; b=L+tdgEvMAZrBUXVmJy5VUMMmRp4glq3YjN7ISjb0AJKSeARS8pE6oaUDb9dNTXSYL7 mUTzqLWk/l0NQfZ7//jRcxN1ekbdinqYbhH+Ctg5TSeKFFdQrg2EmVQdP99aKOf+rRj1 XN9+d7Dolno8e5NI7bvOFyb6C9RjXA2NePTFU= X-Google-DKIM-Signature: v=1; a=rsa-sha256; c=relaxed/relaxed; d=1e100.net; s=20230601; t=1745931595; x=1746536395; h=references:in-reply-to:cc:to:from:subject:message-id:date :x-gm-message-state:from:to:cc:subject:date:message-id:reply-to; bh=GWG+30x5M1GswsqLeQc0IUh53E14tOBntSnxT7f8jXo=; b=IP1Xrbd/OWqmdVt6zRPSrj6hxYOABw78UDmq+kUncFrOxUguWBj4t97sAJ5w5jm4Rn 1NFR4YWc8ym7NcCaUxOhjq19KUpOAM0ZewZqtKHcrrvOoQpxCSHNF4Oy+tsWxSiCdhrf VOqo4M3bMr+8ZIRoD+/k/3PTkoXizwq07fChCtEtCCrTPGOInM0Jat4h9ryczYXflBUn rSkPFFW9iffowtJ5z8mMNtZSgEpBIjMJMBBiC6U1f6AzXC+iLOyayfYt29Px/rwvdEZa kB52GXiujtvUvrOpGGoRigfOEcEZdfu6/VGsLqM2ThXJpg0f2byWKEQl8J39fUv3oKA9 4UOw== X-Gm-Message-State: AOJu0YxyHSFo04h00unMsAo8bsgEO+RaVJai9Tvfz954hud7U4YWF4kU 7/4yihAgPi7fjLfi4vzJEZf//sfXerizv7lnWPRyLq5TcjI9DQFzVKUMx1zKU34Ik+SBTwDZi3Y xOSB2pPDeQxKQMERryx2EqJVhxoTLejPL07eooA5i4EG6xCxc90nSb8vk X-Gm-Gg: ASbGncvnsXiwPEpHWzUc8KSXrbbuhcQ4gMQSVwf88txSNozx+umJQW97OQ5zQjswjja jcu+aewLBz0lF9g+ADWeCRcMdcAr7JTZzd7+YEdM6lPGpWNeYtSPNG+I8hUOVp87EjpfBy4ZMYb pb+UyUNeYtSZQ3bJBFVBmP04J0HOdocY1zqOl2AdiBPhRQKeoggTQ7Pgh/nNszJNYYN7QtaTWBl vlpW0s5OKXBkbrDhRUSf33qVLlIHRsRRV9B4A7Ooek27w64JCqTFDb4cRF1XEuuIHPUQ3QgLjTY 3ze7SS2TiNYfBMw32vilv6HsglbVr3XT+MgK9zSvVloFEOAn X-Google-Smtp-Source: AGHT+IFKa0EpBE/irWbR0ziKfONIvugylrXSmrHLeXBw7YgW2jpzK43Z76MEwl9h7BpPABMS9zlrSh9JkqoQ X-Received: by 2002:a05:690c:490c:b0:6fd:47a7:3fb2 with SMTP id 00721157ae682-7089b317323mr43034147b3.24.1745931594991; Tue, 29 Apr 2025 05:59:54 -0700 (PDT) Received: from postal.iol.unh.edu (postal.iol.unh.edu. [2606:4100:3880:1234::84]) by smtp-relay.gmail.com with ESMTPS id 00721157ae682-708419ac685sm9619027b3.36.2025.04.29.05.59.54 (version=TLS1_2 cipher=ECDHE-ECDSA-AES128-GCM-SHA256 bits=128/128); Tue, 29 Apr 2025 05:59:54 -0700 (PDT) X-Relaying-Domain: iol.unh.edu Date: Tue, 29 Apr 2025 05:59:54 -0700 (PDT) Message-ID: <6810cd4a.050a0220.107e2e.ebb0SMTPIN_ADDED_MISSING@mx.google.com> Received: from [172.21.0.6] (unknown [172.18.0.240]) by postal.iol.unh.edu (Postfix) with ESMTP id 8349D6052471; Tue, 29 Apr 2025 08:59:54 -0400 (EDT) Subject: |SUCCESS| pw153185 [PATCH] crypto/virtio: support RSA 8K mod ops From: dpdklab@iol.unh.edu To: Test Report Cc: dpdk-test-reports@iol.unh.edu In-Reply-To: <20250429095814.1881-1-gmuthukrishn@marvell.com> References: <20250429095814.1881-1-gmuthukrishn@marvell.com> Content-Type: text/plain X-BeenThere: test-report@dpdk.org X-Mailman-Version: 2.1.29 Precedence: list List-Id: automatic DPDK test reports List-Unsubscribe: , List-Archive: List-Post: List-Help: List-Subscribe: , Errors-To: test-report-bounces@dpdk.org Test-Label: iol-unit-amd64-testing Test-Status: SUCCESS http://dpdk.org/patch/153185 _Testing PASS_ Submitter: Gowrishankar Muthukrishnan Date: Tuesday, April 29 2025 09:58:10 DPDK git baseline: Repo:dpdk Branch: master CommitID:ca1690ebd224f148268285b15b97441ccdbdd07e 153185 --> testing pass Upstream job id: Generic-Unit-Test-DPDK#334235 Test environment and result as below: +---------------------+----------------+ | Environment | dpdk_unit_test | +=====================+================+ | CentOS Stream 9 | PASS | +---------------------+----------------+ | CentOS Stream 10 | PASS | +---------------------+----------------+ | Fedora 40 | PASS | +---------------------+----------------+ | Fedora 41 | PASS | +---------------------+----------------+ | Debian 12 | PASS | +---------------------+----------------+ | RHEL9 | PASS | +---------------------+----------------+ | Ubuntu 24.04 | PASS | +---------------------+----------------+ | Fedora 41 (Clang) | PASS | +---------------------+----------------+ | Fedora 40 (Clang) | PASS | +---------------------+----------------+ | RHEL8 | PASS | +---------------------+----------------+ | Ubuntu 22.04 | PASS | +---------------------+----------------+ | Ubuntu 20.04 | PASS | +---------------------+----------------+ | Windows Server 2022 | PASS | +---------------------+----------------+ CentOS Stream 9 Kernel: Depends on container host Compiler: gcc 11.5.0 20240719 (Red Hat 11.5.0-2) CentOS Stream 10 Kernel: Depends on container host Compiler: gcc 14.2.1 20241104 (Red Hat 14.2.1-6) Fedora 40 Kernel: Depends on container host Compiler: gcc 14.2.1 20240912 (Red Hat 14.2.1-3) Fedora 41 Kernel: Depends on container host Compiler: gcc 14.2.1 20240912 (Red Hat 14.2.1-3) Debian 12 Kernel: Depends on container host Compiler: gcc (Debian 12.2.0-14) 12.2.0 RHEL9 Kernel: Depends on container host Compiler: gcc 11.5.0 20240719 (Red Hat 11.5.0-2) Ubuntu 24.04 Kernel: Depends on container host Compiler: gcc (Ubuntu 13.3.0-6ubuntu2~24.04) 13.3.0 Fedora 41 (Clang) Kernel: Depends on container host Compiler: clang 19.1.5 (Fedora 19.1.5-1.fc41) Fedora 40 (Clang) Kernel: Depends on container host Compiler: clang 18.1.8 (Fedora 18.1.8-1.fc40) RHEL8 Kernel: Depends on container host Compiler: gcc 8.5.0 20210514 (Red Hat 8.5.0-22) Ubuntu 22.04 Kernel: Depends on container host Compiler: gcc (Ubuntu 11.4.0-1ubuntu1~22.04) 11.4.0 Ubuntu 20.04 Kernel: Depends on container host Compiler: gcc (Ubuntu 9.4.0-1ubuntu1~20.04.2) 9.4.0 Windows Server 2022 Kernel: 10.0.20348.2031 Compiler: clang 15.0.7, gcc 14.1.0 (MinGW), and MSVC VS 19.39.33521 To view detailed results, visit: https://lab.dpdk.org/results/dashboard/patchsets/33085/ UNH-IOL DPDK Community Lab To manage your email subscriptions, visit: https://lab.dpdk.org/results/dashboard/preferences/subscriptions/