From mboxrd@z Thu Jan 1 00:00:00 1970 Return-Path: Received: from mails.dpdk.org (mails.dpdk.org [217.70.189.124]) by inbox.dpdk.org (Postfix) with ESMTP id 103904665D for ; Tue, 29 Apr 2025 15:08:35 +0200 (CEST) Received: from mails.dpdk.org (localhost [127.0.0.1]) by mails.dpdk.org (Postfix) with ESMTP id 0ABF3402A9; Tue, 29 Apr 2025 15:08:35 +0200 (CEST) Received: from mail-yw1-f225.google.com (mail-yw1-f225.google.com [209.85.128.225]) by mails.dpdk.org (Postfix) with ESMTP id 07B9F40277 for ; Tue, 29 Apr 2025 15:08:34 +0200 (CEST) Received: by mail-yw1-f225.google.com with SMTP id 00721157ae682-6fead317874so50287267b3.0 for ; Tue, 29 Apr 2025 06:08:33 -0700 (PDT) DKIM-Signature: v=1; a=rsa-sha256; c=relaxed/relaxed; d=iol.unh.edu; s=unh-iol; t=1745932113; x=1746536913; darn=dpdk.org; h=references:in-reply-to:cc:to:from:subject:message-id:date:from:to :cc:subject:date:message-id:reply-to; bh=ikF6Hl+RDrjBDP4o0LxdvNP8LBIy0b2UxKfYO/FzDJ8=; b=Utv0aU1fEkD3YA+wVLFkRwzGt0XsRA4Cd0MwuvRqzh961hr8agV63B0kDzOSeZfsY9 CwTbb6Xp3AcTYC4Us5ixMG1JOFlBMXOaYeBPGijAc5MthKp7fv6EepCscWTN9mYoNm69 C7s9QXSDYrkx93r+w35TWMqB7VEiDsmqDbZbU= X-Google-DKIM-Signature: v=1; a=rsa-sha256; c=relaxed/relaxed; d=1e100.net; s=20230601; t=1745932113; x=1746536913; h=references:in-reply-to:cc:to:from:subject:message-id:date :x-gm-message-state:from:to:cc:subject:date:message-id:reply-to; bh=ikF6Hl+RDrjBDP4o0LxdvNP8LBIy0b2UxKfYO/FzDJ8=; b=PMZ/04Od8O6uRSTq9iYqMSSp1Xyjusk8WY7cW77vOSNUtvLzphpb2ocjzgxrPGEXAe +od6NThK4JERtfK/15MzQq02jhXQxGdXmVOc7IuXiGUf5D0TiipASPYTXyOvZHqx/mJx YOrMKQIW6OSnHJJfyoZ0W0bELF3Qw0dcQCMNWP82SNYF/1PpPw3QtgzFFH+Il65Fdu13 nDsw8+r6WUiiIzLLnzYtnL0qOae2kKVdYLquPL+y32Z0gb1799aWBzSY2ZHA0vq8DJtv 2jjctd2BZNKfvHSfZLe4y51L4kt93d9E6Y56wq5fWH5+BU/hU7G/zdWzzFubTFvTdSLu hSmQ== X-Gm-Message-State: AOJu0YzrnAV/8MicN32707mO5jdxrhh5r003tu/nsQ//xdoJ2cDbZMMA lVn4yj8VP5J12nkOU8N0VdsMXz8nY8n7U60dSR8JfkzGCCmhQlx+j3Nf3sfRjlCjNsIp/JI1KJd Ca2awZj9A40egVNgZG/jbyg4z+y7aK4xOWapB2/63 X-Gm-Gg: ASbGncsa+NOtO9vdCYeWM08L7Pj7cTvUf0ikjfOQroSPs837UIz3I4G0J83etNsxrjT du/P9dooLyXn8X55EdvVeyVpmJBSAK4aOtA77ck7lXWWeASpLdNhH/+3pz0uIl12pFyivs0TOml yNDl9THl5QzTJuJmhFkYmCcw1U2IXl8mccjboNOlymJsL6kq7kKqwU1jOnR91J8nomsfySEB1W4 T7WNufjEmyqbHQcueQZRmUrAV4nIGOnr79lU2Cg8e47BerBcFKON7E71qJIM499FMrmBGLrd8k9 VECg4hJqR6tJzHsN1ljuDhC0HJcOKGYKaLtM X-Google-Smtp-Source: AGHT+IEUfbsT4fNNGyy5vkrSR3edeuleXO/tVgMW6Fg994VRHU4A3h07kIHwMmRTOQZd6lnL99avAoAc9cMx X-Received: by 2002:a05:690c:6601:b0:707:48a7:ea6a with SMTP id 00721157ae682-708996891cemr50447967b3.19.1745932113332; Tue, 29 Apr 2025 06:08:33 -0700 (PDT) Received: from postal.iol.unh.edu (postal.iol.unh.edu. [132.177.123.84]) by smtp-relay.gmail.com with ESMTPS id 00721157ae682-7089ab2e9c3sm1307147b3.27.2025.04.29.06.08.33 (version=TLS1_2 cipher=ECDHE-ECDSA-AES128-GCM-SHA256 bits=128/128); Tue, 29 Apr 2025 06:08:33 -0700 (PDT) X-Relaying-Domain: iol.unh.edu Date: Tue, 29 Apr 2025 06:08:33 -0700 (PDT) Message-ID: <6810cf51.810a0220.116437.2b3fSMTPIN_ADDED_MISSING@mx.google.com> Received: from [172.21.0.7] (unknown [172.18.0.240]) by postal.iol.unh.edu (Postfix) with ESMTP id E0FB26052471; Tue, 29 Apr 2025 09:08:32 -0400 (EDT) Subject: |SUCCESS| pw153185 [PATCH] crypto/virtio: support RSA 8K mod ops From: dpdklab@iol.unh.edu To: Test Report Cc: dpdk-test-reports@iol.unh.edu In-Reply-To: <20250429095814.1881-1-gmuthukrishn@marvell.com> References: <20250429095814.1881-1-gmuthukrishn@marvell.com> Content-Type: text/plain X-BeenThere: test-report@dpdk.org X-Mailman-Version: 2.1.29 Precedence: list List-Id: automatic DPDK test reports List-Unsubscribe: , List-Archive: List-Post: List-Help: List-Subscribe: , Errors-To: test-report-bounces@dpdk.org Test-Label: iol-unit-arm64-testing Test-Status: SUCCESS http://dpdk.org/patch/153185 _Testing PASS_ Submitter: Gowrishankar Muthukrishnan Date: Tuesday, April 29 2025 09:58:10 DPDK git baseline: Repo:dpdk Branch: master CommitID:ca1690ebd224f148268285b15b97441ccdbdd07e 153185 --> testing pass Upstream job id: Aarch32-Unit-Test#6089 Test environment and result as below: +-----------------------------+------------------------------+--------------+---------------------------+----------------+ | Environment | cryptodev_sw_snow3g_autotest | lpm_autotest | cryptodev_sw_zuc_autotest | dpdk_unit_test | +=============================+==============================+==============+===========================+================+ | Debian 12 (arm) | PASS | SKIPPED | PASS | PASS | +-----------------------------+------------------------------+--------------+---------------------------+----------------+ | Ubuntu 20.04 ARM SVE | SKIPPED | PASS | SKIPPED | SKIPPED | +-----------------------------+------------------------------+--------------+---------------------------+----------------+ | CentOS Stream 10 (ARM) | SKIPPED | SKIPPED | SKIPPED | PASS | +-----------------------------+------------------------------+--------------+---------------------------+----------------+ | Fedora 40 (ARM) | SKIPPED | SKIPPED | SKIPPED | PASS | +-----------------------------+------------------------------+--------------+---------------------------+----------------+ | CentOS Stream 9 (ARM) | SKIPPED | SKIPPED | SKIPPED | PASS | +-----------------------------+------------------------------+--------------+---------------------------+----------------+ | Fedora 40 (ARM Clang) | SKIPPED | SKIPPED | SKIPPED | PASS | +-----------------------------+------------------------------+--------------+---------------------------+----------------+ | Ubuntu 24.04 (ARM) | SKIPPED | SKIPPED | SKIPPED | PASS | +-----------------------------+------------------------------+--------------+---------------------------+----------------+ | Fedora 41 (ARM) | SKIPPED | SKIPPED | SKIPPED | PASS | +-----------------------------+------------------------------+--------------+---------------------------+----------------+ | Fedora 41 (ARM Clang) | SKIPPED | SKIPPED | SKIPPED | PASS | +-----------------------------+------------------------------+--------------+---------------------------+----------------+ | Ubuntu 20.04 (ARM) | SKIPPED | SKIPPED | SKIPPED | PASS | +-----------------------------+------------------------------+--------------+---------------------------+----------------+ | Ubuntu 22.04 (ARM) | SKIPPED | SKIPPED | SKIPPED | PASS | +-----------------------------+------------------------------+--------------+---------------------------+----------------+ | RHEL9 (ARM) | SKIPPED | SKIPPED | SKIPPED | PASS | +-----------------------------+------------------------------+--------------+---------------------------+----------------+ | 32-bit Ubuntu 22.04.4 (ARM) | SKIPPED | SKIPPED | SKIPPED | PASS | +-----------------------------+------------------------------+--------------+---------------------------+----------------+ Debian 12 (arm) Kernel: Depends on container host Compiler: gcc (Debian 12.2.0-14) 12.2.0 Ubuntu 20.04 ARM SVE Kernel: Depends on container host Compiler: gcc (Ubuntu 10.5.0-1ubuntu1~20.04) 10.5.0 CentOS Stream 10 (ARM) Kernel: Depends on container host Compiler: gcc 14.2.1 20241104 (Red Hat 14.2.1-6) Fedora 40 (ARM) Kernel: Depends on container host Compiler: gcc 14.2.1 20240912 (Red Hat 14.2.1-3) CentOS Stream 9 (ARM) Kernel: Depends on container host Compiler: gcc 11.5.0 20240719 (Red Hat 11.5.0-2) Fedora 40 (ARM Clang) Kernel: Depends on container host Compiler: clang 18.1.8 (Fedora 18.1.8-1.fc40) Ubuntu 24.04 (ARM) Kernel: Depends on container host Compiler: gcc (Ubuntu 13.3.0-6ubuntu2~24.04) 13.3.0 Fedora 41 (ARM) Kernel: Depends on container host Compiler: gcc 14.2.1 20240912 (Red Hat 14.2.1-3) Fedora 41 (ARM Clang) Kernel: Depends on container host Compiler: clang 19.1.5 (Fedora 19.1.5-1.fc41) Ubuntu 20.04 (ARM) Kernel: Depends on container host Compiler: gcc (Ubuntu 9.4.0-1ubuntu1~20.04.2) 9.4.0 Ubuntu 22.04 (ARM) Kernel: Depends on container host Compiler: gcc (Ubuntu 11.4.0-1ubuntu1~22.04) 11.4.0 RHEL9 (ARM) Kernel: Depends on container host Compiler: gcc 11.5.0 20240719 (Red Hat 11.5.0-2) 32-bit Ubuntu 22.04.4 (ARM) Kernel: 5.15.83+ aarch64 Compiler: gcc (Ubuntu 11.4.0-1ubuntu1~22.04) 11.4.0 To view detailed results, visit: https://lab.dpdk.org/results/dashboard/patchsets/33085/ UNH-IOL DPDK Community Lab To manage your email subscriptions, visit: https://lab.dpdk.org/results/dashboard/preferences/subscriptions/