From mboxrd@z Thu Jan 1 00:00:00 1970 Return-Path: Received: from mails.dpdk.org (mails.dpdk.org [217.70.189.124]) by inbox.dpdk.org (Postfix) with ESMTP id D6F764665D for ; Tue, 29 Apr 2025 15:29:33 +0200 (CEST) Received: from mails.dpdk.org (localhost [127.0.0.1]) by mails.dpdk.org (Postfix) with ESMTP id 9B932402A3; Tue, 29 Apr 2025 15:29:33 +0200 (CEST) Received: from mail-pj1-f99.google.com (mail-pj1-f99.google.com [209.85.216.99]) by mails.dpdk.org (Postfix) with ESMTP id 8E82940277 for ; Tue, 29 Apr 2025 15:29:32 +0200 (CEST) Received: by mail-pj1-f99.google.com with SMTP id 98e67ed59e1d1-30a0c05e2c6so2941420a91.2 for ; Tue, 29 Apr 2025 06:29:32 -0700 (PDT) DKIM-Signature: v=1; a=rsa-sha256; c=relaxed/relaxed; d=iol.unh.edu; s=unh-iol; t=1745933371; x=1746538171; darn=dpdk.org; h=references:in-reply-to:cc:to:from:subject:message-id:date:from:to :cc:subject:date:message-id:reply-to; bh=nzMlseqwdldwR5uJQnjo3FDZPEksd40unhvIiBJk7/c=; b=hzTPXbUpAi1oWEuHuPsgQgrPrCRhNXblAOH4ZdUgh2ANKLBqvlTHVzAxoWyqkZI8R3 FWGQksFbAQVhYuwl2SjHBq8FWvFkTek/NmQKtr2UU2ViAouJ9JS535xauayWqNgPIaZ9 iyt74mFLFzw1aJSHCz+W2nU0L1qesRJlpFCB4= X-Google-DKIM-Signature: v=1; a=rsa-sha256; c=relaxed/relaxed; d=1e100.net; s=20230601; t=1745933371; x=1746538171; h=references:in-reply-to:cc:to:from:subject:message-id:date :x-gm-message-state:from:to:cc:subject:date:message-id:reply-to; bh=nzMlseqwdldwR5uJQnjo3FDZPEksd40unhvIiBJk7/c=; b=X8HEzqp6VpHlwmMQgL0K1vH0vBw3FhW1bPtB3y9rnyXk/zs0Djd6MdzPekqgrruwCz Z2gbv+pfMtFPoGjmhXGBg10O39tlWohxdFDSZqVEapcbbV7DTslNhhPN1xrecXR8LdDb ypbR432MhRjeyqBadm/M8JR7GVye6R2QVtlU9sURVeJc3vb224JIKNC5gPxE0TczsS1y 1ZODIp6Fcf1altVXzbZxUfU9N0p9+RG1MOKujY3s5PnUluSyitQBvsHO1Zs+mXYhAh4h w9/9QtcsbVg7k8MisNZUVsqlxOHHhkgevcq0N5vzjjTF5+Fe+iG3a01tbW+WgXDcNAHT uPow== X-Gm-Message-State: AOJu0YzSm6eVNDCogeUVjkZNBDhZGMXip5Qv3aONtZZzTk+7fL45IRsT hG7BeCAQJHZ7yHPZOFDy1ET5JepCa/pSpCBHLNyTPYbw6uzcn7CHsbq2d9Bix3n3sl+96Y7odlU HFDeOkcjMjQ+46iw/SqjI6w/BczHS1z+bIdfM+mujDdDMUKDld/ZRjU6Q X-Gm-Gg: ASbGncvP+E4o3mFRU1nSyiL6EpUMaqzH77ePOAO1w9313CTR9reCAtCHfx1ku2zEhev GQqfzuKvO+TgReI7PwdmG8DrGxaKSwzTQl4KA0hb+ocIg4Weqeqn3LdPC1QqgaW49Wk9lm/HREw qNG6bQdCbhWMb7WeV13zlFbb8pXMoBw7PoT8wSDS0MurwAaiesdE+v38g8jYD5WfxA6UWstwAwX v72mjnuGDb3YSsJ3D6XF8vN+SS8BnOJa/dahqoIcLL/1d9HhN8tAMmr4qyjOuMTQJv4WtweHzSQ UkmHzzTaQGYlmD+IOLU/b03e6K5cuCwJiiI3bXYBfKiYzl6i X-Google-Smtp-Source: AGHT+IEMzp4Q4m5tPuaDS7FC627e2HsDqQ91Z/1FTJwn05y9Yy2bNBSak4aicd34dY/nnQH7Ebx78evPG1Ct X-Received: by 2002:a17:90b:524c:b0:2ff:4e90:3c55 with SMTP id 98e67ed59e1d1-30a23e269c2mr3885127a91.27.1745933371315; Tue, 29 Apr 2025 06:29:31 -0700 (PDT) Received: from postal.iol.unh.edu (postal.iol.unh.edu. [2606:4100:3880:1234::84]) by smtp-relay.gmail.com with ESMTPS id 98e67ed59e1d1-309eef7c58esm1545219a91.0.2025.04.29.06.29.31 (version=TLS1_2 cipher=ECDHE-ECDSA-AES128-GCM-SHA256 bits=128/128); Tue, 29 Apr 2025 06:29:31 -0700 (PDT) X-Relaying-Domain: iol.unh.edu Date: Tue, 29 Apr 2025 06:29:31 -0700 (PDT) Message-ID: <6810d43b.170a0220.3c3323.255bSMTPIN_ADDED_MISSING@mx.google.com> Received: from [172.21.0.8] (unknown [172.18.0.240]) by postal.iol.unh.edu (Postfix) with ESMTP id 71C9F6052471; Tue, 29 Apr 2025 09:29:30 -0400 (EDT) Subject: |SUCCESS| pw153185 [PATCH] crypto/virtio: support RSA 8K mod ops From: dpdklab@iol.unh.edu To: Test Report Cc: dpdk-test-reports@iol.unh.edu In-Reply-To: <20250429095814.1881-1-gmuthukrishn@marvell.com> References: <20250429095814.1881-1-gmuthukrishn@marvell.com> Content-Type: text/plain X-BeenThere: test-report@dpdk.org X-Mailman-Version: 2.1.29 Precedence: list List-Id: automatic DPDK test reports List-Unsubscribe: , List-Archive: List-Post: List-Help: List-Subscribe: , Errors-To: test-report-bounces@dpdk.org Test-Label: iol-abi-testing Test-Status: SUCCESS http://dpdk.org/patch/153185 _Testing PASS_ Submitter: Gowrishankar Muthukrishnan Date: Tuesday, April 29 2025 09:58:10 DPDK git baseline: Repo:dpdk Branch: master CommitID:ca1690ebd224f148268285b15b97441ccdbdd07e 153185 --> testing pass Upstream job id: Generic-DPDK-Compile-ABI#124764 Test environment and result as below: +-------------------+----------+ | Environment | abi_test | +===================+==========+ | CentOS Stream 9 | PASS | +-------------------+----------+ | CentOS Stream 10 | PASS | +-------------------+----------+ | Debian 12 | PASS | +-------------------+----------+ | Fedora 40 (Clang) | PASS | +-------------------+----------+ | Fedora 40 | PASS | +-------------------+----------+ | Fedora 41 (Clang) | PASS | +-------------------+----------+ | Fedora 41 | PASS | +-------------------+----------+ | RHEL8 | PASS | +-------------------+----------+ | RHEL9 | PASS | +-------------------+----------+ | Ubuntu 22.04 | PASS | +-------------------+----------+ | Ubuntu 24.04 | PASS | +-------------------+----------+ | openSUSE Leap 15 | PASS | +-------------------+----------+ CentOS Stream 9 Kernel: Depends on container host Compiler: gcc 11.5.0 20240719 (Red Hat 11.5.0-2) CentOS Stream 10 Kernel: Depends on container host Compiler: gcc 14.2.1 20241104 (Red Hat 14.2.1-6) Debian 12 Kernel: Depends on container host Compiler: gcc (Debian 12.2.0-14) 12.2.0 Fedora 40 (Clang) Kernel: Depends on container host Compiler: clang 18.1.8 (Fedora 18.1.8-1.fc40) Fedora 40 Kernel: Depends on container host Compiler: gcc 14.2.1 20240912 (Red Hat 14.2.1-3) Fedora 41 (Clang) Kernel: Depends on container host Compiler: clang 19.1.5 (Fedora 19.1.5-1.fc41) Fedora 41 Kernel: Depends on container host Compiler: gcc 14.2.1 20240912 (Red Hat 14.2.1-3) RHEL8 Kernel: Depends on container host Compiler: gcc 8.5.0 20210514 (Red Hat 8.5.0-22) RHEL9 Kernel: Depends on container host Compiler: gcc 11.5.0 20240719 (Red Hat 11.5.0-2) Ubuntu 22.04 Kernel: Depends on container host Compiler: gcc (Ubuntu 11.4.0-1ubuntu1~22.04) 11.4.0 Ubuntu 24.04 Kernel: Depends on container host Compiler: gcc (Ubuntu 13.3.0-6ubuntu2~24.04) 13.3.0 openSUSE Leap 15 Kernel: Depends on container host Compiler: gcc (SUSE Linux) 7.5.0 To view detailed results, visit: https://lab.dpdk.org/results/dashboard/patchsets/33085/ UNH-IOL DPDK Community Lab To manage your email subscriptions, visit: https://lab.dpdk.org/results/dashboard/preferences/subscriptions/