From mboxrd@z Thu Jan 1 00:00:00 1970 Return-Path: Received: from mails.dpdk.org (mails.dpdk.org [217.70.189.124]) by inbox.dpdk.org (Postfix) with ESMTP id 044464665D for ; Tue, 29 Apr 2025 15:31:58 +0200 (CEST) Received: from mails.dpdk.org (localhost [127.0.0.1]) by mails.dpdk.org (Postfix) with ESMTP id DD33A402A3; Tue, 29 Apr 2025 15:31:58 +0200 (CEST) Received: from mail-oi1-f228.google.com (mail-oi1-f228.google.com [209.85.167.228]) by mails.dpdk.org (Postfix) with ESMTP id A1CED40277 for ; Tue, 29 Apr 2025 15:31:57 +0200 (CEST) Received: by mail-oi1-f228.google.com with SMTP id 5614622812f47-3f94b7bd964so4431001b6e.1 for ; Tue, 29 Apr 2025 06:31:57 -0700 (PDT) DKIM-Signature: v=1; a=rsa-sha256; c=relaxed/relaxed; d=iol.unh.edu; s=unh-iol; t=1745933516; x=1746538316; darn=dpdk.org; h=cc:to:from:subject:message-id:date:from:to:cc:subject:date :message-id:reply-to; bh=raKH3yqLtMdm5btldCes5pTs6iCio2ji1RSPW7jL8pM=; b=cTgS7I93wsn8Zw1Ej8psihw5WuzQ557xrHSiEyCYp3iW7eSh6NyfTUgMzv8SXrCmjO K1B/Dx04chuMMkMCJIBm96JKKhuJPff4qI71h91dOwJ38EZc5ZmOH9XZ5G8dxO0ByvAu y6PZkuYNuKVC4OWDzOCFl+Ll2b9vbqHX53Ec8= X-Google-DKIM-Signature: v=1; a=rsa-sha256; c=relaxed/relaxed; d=1e100.net; s=20230601; t=1745933516; x=1746538316; h=cc:to:from:subject:message-id:date:x-gm-message-state:from:to:cc :subject:date:message-id:reply-to; bh=raKH3yqLtMdm5btldCes5pTs6iCio2ji1RSPW7jL8pM=; b=Mp5/c5YCEcTNPiSiQ2h4JDnCorLIzCJ7YoWQqffPgV8nV7h7RqILI4HdTyX+23ibWy Sq2ZKGejDOS8DpG8b1f+UBkEWlG+u8EoALgQFmLIPfhwHwpEE7OIQU/MkxH9ipVmd3zw L2X+5swWoj9URkiYA7kbx5XI06LRhpIpyr9h/hU7YZiOSs2eK97MwZb1zyt4yMLQDF9m a/wEii384uYiQwjP2/GnX622GNwRhd2wXb0d5INn0H38iWdMAON3D4NyYCV56WNqMUzB 3iJyFltqYultLE6bSD3G3v6C3gaFF63sh1gly3R5cNw6IxSaoWTLcS3lez+XYTUGiWmR qbYQ== X-Gm-Message-State: AOJu0Ywdr5yySSjTwtFwEk2cnV1ed7/2XyiYbSZzwPWktXgDGcHY07du RysxKMlwe5UEsBKgaGhlBxn5wgX0wL2fWMh88nfQwbXMNtFXAc4XvzcpritwPC5nKLrioV6hFm+ r41OoarNKk0lNLfkCLnzUGktn+b20ZxFSjoAYe2n0 X-Gm-Gg: ASbGncspCF5F6fIyg0TdqD+dudJNpmHEfOccxWcf/SHvmmTQKc1fpKdcLEM/RsvKdU8 bwAw427uHsBFpru6jl0lbh6TD7SPzQHO/zSa2kXULzGZMeW7moo2qD4tEC/HwqSruNrp06UiTOS upGk3jfInSm1rBnIx2E3q253ktby+4biZnYC8cuV1uP0suksd426e/4gwfX0wWc5eJPVmz5CNOh jR2Ei81qbwuvkOcF+Sm20WKQAAiIxc1vp0TKHLzIH6Lv9NHnUK8Y9PlSx0IwcBibCywAXUpqaam vobjVaNg4/lZMdO/3Kgy0zVDhnZLq71Q67rZ X-Google-Smtp-Source: AGHT+IG0KFjjErXISDNrS57Vso1n2JAz8HkWsa7oRWb1kLgCW3fd8h2qt9dgCojPED1CPT3rSZV6mOqJC4jQ X-Received: by 2002:a05:6808:3204:b0:3f7:28ac:8068 with SMTP id 5614622812f47-402107f4c13mr1919221b6e.13.1745933516678; Tue, 29 Apr 2025 06:31:56 -0700 (PDT) Received: from postal.iol.unh.edu (postal.iol.unh.edu. [132.177.123.84]) by smtp-relay.gmail.com with ESMTPS id 006d021491bc7-60687017c03sm109249eaf.22.2025.04.29.06.31.56 (version=TLS1_2 cipher=ECDHE-ECDSA-AES128-GCM-SHA256 bits=128/128); Tue, 29 Apr 2025 06:31:56 -0700 (PDT) X-Relaying-Domain: iol.unh.edu Date: Tue, 29 Apr 2025 06:31:56 -0700 (PDT) Message-ID: <6810d4cc.050a0220.1a71a.28e8SMTPIN_ADDED_MISSING@mx.google.com> Received: from [172.21.0.6] (unknown [172.18.0.240]) by postal.iol.unh.edu (Postfix) with ESMTP id 20BBD6052471; Tue, 29 Apr 2025 09:31:56 -0400 (EDT) Subject: |SUCCESS| [GIT MASTER] ecadeeb16e75595c1420f7b77a66013893c399dd From: dpdklab@iol.unh.edu To: Test Report Cc: dpdk-test-reports@iol.unh.edu, Bruce Richardson Content-Type: text/plain X-BeenThere: test-report@dpdk.org X-Mailman-Version: 2.1.29 Precedence: list List-Id: automatic DPDK test reports List-Unsubscribe: , List-Archive: List-Post: List-Help: List-Subscribe: , Errors-To: test-report-bounces@dpdk.org _Testing PASS_ Branch: dpdk-next-net-intel ecadeeb16e75595c1420f7b77a66013893c399dd --> testing pass Upstream job id: Generic-Unit-Test-DPDK#334262 Test environment and result as below: +-------------------+----------------+ | Environment | dpdk_unit_test | +===================+================+ | CentOS Stream 9 | PASS | +-------------------+----------------+ | CentOS Stream 10 | PASS | +-------------------+----------------+ | Fedora 40 | PASS | +-------------------+----------------+ | Fedora 41 | PASS | +-------------------+----------------+ | Debian 12 | PASS | +-------------------+----------------+ | Fedora 40 (Clang) | PASS | +-------------------+----------------+ | Ubuntu 24.04 | PASS | +-------------------+----------------+ | RHEL8 | PASS | +-------------------+----------------+ | Ubuntu 20.04 | PASS | +-------------------+----------------+ | Ubuntu 22.04 | PASS | +-------------------+----------------+ | RHEL9 | PASS | +-------------------+----------------+ | Fedora 41 (Clang) | PASS | +-------------------+----------------+ CentOS Stream 9 Kernel: Depends on container host Compiler: gcc 11.5.0 20240719 (Red Hat 11.5.0-2) CentOS Stream 10 Kernel: Depends on container host Compiler: gcc 14.2.1 20241104 (Red Hat 14.2.1-6) Fedora 40 Kernel: Depends on container host Compiler: gcc 14.2.1 20240912 (Red Hat 14.2.1-3) Fedora 41 Kernel: Depends on container host Compiler: gcc 14.2.1 20240912 (Red Hat 14.2.1-3) Debian 12 Kernel: Depends on container host Compiler: gcc (Debian 12.2.0-14) 12.2.0 Fedora 40 (Clang) Kernel: Depends on container host Compiler: clang 18.1.8 (Fedora 18.1.8-1.fc40) Ubuntu 24.04 Kernel: Depends on container host Compiler: gcc (Ubuntu 13.3.0-6ubuntu2~24.04) 13.3.0 RHEL8 Kernel: Depends on container host Compiler: gcc 8.5.0 20210514 (Red Hat 8.5.0-22) Ubuntu 20.04 Kernel: Depends on container host Compiler: gcc (Ubuntu 9.4.0-1ubuntu1~20.04.2) 9.4.0 Ubuntu 22.04 Kernel: Depends on container host Compiler: gcc (Ubuntu 11.4.0-1ubuntu1~22.04) 11.4.0 RHEL9 Kernel: Depends on container host Compiler: gcc 11.5.0 20240719 (Red Hat 11.5.0-2) Fedora 41 (Clang) Kernel: Depends on container host Compiler: clang 19.1.5 (Fedora 19.1.5-1.fc41) To view detailed results, visit: https://lab.dpdk.org/results/dashboard/tarballs/33387/ UNH-IOL DPDK Community Lab To manage your email subscriptions, visit: https://lab.dpdk.org/results/dashboard/preferences/subscriptions/