From mboxrd@z Thu Jan 1 00:00:00 1970 Return-Path: Received: from mails.dpdk.org (mails.dpdk.org [217.70.189.124]) by inbox.dpdk.org (Postfix) with ESMTP id D35784665D for ; Tue, 29 Apr 2025 15:41:27 +0200 (CEST) Received: from mails.dpdk.org (localhost [127.0.0.1]) by mails.dpdk.org (Postfix) with ESMTP id CEBF8402A3; Tue, 29 Apr 2025 15:41:27 +0200 (CEST) Received: from mail-yb1-f228.google.com (mail-yb1-f228.google.com [209.85.219.228]) by mails.dpdk.org (Postfix) with ESMTP id 2882740277 for ; Tue, 29 Apr 2025 15:41:26 +0200 (CEST) Received: by mail-yb1-f228.google.com with SMTP id 3f1490d57ef6-e7387d4a334so241503276.2 for ; Tue, 29 Apr 2025 06:41:26 -0700 (PDT) DKIM-Signature: v=1; a=rsa-sha256; c=relaxed/relaxed; d=iol.unh.edu; s=unh-iol; t=1745934085; x=1746538885; darn=dpdk.org; h=references:in-reply-to:cc:to:from:subject:message-id:date:from:to :cc:subject:date:message-id:reply-to; bh=mfd2KGq+te0tpMULw8nCUZZX1ocTxg+UaZdUebWVOLo=; b=MfXv7x4cZEVFxMhBEiCcy4viqqP80xqDPg5korST9nIg85JcSBDJci7qESMzTIMCKt j0pA4cmSu8+AHIuH9SFmAZMT08yvIxu+xfw6uQKWXW7ZgFDRAxb949uxZohPmJP8tGIN W5QEiVcUqhfdBWL/4Yv8N33Z4Q1s37oILwSkc= X-Google-DKIM-Signature: v=1; a=rsa-sha256; c=relaxed/relaxed; d=1e100.net; s=20230601; t=1745934085; x=1746538885; h=references:in-reply-to:cc:to:from:subject:message-id:date :x-gm-message-state:from:to:cc:subject:date:message-id:reply-to; bh=mfd2KGq+te0tpMULw8nCUZZX1ocTxg+UaZdUebWVOLo=; b=r/OK5o8+kP8EYQVWuRkJO2w6tLOFi4RsWhYzvl/g9RWIzjKyReRDW2m27h6TnSNy1o VSV+IQs8u+wLVN6b9k30JbcXOp5jQMLLajlQE1toKjyAu8ePhi1N1ZfFPKiUu9bnX7r7 IxONYkergnvRnVKTkApSj6OpQQrSWHgRjHlY248rDr+cy+Y6bX8c7XomKPab0RuDyM3y Pr9C2I+cXv7r5Kodam+UR9RlPrKpaM9VxYmadp9VrHmc/bJyYuY0OT/oeCE6rSfykZAH jQ0YJIwTA+U8xR75FuC7SWt3SZcg8dGZffel5HUWU4RKkdS7ZU8fosBZGh7583lz0LZj HGrQ== X-Gm-Message-State: AOJu0Yz0eqkoHZr5S6UyCbsA9R2F9rBsW2BMcWu+EJm5dJg3pkoxjc8G afRERRXuBwotTm03Ky2jVa5hUHfEhMSwh0dZwb/YlnERXEBwtD0LneoFwyg0G/ylAKK1uAK/uIU UgMqc4Ao5geODJLAfMP5eDjWTDvZfXyETzwblZsgN X-Gm-Gg: ASbGnct0baaTJL2UoNdeXQKffPJKH2p2MOOjQ2Oht8wypM6HJUE3vGV9TYJxr8up6q1 SZaHp3U3CwB24vWGHEO5jMLMQBETnoEqwIDA4RFzZHj7e2gRDGpJmZ5m/4sVgz48g5jAzan2xvU Nfg9Danq7ulBGqfhOMom2QMh5Q8/KHJg951BtcyyzbfoubRR31F051KOrZKAGAcyDZEIJl8o/jb agIjhf/Cld1NoGoC6/z/Im842WIm8qkC4m5ifHcxWCItogU9DpyOYLkfNIU4yTDC23azRkN2Uz7 jXboToN54FSVaGTjHExf3ge3uV2KJCTxjblf X-Google-Smtp-Source: AGHT+IHOlIJGkSFHwW03ZHgUOjgbsM/Tg0TTrursmjdxm+nxG01cwYuns30c72ms10tYWyWNtF64otspvrlb X-Received: by 2002:a05:6902:1b86:b0:e6d:d996:d8e2 with SMTP id 3f1490d57ef6-e7350020540mr4991229276.14.1745934085565; Tue, 29 Apr 2025 06:41:25 -0700 (PDT) Received: from postal.iol.unh.edu (postal.iol.unh.edu. [132.177.123.84]) by smtp-relay.gmail.com with ESMTPS id 3f1490d57ef6-e730451dfc3sm913597276.2.2025.04.29.06.41.25 (version=TLS1_2 cipher=ECDHE-ECDSA-AES128-GCM-SHA256 bits=128/128); Tue, 29 Apr 2025 06:41:25 -0700 (PDT) X-Relaying-Domain: iol.unh.edu Date: Tue, 29 Apr 2025 06:41:25 -0700 (PDT) Message-ID: <6810d705.050a0220.3bb012.073eSMTPIN_ADDED_MISSING@mx.google.com> Received: from [172.21.0.5] (unknown [172.18.0.240]) by postal.iol.unh.edu (Postfix) with ESMTP id 291056052471; Tue, 29 Apr 2025 09:41:25 -0400 (EDT) Subject: |SUCCESS| pw153185 [PATCH] crypto/virtio: support RSA 8K mod ops From: dpdklab@iol.unh.edu To: Test Report Cc: dpdk-test-reports@iol.unh.edu In-Reply-To: <20250429095814.1881-1-gmuthukrishn@marvell.com> References: <20250429095814.1881-1-gmuthukrishn@marvell.com> Content-Type: text/plain X-BeenThere: test-report@dpdk.org X-Mailman-Version: 2.1.29 Precedence: list List-Id: automatic DPDK test reports List-Unsubscribe: , List-Archive: List-Post: List-Help: List-Subscribe: , Errors-To: test-report-bounces@dpdk.org Test-Label: iol-sample-apps-testing Test-Status: SUCCESS http://dpdk.org/patch/153185 _Testing PASS_ Submitter: Gowrishankar Muthukrishnan Date: Tuesday, April 29 2025 09:58:10 DPDK git baseline: Repo:dpdk Branch: master CommitID:ca1690ebd224f148268285b15b97441ccdbdd07e 153185 --> testing pass Upstream job id: ACVP-FIPS-testing#9668 Test environment and result as below: +--------------------+----------------------+----------------------+ | Environment | compressdev_zlib_pmd | dpdk_fips_validation | +====================+======================+======================+ | Ubuntu 22.04 (ARM) | PASS | SKIPPED | +--------------------+----------------------+----------------------+ | Ubuntu 22.04 | PASS | SKIPPED | +--------------------+----------------------+----------------------+ | Ubuntu 20.04 | SKIPPED | PASS | +--------------------+----------------------+----------------------+ Ubuntu 22.04 (ARM) Kernel: 5.15.0-97-generic Compiler: gcc gcc (Ubuntu 11.4.0-1ubuntu1~22.04) 11.4.0 Ubuntu 22.04 Kernel: 5.15.0-100-generic Compiler: gcc gcc (Ubuntu 11.4.0-1ubuntu1~22.04) 11.4.0 Ubuntu 20.04 Kernel: Depends on container host Compiler: gcc (Ubuntu 9.4.0-1ubuntu1~20.04.2) 9.4.0 To view detailed results, visit: https://lab.dpdk.org/results/dashboard/patchsets/33085/ UNH-IOL DPDK Community Lab To manage your email subscriptions, visit: https://lab.dpdk.org/results/dashboard/preferences/subscriptions/