From mboxrd@z Thu Jan 1 00:00:00 1970 Return-Path: Received: from mails.dpdk.org (mails.dpdk.org [217.70.189.124]) by inbox.dpdk.org (Postfix) with ESMTP id 973044665F for ; Tue, 29 Apr 2025 16:10:59 +0200 (CEST) Received: from mails.dpdk.org (localhost [127.0.0.1]) by mails.dpdk.org (Postfix) with ESMTP id 91BB8402A3; Tue, 29 Apr 2025 16:10:59 +0200 (CEST) Received: from mail-qv1-f97.google.com (mail-qv1-f97.google.com [209.85.219.97]) by mails.dpdk.org (Postfix) with ESMTP id 9609240277 for ; Tue, 29 Apr 2025 16:10:57 +0200 (CEST) Received: by mail-qv1-f97.google.com with SMTP id 6a1803df08f44-6f0c30a1ca3so71717756d6.1 for ; Tue, 29 Apr 2025 07:10:57 -0700 (PDT) DKIM-Signature: v=1; a=rsa-sha256; c=relaxed/relaxed; d=iol.unh.edu; s=unh-iol; t=1745935857; x=1746540657; darn=dpdk.org; h=references:in-reply-to:cc:to:from:subject:message-id:date:from:to :cc:subject:date:message-id:reply-to; bh=LnvYuLKGDHQjL0ompnpwFx7RPorqiRrw05aajbYHMWI=; b=fj1CnA37F5s6trkaP6GlyjuRuaFFFJmis9q6JdFfEJN/X8saqFSgLKPCKB4YX5dHuv 3MtI1drYit/STpN3R9Gc2zSzYw3wUxVyZR8jiavChkDGKw4+DZMhdizWa/+RKXvyKoTf GiB0D1TEf5g7OwDt8GIlRxkiaWaMzmOXYbj6I= X-Google-DKIM-Signature: v=1; a=rsa-sha256; c=relaxed/relaxed; d=1e100.net; s=20230601; t=1745935857; x=1746540657; h=references:in-reply-to:cc:to:from:subject:message-id:date :x-gm-message-state:from:to:cc:subject:date:message-id:reply-to; bh=LnvYuLKGDHQjL0ompnpwFx7RPorqiRrw05aajbYHMWI=; b=Rnq7t3g9y3kOvEB6lAGt/9UarBaxvbYNIbgXwFo0yY8YsTDHyAhZhYw5zB4NP9Bza0 M1OfPijcZbToptbQBX9vxf05wrVhDjW49HlT3M0EIDXG4Ml86L4sxysUTmSsFknVTYoL fh8FwpSa+Qc8S2ctVHI5a1k4/e8lRDtPr1KDMOJQymZmNeMUDLK3tYWMkWKlj/0cxuGh 8NI3t9FYtm9KzrdaKMuPa5W5G6hUgFB2OOvoKMzvQ7gx1Qq4z+XGtY9iYWHrU/DAo87I wyFbi5XFITA5u0EKyxod8GIXeMPiTgnXrukAhibtXb3t+/jMWx4nfYmPuSSZWTrAvqUB 01PQ== X-Gm-Message-State: AOJu0YxOYenHIoEBR+k8F8AJCYe/p8iZg9Oyc+oznGdcWLnqZVNTxUIz 0S0upLEBKYOftOBlYtbSHmzzbw8/8LGut7ncwco3rqIN1zuMXqu19UpPZBaolNVl4BUKt4WD7Ix QtiQB1nJHT3x9hhUKgcn91PyFJTCfWHZM1S9x/x+M/apEn9wlZuSQkWPL X-Gm-Gg: ASbGncsv7NIhtydPcvPCDROmZBqeQDnw+bMjF0dNKtpS/vgJP0LtPs45sDoJ1jz/wFx 2bwSyEnYwoAysFoCqObqaciP+exDBr4uOtQEX9KqA+YhlrRdRgSvgdsPcKI7hr74/7RQcLGuVTx tFSuJG41jZPtPN6SvCAQiF5Pv3UCqAycVY7zGCiaoLDD206W5kX5v2Cb0JtZxU16wupcFqZHft6 HVKk0UYq2A+ODSW7duIUEGcysYF1ROamaIGVk5N368p9LPL7LWDGlM92+yfk9obqYs+nsZc49TX gCRQD+CApM9iT91Ac0p3eFedQ77i2rFjPPMNryfAkFq2xIgw X-Google-Smtp-Source: AGHT+IFDhNMX/BvZixTwC4h16i8hLsCFXjtYQXg3xb3e0Vm1rN9DYo5q/c4g8T8OVhvG5eQ76sUn84vXpWSd X-Received: by 2002:ad4:5ccc:0:b0:6d8:ada3:26c9 with SMTP id 6a1803df08f44-6f4f1ba925amr54355196d6.10.1745935856937; Tue, 29 Apr 2025 07:10:56 -0700 (PDT) Received: from postal.iol.unh.edu (postal.iol.unh.edu. [2606:4100:3880:1234::84]) by smtp-relay.gmail.com with ESMTPS id 6a1803df08f44-6f4d0c36333sm12934616d6.67.2025.04.29.07.10.56 (version=TLS1_2 cipher=ECDHE-ECDSA-AES128-GCM-SHA256 bits=128/128); Tue, 29 Apr 2025 07:10:56 -0700 (PDT) X-Relaying-Domain: iol.unh.edu Date: Tue, 29 Apr 2025 07:10:56 -0700 (PDT) Message-ID: <6810ddf0.050a0220.143d2b.5bddSMTPIN_ADDED_MISSING@mx.google.com> Received: from [172.17.0.2] (unknown [172.18.0.74]) by postal.iol.unh.edu (Postfix) with ESMTP id 9EE886052471; Tue, 29 Apr 2025 10:10:56 -0400 (EDT) Subject: |SUCCESS| pw153185 [PATCH] crypto/virtio: support RSA 8K mod ops From: dpdklab@iol.unh.edu To: Test Report Cc: dpdk-test-reports@iol.unh.edu In-Reply-To: <20250429095814.1881-1-gmuthukrishn@marvell.com> References: <20250429095814.1881-1-gmuthukrishn@marvell.com> Content-Type: text/plain X-BeenThere: test-report@dpdk.org X-Mailman-Version: 2.1.29 Precedence: list List-Id: automatic DPDK test reports List-Unsubscribe: , List-Archive: List-Post: List-Help: List-Subscribe: , Errors-To: test-report-bounces@dpdk.org Test-Label: iol-unit-amd64-testing Test-Status: SUCCESS http://dpdk.org/patch/153185 _Testing PASS_ Submitter: Gowrishankar Muthukrishnan Date: Tuesday, April 29 2025 09:58:10 DPDK git baseline: Repo:dpdk Branch: master CommitID:ca1690ebd224f148268285b15b97441ccdbdd07e 153185 --> testing pass Upstream job id: Generic-VM-Unit-Test-DPDK#28236 Test environment and result as below: +---------------------+----------------+ | Environment | dpdk_unit_test | +=====================+================+ | CentOS Stream 9 | PASS | +---------------------+----------------+ | CentOS Stream 10 | PASS | +---------------------+----------------+ | Fedora 40 | PASS | +---------------------+----------------+ | Fedora 41 | PASS | +---------------------+----------------+ | Debian 12 | PASS | +---------------------+----------------+ | RHEL9 | PASS | +---------------------+----------------+ | Ubuntu 24.04 | PASS | +---------------------+----------------+ | Fedora 41 (Clang) | PASS | +---------------------+----------------+ | Fedora 40 (Clang) | PASS | +---------------------+----------------+ | RHEL8 | PASS | +---------------------+----------------+ | Ubuntu 22.04 | PASS | +---------------------+----------------+ | Ubuntu 20.04 | PASS | +---------------------+----------------+ | Windows Server 2022 | PASS | +---------------------+----------------+ CentOS Stream 9 Kernel: Depends on container host Compiler: gcc 11.5.0 20240719 (Red Hat 11.5.0-2) CentOS Stream 10 Kernel: Depends on container host Compiler: gcc 14.2.1 20241104 (Red Hat 14.2.1-6) Fedora 40 Kernel: Depends on container host Compiler: gcc 14.2.1 20240912 (Red Hat 14.2.1-3) Fedora 41 Kernel: Depends on container host Compiler: gcc 14.2.1 20240912 (Red Hat 14.2.1-3) Debian 12 Kernel: Depends on container host Compiler: gcc (Debian 12.2.0-14) 12.2.0 RHEL9 Kernel: Depends on container host Compiler: gcc 11.5.0 20240719 (Red Hat 11.5.0-2) Ubuntu 24.04 Kernel: Depends on container host Compiler: gcc (Ubuntu 13.3.0-6ubuntu2~24.04) 13.3.0 Fedora 41 (Clang) Kernel: Depends on container host Compiler: clang 19.1.5 (Fedora 19.1.5-1.fc41) Fedora 40 (Clang) Kernel: Depends on container host Compiler: clang 18.1.8 (Fedora 18.1.8-1.fc40) RHEL8 Kernel: Depends on container host Compiler: gcc 8.5.0 20210514 (Red Hat 8.5.0-22) Ubuntu 22.04 Kernel: Depends on container host Compiler: gcc (Ubuntu 11.4.0-1ubuntu1~22.04) 11.4.0 Ubuntu 20.04 Kernel: Depends on container host Compiler: gcc (Ubuntu 9.4.0-1ubuntu1~20.04.2) 9.4.0 Windows Server 2022 Kernel: 10.0.20348.2031 Compiler: clang 15.0.7, gcc 14.1.0 (MinGW), and MSVC VS 19.39.33521 To view detailed results, visit: https://lab.dpdk.org/results/dashboard/patchsets/33085/ UNH-IOL DPDK Community Lab To manage your email subscriptions, visit: https://lab.dpdk.org/results/dashboard/preferences/subscriptions/