From mboxrd@z Thu Jan 1 00:00:00 1970 Return-Path: Received: from mails.dpdk.org (mails.dpdk.org [217.70.189.124]) by inbox.dpdk.org (Postfix) with ESMTP id 0FEBD4665F for ; Tue, 29 Apr 2025 16:15:22 +0200 (CEST) Received: from mails.dpdk.org (localhost [127.0.0.1]) by mails.dpdk.org (Postfix) with ESMTP id 099FE402A3; Tue, 29 Apr 2025 16:15:22 +0200 (CEST) Received: from mail-oa1-f100.google.com (mail-oa1-f100.google.com [209.85.160.100]) by mails.dpdk.org (Postfix) with ESMTP id 57A6A40277 for ; Tue, 29 Apr 2025 16:15:20 +0200 (CEST) Received: by mail-oa1-f100.google.com with SMTP id 586e51a60fabf-2d0920ce388so2723735fac.0 for ; Tue, 29 Apr 2025 07:15:20 -0700 (PDT) DKIM-Signature: v=1; a=rsa-sha256; c=relaxed/relaxed; d=iol.unh.edu; s=unh-iol; t=1745936119; x=1746540919; darn=dpdk.org; h=cc:to:from:subject:message-id:date:from:to:cc:subject:date :message-id:reply-to; bh=PqAzlf8Jdp4Aw7Ho5CucMQAJz/9vuS1R1vK71gAJKYY=; b=b+pqmg6uV1sXPQ9urt5DrcMkkwGZ0FTGMSQRrJyak9XNUiDhoyqmMdxeF2PJRQI7rM tYGv4AcyWMGDCD4/V7XjKnq2GLKjmVpyYF6s0IdvSR6P6hxlClNk2+M1mDJ6wK4krWej JgGsbVGjh+dyHeAHSyIfqKDIwYKkiS5AEtLC4= X-Google-DKIM-Signature: v=1; a=rsa-sha256; c=relaxed/relaxed; d=1e100.net; s=20230601; t=1745936119; x=1746540919; h=cc:to:from:subject:message-id:date:x-gm-message-state:from:to:cc :subject:date:message-id:reply-to; bh=PqAzlf8Jdp4Aw7Ho5CucMQAJz/9vuS1R1vK71gAJKYY=; b=H5+9MjTr3KHwIUx1yo5tLvTEvSRsi9zRRpthwkeqpKYpfyhgizpEKmj4ATE/Nj+z6B H6E5hMFTbVAdVMdcUUPXPGKgCtvEkB7C11rV6qZUOMx8yn3xDpe/e9Z7AXuBpSqLhGsW ER2yncneXALIh1oV5iFYC3mdmAulCl5/z3zWV6D5D0jTQQp9vSqCP9x/TdnQ3k+7t7Yq xi+/PFcRMEv4+Ot4gmrbC1H3SuqSEKCdvsUyNbB5eJ63ouCtI/kXjibK3UR9M6vR4bIg UxfIdkIx0rdm8SooSGrjBA8vexbRyt9N2LyzWfnsw1H7l6In1Ijc/snDNZO3ZBL8WfGB GfTQ== X-Gm-Message-State: AOJu0Yz+5aTNG3xK4qw87qhHoJ6emHyMmTmiTtYHfWPHayt+mX+En8Ym MUyr0GWiUi25Amcci+hPW1Pl/D6FfC4bvE0GdJWJ9hAk+xD4/RaZBclteChT2/mVRzbMbeaPhxr m5M8E/H5+kyJJnhwlIFMRFKrm+pqqFRK2e/v9l8I2QMhh1Ez9hJNj5lh+ X-Gm-Gg: ASbGncuTUw0+NFb5ycxGpIfjJR2Um7fHD9VN24zq80ss4ZKRWPOeLOxo6NLUGyW2+tU A3ov7vo3CIjM+8Os2jy+Gb6ZvZ5VdowgzMlyWUFWF8n0AgShCgUmuB7gjQA2CsAO0BMTjIBuEkG LUjaa0Fn4EAt7LW+6AjhUkyDhtnzHwystG0e6VcyhoVJ6J3M/J+2HxzBpjBc1zlfvOuOnBIwOrw 0yj4L73bM1cxSmjw1za4ZOdtXN88myYjAVNi0j0LnsqVZ8jLxZkSofj29wnmEc2rJhaPb5XLJXR 16Q8UVxdPWURoT5ebUfkz4jCEJKRMHflyAC5iM+Bs0t1NjCK X-Google-Smtp-Source: AGHT+IHqv646ZmU9gNugYsortQM+fbTSS0qJweUy7ZiJm9JiGGNW0+AVX3qXEcm3pI9Q2GBHjfhDfLLuzDNi X-Received: by 2002:a05:6871:783:b0:2d5:a360:7df9 with SMTP id 586e51a60fabf-2da4840e391mr1639202fac.5.1745936118980; Tue, 29 Apr 2025 07:15:18 -0700 (PDT) Received: from postal.iol.unh.edu (postal.iol.unh.edu. [2606:4100:3880:1234::84]) by smtp-relay.gmail.com with ESMTPS id 586e51a60fabf-2d973bdd481sm1105558fac.31.2025.04.29.07.15.18 (version=TLS1_2 cipher=ECDHE-ECDSA-AES128-GCM-SHA256 bits=128/128); Tue, 29 Apr 2025 07:15:18 -0700 (PDT) X-Relaying-Domain: iol.unh.edu Date: Tue, 29 Apr 2025 07:15:18 -0700 (PDT) Message-ID: <6810def6.050a0220.a0b3d.9f65SMTPIN_ADDED_MISSING@mx.google.com> Received: from [172.17.0.3] (unknown [172.18.0.74]) by postal.iol.unh.edu (Postfix) with ESMTP id 6CF636052471; Tue, 29 Apr 2025 10:15:18 -0400 (EDT) Subject: |SUCCESS| [GIT MASTER] ecadeeb16e75595c1420f7b77a66013893c399dd From: dpdklab@iol.unh.edu To: Test Report Cc: dpdk-test-reports@iol.unh.edu, Bruce Richardson Content-Type: text/plain X-BeenThere: test-report@dpdk.org X-Mailman-Version: 2.1.29 Precedence: list List-Id: automatic DPDK test reports List-Unsubscribe: , List-Archive: List-Post: List-Help: List-Subscribe: , Errors-To: test-report-bounces@dpdk.org _Testing PASS_ Branch: dpdk-next-net-intel ecadeeb16e75595c1420f7b77a66013893c399dd --> testing pass Upstream job id: Aarch32-Unit-Test#6090 Test environment and result as below: +-----------------------------+----------------+---------------------------+--------------+------------------------------+ | Environment | dpdk_unit_test | cryptodev_sw_zuc_autotest | lpm_autotest | cryptodev_sw_snow3g_autotest | +=============================+================+===========================+==============+==============================+ | CentOS Stream 9 (ARM) | PASS | SKIPPED | SKIPPED | SKIPPED | +-----------------------------+----------------+---------------------------+--------------+------------------------------+ | CentOS Stream 10 (ARM) | PASS | SKIPPED | SKIPPED | SKIPPED | +-----------------------------+----------------+---------------------------+--------------+------------------------------+ | Debian 12 (arm) | PASS | PASS | SKIPPED | PASS | +-----------------------------+----------------+---------------------------+--------------+------------------------------+ | Fedora 40 (ARM Clang) | PASS | SKIPPED | SKIPPED | SKIPPED | +-----------------------------+----------------+---------------------------+--------------+------------------------------+ | Fedora 40 (ARM) | PASS | SKIPPED | SKIPPED | SKIPPED | +-----------------------------+----------------+---------------------------+--------------+------------------------------+ | Ubuntu 22.04 (ARM) | PASS | SKIPPED | SKIPPED | SKIPPED | +-----------------------------+----------------+---------------------------+--------------+------------------------------+ | Ubuntu 24.04 (ARM) | PASS | SKIPPED | SKIPPED | SKIPPED | +-----------------------------+----------------+---------------------------+--------------+------------------------------+ | Ubuntu 20.04 (ARM) | PASS | SKIPPED | SKIPPED | SKIPPED | +-----------------------------+----------------+---------------------------+--------------+------------------------------+ | RHEL9 (ARM) | PASS | SKIPPED | SKIPPED | SKIPPED | +-----------------------------+----------------+---------------------------+--------------+------------------------------+ | Fedora 41 (ARM) | PASS | SKIPPED | SKIPPED | SKIPPED | +-----------------------------+----------------+---------------------------+--------------+------------------------------+ | Fedora 41 (ARM Clang) | PASS | SKIPPED | SKIPPED | SKIPPED | +-----------------------------+----------------+---------------------------+--------------+------------------------------+ | 32-bit Ubuntu 22.04.4 (ARM) | PASS | SKIPPED | SKIPPED | SKIPPED | +-----------------------------+----------------+---------------------------+--------------+------------------------------+ | Ubuntu 20.04 ARM SVE | SKIPPED | SKIPPED | PASS | SKIPPED | +-----------------------------+----------------+---------------------------+--------------+------------------------------+ CentOS Stream 9 (ARM) Kernel: Depends on container host Compiler: gcc 11.5.0 20240719 (Red Hat 11.5.0-2) CentOS Stream 10 (ARM) Kernel: Depends on container host Compiler: gcc 14.2.1 20241104 (Red Hat 14.2.1-6) Debian 12 (arm) Kernel: Depends on container host Compiler: gcc (Debian 12.2.0-14) 12.2.0 Fedora 40 (ARM Clang) Kernel: Depends on container host Compiler: clang 18.1.8 (Fedora 18.1.8-1.fc40) Fedora 40 (ARM) Kernel: Depends on container host Compiler: gcc 14.2.1 20240912 (Red Hat 14.2.1-3) Ubuntu 22.04 (ARM) Kernel: Depends on container host Compiler: gcc (Ubuntu 11.4.0-1ubuntu1~22.04) 11.4.0 Ubuntu 24.04 (ARM) Kernel: Depends on container host Compiler: gcc (Ubuntu 13.3.0-6ubuntu2~24.04) 13.3.0 Ubuntu 20.04 (ARM) Kernel: Depends on container host Compiler: gcc (Ubuntu 9.4.0-1ubuntu1~20.04.2) 9.4.0 RHEL9 (ARM) Kernel: Depends on container host Compiler: gcc 11.5.0 20240719 (Red Hat 11.5.0-2) Fedora 41 (ARM) Kernel: Depends on container host Compiler: gcc 14.2.1 20240912 (Red Hat 14.2.1-3) Fedora 41 (ARM Clang) Kernel: Depends on container host Compiler: clang 19.1.5 (Fedora 19.1.5-1.fc41) 32-bit Ubuntu 22.04.4 (ARM) Kernel: 5.15.83+ aarch64 Compiler: gcc (Ubuntu 11.4.0-1ubuntu1~22.04) 11.4.0 Ubuntu 20.04 ARM SVE Kernel: Depends on container host Compiler: gcc (Ubuntu 10.5.0-1ubuntu1~20.04) 10.5.0 To view detailed results, visit: https://lab.dpdk.org/results/dashboard/tarballs/33387/ UNH-IOL DPDK Community Lab To manage your email subscriptions, visit: https://lab.dpdk.org/results/dashboard/preferences/subscriptions/