From mboxrd@z Thu Jan 1 00:00:00 1970 Return-Path: Received: from mails.dpdk.org (mails.dpdk.org [217.70.189.124]) by inbox.dpdk.org (Postfix) with ESMTP id EDB444665F for ; Tue, 29 Apr 2025 16:42:46 +0200 (CEST) Received: from mails.dpdk.org (localhost [127.0.0.1]) by mails.dpdk.org (Postfix) with ESMTP id D3F24402A3; Tue, 29 Apr 2025 16:42:46 +0200 (CEST) Received: from mail-pl1-f227.google.com (mail-pl1-f227.google.com [209.85.214.227]) by mails.dpdk.org (Postfix) with ESMTP id CF8B340277 for ; Tue, 29 Apr 2025 16:42:45 +0200 (CEST) Received: by mail-pl1-f227.google.com with SMTP id d9443c01a7336-225477548e1so63894685ad.0 for ; Tue, 29 Apr 2025 07:42:45 -0700 (PDT) DKIM-Signature: v=1; a=rsa-sha256; c=relaxed/relaxed; d=iol.unh.edu; s=unh-iol; t=1745937765; x=1746542565; darn=dpdk.org; h=cc:to:from:subject:message-id:date:from:to:cc:subject:date :message-id:reply-to; bh=bfyC0g4bYIuuBxWB6+Kz4kPsAKraS1sYcyYPpNAaUUQ=; b=SkjDS8xjFWxIGjI7rgsxmNSNObF4MwQkjD+lblM+E4IpEKappZ+olpCI7/ycbKOjwH bVa458I4i/qvBNBr8rifXGpGzGEEpDXlvf8er5wYerdmfDPird/OaRT5fenxGGTbDXec +j0dDNBeybkHb0RiUr4k82MhvJRF4eOY6mtr8= X-Google-DKIM-Signature: v=1; a=rsa-sha256; c=relaxed/relaxed; d=1e100.net; s=20230601; t=1745937765; x=1746542565; h=cc:to:from:subject:message-id:date:x-gm-message-state:from:to:cc :subject:date:message-id:reply-to; bh=bfyC0g4bYIuuBxWB6+Kz4kPsAKraS1sYcyYPpNAaUUQ=; b=JsIkp6z3C1sYArsoqmcqbg6BTX0ofVJsc0V5uu46wm79tFOopa++1NFZBs1hQkw0Yx P8kpiCUeegmEyFl8//QRZNHekPoBmyjQtMR/oT3HU5vpzxTQnE8AKgpeg98yPTe/WlNh OUIA2SIgRSCoxCoF/2UUc4xW5ltXEeiMBKMF7jQi429fM2U/WxX2dkEYbhZUKblRbz6H KkKJCFhdIzqfLDNDMcLbvnNp2rUQY/+x7zmW/H6po9Hd46mmZ0LPhjaQAWM8h2NkxJk4 y6wfbiadwZweQj8FV1gd/fZ0Hn3mbdY0QOfB6dDaTXR22Ie+4izqEiCkB5N3/r9JxrpH IVcw== X-Gm-Message-State: AOJu0YzbBQ6BaOYXR87FOenEMr6y/MEbPFDfscGR+hE+P9rfD6JpuJgu mjwWef2CBhA/taBy28iwGdyAELKzKReFhqT0VILY3odqPtzyxlwuczmerGb0pahOwOIy4BlvHl5 pEMrOSNyzBeRWp9EqhDFdanDjikJ1ZA4yOhgmFYl7xmwl4/C2BABwUn6t X-Gm-Gg: ASbGncvzgxI05/zKRYgMXtsr16Qh1/uSb2/lEPar84bhNKddZsyUWi894hC0rdtXkoz qyZgff8t4eWG8J1Fj2sR/UuBKJ+ZgERckuLl8L39UkVyH/XE8yq5hmm+gGatvjFucnmunFPaUSN N3mu+UP1OoNw70aOyYsk8QVL7M9Oq3NtfiB31s0mxOsZCuirbi61kaEUH5yZq1xil/UpAgHoo39 /zAXWsfh6XSoZvEcFYJwOlu2XnYnax2XnbJgPpgY6pJPO00CJK66ZduWnxn/Ydr6V7IHQtVNZb3 nHiTEMuKYjwAeBcS44+5IrdRJNlUXh6/YlYqgE1PbERdS2+N X-Google-Smtp-Source: AGHT+IFTP9Qwmcdtyu21jaQXzBELBYA5VOhaOe5ioI77tbKt8po7qS9g0hHLMEqlJu0Ok/O5Y4NBwZLt/L+/ X-Received: by 2002:a17:902:ccc5:b0:220:e362:9b1a with SMTP id d9443c01a7336-22de5fdbd82mr56334525ad.25.1745937764759; Tue, 29 Apr 2025 07:42:44 -0700 (PDT) Received: from postal.iol.unh.edu (postal.iol.unh.edu. [2606:4100:3880:1234::84]) by smtp-relay.gmail.com with ESMTPS id d9443c01a7336-22db4df1d94sm14372705ad.51.2025.04.29.07.42.44 (version=TLS1_2 cipher=ECDHE-ECDSA-AES128-GCM-SHA256 bits=128/128); Tue, 29 Apr 2025 07:42:44 -0700 (PDT) X-Relaying-Domain: iol.unh.edu Date: Tue, 29 Apr 2025 07:42:44 -0700 (PDT) Message-ID: <6810e564.170a0220.19a0e4.f6f6SMTPIN_ADDED_MISSING@mx.google.com> Received: from [172.21.0.7] (unknown [172.18.0.240]) by postal.iol.unh.edu (Postfix) with ESMTP id E05DD6052471; Tue, 29 Apr 2025 10:42:43 -0400 (EDT) Subject: |WARNING| [GIT MASTER] ecadeeb16e75595c1420f7b77a66013893c399dd From: dpdklab@iol.unh.edu To: Test Report Cc: dpdk-test-reports@iol.unh.edu, Bruce Richardson Content-Type: text/plain X-BeenThere: test-report@dpdk.org X-Mailman-Version: 2.1.29 Precedence: list List-Id: automatic DPDK test reports List-Unsubscribe: , List-Archive: List-Post: List-Help: List-Subscribe: , Errors-To: test-report-bounces@dpdk.org _Testing issues_ Branch: dpdk-next-net-intel ecadeeb16e75595c1420f7b77a66013893c399dd --> testing issues Upstream job id: ACVP-FIPS-testing#9669 Test environment and result as below: +--------------------+----------------------+----------------------+ | Environment | compressdev_zlib_pmd | dpdk_fips_validation | +====================+======================+======================+ | Ubuntu 22.04 (ARM) | PASS | SKIPPED | +--------------------+----------------------+----------------------+ | Ubuntu 22.04 | PASS | SKIPPED | +--------------------+----------------------+----------------------+ | Ubuntu 20.04 | SKIPPED | WARN | +--------------------+----------------------+----------------------+ ==== 20 line log output for Ubuntu 20.04 (dpdk_fips_validation): ==== Traceback (most recent call last): File "/dpdk-ci/tools/acvp/acvp_tool.py", line 368, in main( File "/dpdk-ci/tools/acvp/acvp_tool.py", line 314, in main with open(response_path, 'r') as upload_file: FileNotFoundError: [Errno 2] No such file or directory: '/root/workspace/ACVP-FIPS-testing/out/hmac-sha-1-answers.rsp' INFO:root:Using response file... Traceback (most recent call last): File "/dpdk-ci/tools/acvp/acvp_tool.py", line 368, in main( File "/dpdk-ci/tools/acvp/acvp_tool.py", line 314, in main with open(response_path, 'r') as upload_file: FileNotFoundError: [Errno 2] No such file or directory: '/root/workspace/ACVP-FIPS-testing/out/acvp-tdes-cbc-answers.rsp' INFO:root:Using response file... Traceback (most recent call last): File "/dpdk-ci/tools/acvp/acvp_tool.py", line 368, in main( File "/dpdk-ci/tools/acvp/acvp_tool.py", line 314, in main with open(response_path, 'r') as upload_file: FileNotFoundError: [Errno 2] No such file or directory: '/root/workspace/ACVP-FIPS-testing/out/acvp-aes-ctr-answers.rsp' ==== End log output ==== Ubuntu 22.04 (ARM) Kernel: 5.15.0-97-generic Compiler: gcc gcc (Ubuntu 11.4.0-1ubuntu1~22.04) 11.4.0 Ubuntu 22.04 Kernel: 5.15.0-100-generic Compiler: gcc gcc (Ubuntu 11.4.0-1ubuntu1~22.04) 11.4.0 Ubuntu 20.04 Kernel: Depends on container host Compiler: gcc (Ubuntu 9.4.0-1ubuntu1~20.04.2) 9.4.0 To view detailed results, visit: https://lab.dpdk.org/results/dashboard/tarballs/33387/ UNH-IOL DPDK Community Lab To manage your email subscriptions, visit: https://lab.dpdk.org/results/dashboard/preferences/subscriptions/