From mboxrd@z Thu Jan 1 00:00:00 1970 Return-Path: Received: from mails.dpdk.org (mails.dpdk.org [217.70.189.124]) by inbox.dpdk.org (Postfix) with ESMTP id 0861A4665F for ; Tue, 29 Apr 2025 16:56:53 +0200 (CEST) Received: from mails.dpdk.org (localhost [127.0.0.1]) by mails.dpdk.org (Postfix) with ESMTP id BE796402A3; Tue, 29 Apr 2025 16:56:53 +0200 (CEST) Received: from mail-il1-f228.google.com (mail-il1-f228.google.com [209.85.166.228]) by mails.dpdk.org (Postfix) with ESMTP id 52F1140277 for ; Tue, 29 Apr 2025 16:56:52 +0200 (CEST) Received: by mail-il1-f228.google.com with SMTP id e9e14a558f8ab-3d9327d0720so42966585ab.3 for ; Tue, 29 Apr 2025 07:56:52 -0700 (PDT) DKIM-Signature: v=1; a=rsa-sha256; c=relaxed/relaxed; d=iol.unh.edu; s=unh-iol; t=1745938611; x=1746543411; darn=dpdk.org; h=cc:to:from:subject:message-id:date:from:to:cc:subject:date :message-id:reply-to; bh=yQBC3BHwUIhPP5DREgbohZ6N9FYRJfgrMx4GHPm6ETQ=; b=AaUUpjEhh6ffvJN964hFk86HaOZgwgbqb1JBOjxGv4QdfU1Zx+WEu0CHM3hpmxzhe9 /11rRakJ1DJ6bwhUG7bqoinhJLYdzp3Nlaevzz/swPXhVPiWsImE9/MqETJr+lzFlDLq teuaMIOoP8i8fDzckRnPKbJj533EPKSQ7krCc= X-Google-DKIM-Signature: v=1; a=rsa-sha256; c=relaxed/relaxed; d=1e100.net; s=20230601; t=1745938611; x=1746543411; h=cc:to:from:subject:message-id:date:x-gm-message-state:from:to:cc :subject:date:message-id:reply-to; bh=yQBC3BHwUIhPP5DREgbohZ6N9FYRJfgrMx4GHPm6ETQ=; b=ji892Yn8jm+Yckf7yGVIMJq4yA8ydyH3lRGNRcenig41lGoSotsovjOwzSZchgyHIx CZV4CVq9wexU1BzmApXj6jgDFg5FejsfgbksgDEoZI2v5Gde9o1qzJJxN0h57DxXgct6 SVwrf5CFo4BkXI8ZAhFtPKC4BisEvnOuron8YwgXcrCUYRIwYzibyIW73trO2E6LxXhO uJqLMYIY67t2PJQvZAXnFgI456Vq7woTXuxZlL3vl00HoSTMXi1cAOY+mE6B0Nal1CA3 H6SmRcm9FDKMTnN4kyeiFFTLUiFWDIdcNMdayoHsJC+wUQ0JkxRd7funEy79YZefcV9E IzoA== X-Gm-Message-State: AOJu0YyUzKux73l1EVv80gS+Wr1+RwZgePD/VtfHlJxPz9b3N1xE1xUG 9k+YkaA21wy00dxS9ey7yUL4U8DjXZ5sxesnYRjlJBgktjznRbpjEShjtIO85doKg4KuxQSp/oi KD5Eq14PRFf3J3+JpunETK+65sdVo1Al6TQRhbTYo X-Gm-Gg: ASbGncsUuYTcBwUJ96Mq3b0u3buVN/DfNmsZAFv5AZq0EIFSEohUGvs7UD2m239OTW1 kSqXhC7dFrcZ90npW69c1gPIEx16IJf7Bb6ZtsjOnS0O9UFyocLfh4WzqA4ngf3Krw9q6CAlYSA vsM8L+7+D2I/Py+UE/OTahjbBB7l8g0+5o1Rh45BOkN9SePqUc4OcPqpFDceZaAi/F9OzCHrzt8 n1hr1SVIJJHKVV/0YD+I6+STrD6v7BFRSsemQd3mHhmApB3QcRMcLJ/b7q71Ga8I5fOk9SsOWKi P3qBgf+haCgv2LRQDRtzPRcZXrP8tMZk1eNm X-Google-Smtp-Source: AGHT+IE6A1e+PaSvC7O4To0IpaiWoHs+XGoF8LC4TaPQ+2+nhCQyPXyNcdZsn0ZuCwMAklB0ODt16PEYTCwk X-Received: by 2002:a05:6e02:1f0d:b0:3d3:d074:b0d2 with SMTP id e9e14a558f8ab-3d95df202fdmr36804855ab.2.1745938611568; Tue, 29 Apr 2025 07:56:51 -0700 (PDT) Received: from postal.iol.unh.edu (postal.iol.unh.edu. [132.177.123.84]) by smtp-relay.gmail.com with ESMTPS id e9e14a558f8ab-3d95f2b86eesm1998925ab.7.2025.04.29.07.56.51 (version=TLS1_2 cipher=ECDHE-ECDSA-AES128-GCM-SHA256 bits=128/128); Tue, 29 Apr 2025 07:56:51 -0700 (PDT) X-Relaying-Domain: iol.unh.edu Date: Tue, 29 Apr 2025 07:56:51 -0700 (PDT) Message-ID: <6810e8b3.050a0220.7c23d.4341SMTPIN_ADDED_MISSING@mx.google.com> Received: from [172.21.0.7] (unknown [172.18.0.240]) by postal.iol.unh.edu (Postfix) with ESMTP id 043046052471; Tue, 29 Apr 2025 10:56:51 -0400 (EDT) Subject: |SUCCESS| [GIT MASTER] ecadeeb16e75595c1420f7b77a66013893c399dd From: dpdklab@iol.unh.edu To: Test Report Cc: dpdk-test-reports@iol.unh.edu, Bruce Richardson Content-Type: text/plain X-BeenThere: test-report@dpdk.org X-Mailman-Version: 2.1.29 Precedence: list List-Id: automatic DPDK test reports List-Unsubscribe: , List-Archive: List-Post: List-Help: List-Subscribe: , Errors-To: test-report-bounces@dpdk.org _Testing PASS_ Branch: dpdk-next-net-intel ecadeeb16e75595c1420f7b77a66013893c399dd --> testing pass Upstream job id: Generic-VM-Unit-Test-DPDK#28238 Test environment and result as below: +-------------------+----------------+ | Environment | dpdk_unit_test | +===================+================+ | CentOS Stream 9 | PASS | +-------------------+----------------+ | CentOS Stream 10 | PASS | +-------------------+----------------+ | Fedora 40 | PASS | +-------------------+----------------+ | Fedora 41 | PASS | +-------------------+----------------+ | Debian 12 | PASS | +-------------------+----------------+ | Fedora 40 (Clang) | PASS | +-------------------+----------------+ | Ubuntu 24.04 | PASS | +-------------------+----------------+ | RHEL8 | PASS | +-------------------+----------------+ | Ubuntu 20.04 | PASS | +-------------------+----------------+ | Ubuntu 22.04 | PASS | +-------------------+----------------+ | RHEL9 | PASS | +-------------------+----------------+ | Fedora 41 (Clang) | PASS | +-------------------+----------------+ CentOS Stream 9 Kernel: Depends on container host Compiler: gcc 11.5.0 20240719 (Red Hat 11.5.0-2) CentOS Stream 10 Kernel: Depends on container host Compiler: gcc 14.2.1 20241104 (Red Hat 14.2.1-6) Fedora 40 Kernel: Depends on container host Compiler: gcc 14.2.1 20240912 (Red Hat 14.2.1-3) Fedora 41 Kernel: Depends on container host Compiler: gcc 14.2.1 20240912 (Red Hat 14.2.1-3) Debian 12 Kernel: Depends on container host Compiler: gcc (Debian 12.2.0-14) 12.2.0 Fedora 40 (Clang) Kernel: Depends on container host Compiler: clang 18.1.8 (Fedora 18.1.8-1.fc40) Ubuntu 24.04 Kernel: Depends on container host Compiler: gcc (Ubuntu 13.3.0-6ubuntu2~24.04) 13.3.0 RHEL8 Kernel: Depends on container host Compiler: gcc 8.5.0 20210514 (Red Hat 8.5.0-22) Ubuntu 20.04 Kernel: Depends on container host Compiler: gcc (Ubuntu 9.4.0-1ubuntu1~20.04.2) 9.4.0 Ubuntu 22.04 Kernel: Depends on container host Compiler: gcc (Ubuntu 11.4.0-1ubuntu1~22.04) 11.4.0 RHEL9 Kernel: Depends on container host Compiler: gcc 11.5.0 20240719 (Red Hat 11.5.0-2) Fedora 41 (Clang) Kernel: Depends on container host Compiler: clang 19.1.5 (Fedora 19.1.5-1.fc41) To view detailed results, visit: https://lab.dpdk.org/results/dashboard/tarballs/33387/ UNH-IOL DPDK Community Lab To manage your email subscriptions, visit: https://lab.dpdk.org/results/dashboard/preferences/subscriptions/