From mboxrd@z Thu Jan  1 00:00:00 1970
Return-Path: <test-report-bounces@dpdk.org>
Received: from mails.dpdk.org (mails.dpdk.org [217.70.189.124])
	by inbox.dpdk.org (Postfix) with ESMTP id D44DC4665F
	for <public@inbox.dpdk.org>; Tue, 29 Apr 2025 17:32:44 +0200 (CEST)
Received: from mails.dpdk.org (localhost [127.0.0.1])
	by mails.dpdk.org (Postfix) with ESMTP id ADAB7402A3;
	Tue, 29 Apr 2025 17:32:44 +0200 (CEST)
Received: from mail-pl1-f226.google.com (mail-pl1-f226.google.com
 [209.85.214.226])
 by mails.dpdk.org (Postfix) with ESMTP id 90FA040277
 for <test-report@dpdk.org>; Tue, 29 Apr 2025 17:32:43 +0200 (CEST)
Received: by mail-pl1-f226.google.com with SMTP id
 d9443c01a7336-2279915e06eso70533125ad.1
 for <test-report@dpdk.org>; Tue, 29 Apr 2025 08:32:43 -0700 (PDT)
DKIM-Signature: v=1; a=rsa-sha256; c=relaxed/relaxed;
 d=iol.unh.edu; s=unh-iol; t=1745940762; x=1746545562; darn=dpdk.org;
 h=cc:to:from:subject:message-id:date:from:to:cc:subject:date
 :message-id:reply-to;
 bh=jPHY3aEguvXex59S+4Q9sdNceTD3M7VvxTlUPdLwryU=;
 b=DhWiYOwqnEfoK3uZlkRlh2ynaEpvBWNKEJ8DjFC/r014ewlQB6KEeeGRG4YpCK7GDA
 JxLqaBZ392QQwLAtVWInHFOBQnySdaXuKLQk+xo/kcNhl4sId7eNDWPbNEMIWpjOKtNN
 kOagwCosIFalAb5NLI8T0wtWyK7HiHg183oHA=
X-Google-DKIM-Signature: v=1; a=rsa-sha256; c=relaxed/relaxed;
 d=1e100.net; s=20230601; t=1745940762; x=1746545562;
 h=cc:to:from:subject:message-id:date:x-gm-message-state:from:to:cc
 :subject:date:message-id:reply-to;
 bh=jPHY3aEguvXex59S+4Q9sdNceTD3M7VvxTlUPdLwryU=;
 b=hsvN+F9YvrQCA3jcjGeJpDL+BOB/rbN92l8rZ+fCwHaz87AiLF8ZKZdEgCi9T9omb6
 ZOLdqJ0c6bw7OWlpNHC9TjAsWFoeUwFWjSbWEopeytPQtsLlQCqxqthiUZpyXWSw0n8L
 C+9LMSyYAXVWce5n6lejbRNTKy+8kTGa4OJBzQVewrrjrOexCz56ngojlMb4Ewz9WNbH
 oYhPlgV5vvCHA1wSx0A5yGHUusflKEvogdAq0YhdvXvGhfEmgkARSDvG5Zo4mqa0uSHM
 0MHissy3vW1Ts36pbPAxweWxCQeJKN0tP18FVNx8HLmQ4HMesfwEDAtz0GYENkUTuPQX
 4LYA==
X-Gm-Message-State: AOJu0YyEDoeaXZOuclBi+BHc1Ix5lttf+Lz7B17nC8yukjpa55lFqk8I
 q9AHF0+GvMP/EWaWc5AmxlDOryy8rZANfDUF5tnlWK2+w5kq8j45MxQjeBnhL0lQ4FuqdKskl6w
 G9Tdde9ULCF3+NgldMTUbpX+g7mNk6NTvOWA9pDNZfH76KvWpr+/GrFnu
X-Gm-Gg: ASbGncvjR5sJ7a4rhw4XJINz/joyS6kyRfFHC/9WwxFuvc+gHkjiw+AHpSkdf7g80M9
 TAwhHcZceuIWQ/ASII4Q+lRym6zbyBpYCFhDt7GclEA3uHNxCKxGsk3OH6aEe2GYK38Yd1+eDyy
 GPwPDEvimPh5O3SrVz0rpQflmtVxDytwc0+fUiJSgsCnHU7LwBcnS139/uBbsJ4cWCzWA+oi64i
 PZc39jTi5nnDhOXnO9yCRksuioq1E90V1dKA9deqwz1oIY8EPDW2SLomvhO8cudT8JaggIoaBmS
 GhUvAt5EyIP4gOXOSKmjcnEZl1Dht4M14QwQO+niAauKSy3s
X-Google-Smtp-Source: AGHT+IGj4gAr9iu5T5PcZ8W00bkiKHMK6vAybYxlsLQUkKsFYHXVEpETRFA2Aj23sET2hULXUvTvKFL90L2d
X-Received: by 2002:a17:902:e74a:b0:215:b1a3:4701 with SMTP id
 d9443c01a7336-22dc6a02d56mr170396825ad.13.1745940762391; 
 Tue, 29 Apr 2025 08:32:42 -0700 (PDT)
Received: from postal.iol.unh.edu (postal.iol.unh.edu.
 [2606:4100:3880:1234::84]) by smtp-relay.gmail.com with ESMTPS id
 d9443c01a7336-22db5100d63sm13884155ad.71.2025.04.29.08.32.42
 (version=TLS1_2 cipher=ECDHE-ECDSA-AES128-GCM-SHA256 bits=128/128);
 Tue, 29 Apr 2025 08:32:42 -0700 (PDT)
X-Relaying-Domain: iol.unh.edu
Date: Tue, 29 Apr 2025 08:32:42 -0700 (PDT)
Message-ID: <6810f11a.170a0220.16a867.df68SMTPIN_ADDED_MISSING@mx.google.com>
Received: from [172.21.0.5] (unknown [172.18.0.240])
 by postal.iol.unh.edu (Postfix) with ESMTP id C32976052471;
 Tue, 29 Apr 2025 11:32:41 -0400 (EDT)
Subject: |SUCCESS| [GIT MASTER] ecadeeb16e75595c1420f7b77a66013893c399dd
From: dpdklab@iol.unh.edu
To: Test Report <test-report@dpdk.org>
Cc: dpdk-test-reports@iol.unh.edu,
 Bruce Richardson <bruce.richardson@intel.com>
Content-Type: text/plain
X-BeenThere: test-report@dpdk.org
X-Mailman-Version: 2.1.29
Precedence: list
List-Id: automatic DPDK test reports <test-report.dpdk.org>
List-Unsubscribe: <https://mails.dpdk.org/options/test-report>,
 <mailto:test-report-request@dpdk.org?subject=unsubscribe>
List-Archive: <http://mails.dpdk.org/archives/test-report/>
List-Post: <mailto:test-report@dpdk.org>
List-Help: <mailto:test-report-request@dpdk.org?subject=help>
List-Subscribe: <https://mails.dpdk.org/listinfo/test-report>,
 <mailto:test-report-request@dpdk.org?subject=subscribe>
Errors-To: test-report-bounces@dpdk.org

_Testing PASS_

Branch: dpdk-next-net-intel

ecadeeb16e75595c1420f7b77a66013893c399dd --> testing pass

Upstream job id: Generic-DPDK-Compile-Meson#383770

Test environment and result as below:

+----------------------------------------+--------------------+
|              Environment               | dpdk_meson_compile |
+========================================+====================+
| RHEL9 (ARM)                            | PASS               |
+----------------------------------------+--------------------+
| Ubuntu 20.04 ARM GCC Cross Compile     | PASS               |
+----------------------------------------+--------------------+
| Debian 12 with MUSDK                   | PASS               |
+----------------------------------------+--------------------+
| Ubuntu 20.04 ARM SVE                   | PASS               |
+----------------------------------------+--------------------+
| Fedora 40 (ARM)                        | PASS               |
+----------------------------------------+--------------------+
| Fedora 40 (ARM Clang)                  | PASS               |
+----------------------------------------+--------------------+
| Fedora 41 (ARM)                        | PASS               |
+----------------------------------------+--------------------+
| Fedora 41 (ARM Clang)                  | PASS               |
+----------------------------------------+--------------------+
| Ubuntu 20.04 (ARM)                     | PASS               |
+----------------------------------------+--------------------+
| CentOS Stream 10 (ARM)                 | PASS               |
+----------------------------------------+--------------------+
| Ubuntu 22.04 (ARM)                     | PASS               |
+----------------------------------------+--------------------+
| Ubuntu 24.04 (ARM)                     | PASS               |
+----------------------------------------+--------------------+
| Debian 12 (arm)                        | PASS               |
+----------------------------------------+--------------------+
| CentOS Stream 9 (ARM)                  | PASS               |
+----------------------------------------+--------------------+
| Ubuntu 20.04 ARM Clang Cross Compile   | PASS               |
+----------------------------------------+--------------------+
| Ubuntu 20.04 aarch32 GCC Cross Compile | PASS               |
+----------------------------------------+--------------------+


RHEL9 (ARM)
	Kernel: Depends on container host
	Compiler: gcc 11.5.0 20240719 (Red Hat 11.5.0-2)

Ubuntu 20.04 ARM GCC Cross Compile
	Kernel: Depends on container host
	Compiler: aarch64-linux-gnu-gcc (Ubuntu 9.4.0-1ubuntu1~20.04.2) 9.4.0

Debian 12 with MUSDK
	Kernel: Depends on container host
	Compiler: gcc (Debian 12.2.0-14) 12.2.0

Ubuntu 20.04 ARM SVE
	Kernel: Depends on container host
	Compiler: gcc (Ubuntu 10.5.0-1ubuntu1~20.04) 10.5.0

Fedora 40 (ARM)
	Kernel: Depends on container host
	Compiler: gcc 14.2.1 20240912 (Red Hat 14.2.1-3)

Fedora 40 (ARM Clang)
	Kernel: Depends on container host
	Compiler: clang 18.1.8 (Fedora 18.1.8-1.fc40)

Fedora 41 (ARM)
	Kernel: Depends on container host
	Compiler: gcc 14.2.1 20240912 (Red Hat 14.2.1-3)

Fedora 41 (ARM Clang)
	Kernel: Depends on container host
	Compiler: clang 19.1.5 (Fedora 19.1.5-1.fc41)

Ubuntu 20.04 (ARM)
	Kernel: Depends on container host
	Compiler: gcc (Ubuntu 9.4.0-1ubuntu1~20.04.2) 9.4.0

CentOS Stream 10 (ARM)
	Kernel: Depends on container host
	Compiler: gcc 14.2.1 20241104 (Red Hat 14.2.1-6)

Ubuntu 22.04 (ARM)
	Kernel: Depends on container host
	Compiler: gcc (Ubuntu 11.4.0-1ubuntu1~22.04) 11.4.0

Ubuntu 24.04 (ARM)
	Kernel: Depends on container host
	Compiler: gcc (Ubuntu 13.3.0-6ubuntu2~24.04) 13.3.0

Debian 12 (arm)
	Kernel: Depends on container host
	Compiler: gcc (Debian 12.2.0-14) 12.2.0

CentOS Stream 9 (ARM)
	Kernel: Depends on container host
	Compiler: gcc 11.5.0 20240719 (Red Hat 11.5.0-2)

Ubuntu 20.04 ARM Clang Cross Compile
	Kernel: Depends on container host
	Compiler: clang 10.0.0-4ubuntu1

Ubuntu 20.04 aarch32 GCC Cross Compile
	Kernel: Depends on container host
	Compiler: gcc 9.4.0

To view detailed results, visit:
https://lab.dpdk.org/results/dashboard/tarballs/33387/

UNH-IOL DPDK Community Lab

To manage your email subscriptions, visit: 
https://lab.dpdk.org/results/dashboard/preferences/subscriptions/