From mboxrd@z Thu Jan 1 00:00:00 1970 Return-Path: Received: from mails.dpdk.org (mails.dpdk.org [217.70.189.124]) by inbox.dpdk.org (Postfix) with ESMTP id BE4CF46660 for ; Tue, 29 Apr 2025 18:10:15 +0200 (CEST) Received: from mails.dpdk.org (localhost [127.0.0.1]) by mails.dpdk.org (Postfix) with ESMTP id 9300B402A3; Tue, 29 Apr 2025 18:10:15 +0200 (CEST) Received: from mail-yb1-f228.google.com (mail-yb1-f228.google.com [209.85.219.228]) by mails.dpdk.org (Postfix) with ESMTP id 0610040277 for ; Tue, 29 Apr 2025 18:10:14 +0200 (CEST) Received: by mail-yb1-f228.google.com with SMTP id 3f1490d57ef6-e733b858574so2365539276.2 for ; Tue, 29 Apr 2025 09:10:13 -0700 (PDT) DKIM-Signature: v=1; a=rsa-sha256; c=relaxed/relaxed; d=iol.unh.edu; s=unh-iol; t=1745943013; x=1746547813; darn=dpdk.org; h=references:in-reply-to:cc:to:from:subject:message-id:date:from:to :cc:subject:date:message-id:reply-to; bh=PmN7ULfhfwKUi9ZVkm+XXhURMhDZObrSlJ3nn4iONn8=; b=b9tviHfwa3aHPRNuQN7L4jxF1VEYo0cozoyFBDQwMzPRHIxNYdI6p9mouIbUGiSSw2 uzPDJ2ZSyxGOJuUZzvDO9BIhFHIdDLn0q6wglWKSDBQPfirv3kI9BBuxU0lfY/VXCrXn j3u6wXkmnl7eUmRx5/q4SQlQJgbMlIxO2t42Q= X-Google-DKIM-Signature: v=1; a=rsa-sha256; c=relaxed/relaxed; d=1e100.net; s=20230601; t=1745943013; x=1746547813; h=references:in-reply-to:cc:to:from:subject:message-id:date :x-gm-message-state:from:to:cc:subject:date:message-id:reply-to; bh=PmN7ULfhfwKUi9ZVkm+XXhURMhDZObrSlJ3nn4iONn8=; b=A7JljjteUHhDMsQmMhZCcALclwDfpOoR3yk1UWRjmzfuyJabe2V0PKsJmY+Yq7dRmZ YDZl5Kx7tVWI204QLF8Ikssio4u3JQwKF7ip3E3R5AOa9EzTfE6K8uCQcq8abs0jpV9T 5lY6SslP785l51IfDYrmwp+PJJjl5zma6HQD8AuoOAwyQGAY7dJoZTQYB0NvBLknrLML 15SVXoGbH0zozDyP1zBTerVbnZHwUJH04jLm1yIjF6q+gBDhAcp1TSLidg0NTvpjWrMR CDMqiVslNhjBv+21l8Wg0lBx1bdFc8/ayeCNdWIWYdafEp95EJ2Jtku/wEB2c2UGwYZO m7TA== X-Gm-Message-State: AOJu0Ywod0NdoTNf6j3RGw7XX+i5szM5DT7IG9jbynmmY7UxU4R0pJ7x acdvz2jxBysmTHCtJa4uMkE+SjolbGAR5t6uhA9n/RP6C5tEVUMC+FnFWhE+KkyWMKYT4CDOem6 0J/URQxs50o2I0/e4VJjfjOzi0NCflEUd7kCnXkrUjGtFSGBUXscJBMvi X-Gm-Gg: ASbGnctjxC7d9XcegMAj1ifbBg7tvzma53NhzaMxio3M6YTwOZXG7boHF2MNRUCgGOr QsaKhmnMY2RBqZV3CjjZjPHQeAARlPdxB2U8gZgyetJDmuo0R0MzPD3U8o62DsV6a4UumqESYw3 NRiC0x0o9+pBmBIp+cNp5Z69FzMfvn4uPMHxi5X2qIRvztd6cYs0uQ4tKu67rLggPo0l8r2FPWF eYL1RQB+C6Fg8WfqkNZV/2NvfOpxLZEkmFgVSC6OmcBDygh30SS4QKGABlNpfiPfXMiYV2/mQoX pobnSxwlQddJWPp4XXt3nJVtrNCUkML0PvvLEOMIC+ZCMhBM X-Google-Smtp-Source: AGHT+IFh1EiiyL9U0RgpyEvHb8RhDsjiz7hYR7Jok5PnVL22IcoxKe4skxGAsnGs+QZ7CWw6LE0WreRL7AzI X-Received: by 2002:a05:6902:2407:b0:e72:d88e:80d3 with SMTP id 3f1490d57ef6-e7351a7c758mr4592573276.36.1745943013092; Tue, 29 Apr 2025 09:10:13 -0700 (PDT) Received: from postal.iol.unh.edu (postal.iol.unh.edu. [2606:4100:3880:1234::84]) by smtp-relay.gmail.com with ESMTPS id 3f1490d57ef6-e731ed32dc6sm849820276.27.2025.04.29.09.10.13 (version=TLS1_2 cipher=ECDHE-ECDSA-AES128-GCM-SHA256 bits=128/128); Tue, 29 Apr 2025 09:10:13 -0700 (PDT) X-Relaying-Domain: iol.unh.edu Date: Tue, 29 Apr 2025 09:10:13 -0700 (PDT) Message-ID: <6810f9e5.050a0220.3d560f.c0cfSMTPIN_ADDED_MISSING@mx.google.com> Received: from [172.17.0.4] (unknown [172.18.0.74]) by postal.iol.unh.edu (Postfix) with ESMTP id A45176052471; Tue, 29 Apr 2025 12:10:12 -0400 (EDT) Subject: |SUCCESS| pw153182 [PATCH] [V2] Add new tracepoint function for type From: dpdklab@iol.unh.edu To: Test Report Cc: dpdk-test-reports@iol.unh.edu In-Reply-To: <20250429030437.1128853-1-changqing.li@windriver.com> References: <20250429030437.1128853-1-changqing.li@windriver.com> Content-Type: text/plain X-BeenThere: test-report@dpdk.org X-Mailman-Version: 2.1.29 Precedence: list List-Id: automatic DPDK test reports List-Unsubscribe: , List-Archive: List-Post: List-Help: List-Subscribe: , Errors-To: test-report-bounces@dpdk.org Test-Label: iol-unit-amd64-testing Test-Status: SUCCESS http://dpdk.org/patch/153182 _Testing PASS_ Submitter: Changqing Li Date: Tuesday, April 29 2025 03:04:37 DPDK git baseline: Repo:dpdk Branch: master CommitID:ca1690ebd224f148268285b15b97441ccdbdd07e 153182 --> testing pass Upstream job id: Generic-Unit-Test-DPDK#334297 Test environment and result as below: +---------------------+----------------+ | Environment | dpdk_unit_test | +=====================+================+ | CentOS Stream 9 | PASS | +---------------------+----------------+ | Debian 12 | PASS | +---------------------+----------------+ | CentOS Stream 10 | PASS | +---------------------+----------------+ | Fedora 40 | PASS | +---------------------+----------------+ | Fedora 40 (Clang) | PASS | +---------------------+----------------+ | RHEL8 | PASS | +---------------------+----------------+ | Fedora 41 (Clang) | PASS | +---------------------+----------------+ | Fedora 41 | PASS | +---------------------+----------------+ | Ubuntu 22.04 | PASS | +---------------------+----------------+ | RHEL9 | PASS | +---------------------+----------------+ | Ubuntu 20.04 | PASS | +---------------------+----------------+ | Ubuntu 24.04 | PASS | +---------------------+----------------+ | Windows Server 2022 | PASS | +---------------------+----------------+ CentOS Stream 9 Kernel: Depends on container host Compiler: gcc 11.5.0 20240719 (Red Hat 11.5.0-2) Debian 12 Kernel: Depends on container host Compiler: gcc (Debian 12.2.0-14) 12.2.0 CentOS Stream 10 Kernel: Depends on container host Compiler: gcc 14.2.1 20241104 (Red Hat 14.2.1-6) Fedora 40 Kernel: Depends on container host Compiler: gcc 14.2.1 20240912 (Red Hat 14.2.1-3) Fedora 40 (Clang) Kernel: Depends on container host Compiler: clang 18.1.8 (Fedora 18.1.8-1.fc40) RHEL8 Kernel: Depends on container host Compiler: gcc 8.5.0 20210514 (Red Hat 8.5.0-22) Fedora 41 (Clang) Kernel: Depends on container host Compiler: clang 19.1.5 (Fedora 19.1.5-1.fc41) Fedora 41 Kernel: Depends on container host Compiler: gcc 14.2.1 20240912 (Red Hat 14.2.1-3) Ubuntu 22.04 Kernel: Depends on container host Compiler: gcc (Ubuntu 11.4.0-1ubuntu1~22.04) 11.4.0 RHEL9 Kernel: Depends on container host Compiler: gcc 11.5.0 20240719 (Red Hat 11.5.0-2) Ubuntu 20.04 Kernel: Depends on container host Compiler: gcc (Ubuntu 9.4.0-1ubuntu1~20.04.2) 9.4.0 Ubuntu 24.04 Kernel: Depends on container host Compiler: gcc (Ubuntu 13.3.0-6ubuntu2~24.04) 13.3.0 Windows Server 2022 Kernel: 10.0.20348.2031 Compiler: clang 15.0.7, gcc 14.1.0 (MinGW), and MSVC VS 19.39.33521 To view detailed results, visit: https://lab.dpdk.org/results/dashboard/patchsets/33083/ UNH-IOL DPDK Community Lab To manage your email subscriptions, visit: https://lab.dpdk.org/results/dashboard/preferences/subscriptions/