From mboxrd@z Thu Jan 1 00:00:00 1970 Return-Path: Received: from mails.dpdk.org (mails.dpdk.org [217.70.189.124]) by inbox.dpdk.org (Postfix) with ESMTP id 6500146660 for ; Tue, 29 Apr 2025 18:33:11 +0200 (CEST) Received: from mails.dpdk.org (localhost [127.0.0.1]) by mails.dpdk.org (Postfix) with ESMTP id 34FCA402A3; Tue, 29 Apr 2025 18:33:11 +0200 (CEST) Received: from mail-io1-f99.google.com (mail-io1-f99.google.com [209.85.166.99]) by mails.dpdk.org (Postfix) with ESMTP id 95E0D40277 for ; Tue, 29 Apr 2025 18:33:09 +0200 (CEST) Received: by mail-io1-f99.google.com with SMTP id ca18e2360f4ac-8613f456960so174971139f.1 for ; Tue, 29 Apr 2025 09:33:09 -0700 (PDT) DKIM-Signature: v=1; a=rsa-sha256; c=relaxed/relaxed; d=iol.unh.edu; s=unh-iol; t=1745944389; x=1746549189; darn=dpdk.org; h=references:in-reply-to:cc:to:from:subject:message-id:date:from:to :cc:subject:date:message-id:reply-to; bh=NAiFUrjKRHCSWCDbnzCEkpwW2juGbbIoo0VS43Kgp0g=; b=Qd77I1VILdCXCm1R0nnnswY6cXAISsctJTiJ0dNBMbJlA6ePusini+MKHFlXyPUwnu OkyMPkZ8z5nDC92sc6Ft4q8g9yw5GFL3dCYqj0KUP7ZoCWKhmnRnHKLR90E0RjkbK1fR t2PRWuP34qJo+qYkiqwvNxq3SrBfwAIHBkZ50= X-Google-DKIM-Signature: v=1; a=rsa-sha256; c=relaxed/relaxed; d=1e100.net; s=20230601; t=1745944389; x=1746549189; h=references:in-reply-to:cc:to:from:subject:message-id:date :x-gm-message-state:from:to:cc:subject:date:message-id:reply-to; bh=NAiFUrjKRHCSWCDbnzCEkpwW2juGbbIoo0VS43Kgp0g=; b=DGBDG6AqCpO/WhqOd+SexR19OfRFWkbPr3CIDj9Kx2mToX5BKgyAQ+aIWvzowVVhV9 6qVOl8dRMhS+d5VtvjtvGh61N3ElJME6nkOFpw5VsJkE3DGpRU7TuPHjCMxYYnic3Hw2 Zg2M5RGjHjd8vSwntRUKo9uONuoqNidVzeGKV5Z5aiGOa/dvgxpAD08XOOYitPEJti4R 4A6F++Hs/d9GRfNYfAr+T+umDBucVTEPp+UIozDSIbpliUzFrNvK+IKGeQAeHl7gF0Qu k76xLqWO/5hsFQLDb8YWLRjJpoFLn9y6TopNyVV8aRo4Ln8WFhXI5ciyZdHY96ReK3/r +TYA== X-Gm-Message-State: AOJu0YxO0CoMhWukLfUxJM+oFtontp9DpWPiXkvmRnCfCJ3gHixDhbOy zLpvGnacSNtdjlFL1NmD64yyUTOqZOaqx+TbRSqEwV3UzJubVGRk1wbqkFhCKEq9R3143kCHQlG uSNZgDHBfnjyjd82KTmx5KnFq4Rl+MM8dDpgrzDUN X-Gm-Gg: ASbGncvfVs5p23a2ltqR4R5tp0SqGRpXTV0blZsXla3zYWt3S1TlclcucF26MBcVG2/ EVRmOHVxwBtRrarm1baJpwiCuHcpipV+5TBajaVEbiCcd3XPE6kf5VcGUKi91DLxiJKTyjeriQh bzTvQmBy16SvKqUDpD9TNMipO/aExwx+3sdWTgNGZtg5LVnYtYUVPtdvRCRg7qkUK6/WR+sgDFO arVJ5N4dgnf5relqaLGBkBnobMp0EIcpAz1uTGe0DgOm5YfqQgGcT9fa/pVpey9s3FrpZVFLCIC z9itEqJQkH145ckntrfm6OZ3SkOpmuVkD3bB X-Google-Smtp-Source: AGHT+IH8AdedcbMEO+J+kl53P9nasrKXF+G+MdAgrpKLej0v55ePIeccikXzHjqUhUuAR08Aw03i7WWVmGkp X-Received: by 2002:a05:6e02:1888:b0:3d4:2a4e:1272 with SMTP id e9e14a558f8ab-3d95d31175cmr43066425ab.19.1745944388830; Tue, 29 Apr 2025 09:33:08 -0700 (PDT) Received: from postal.iol.unh.edu (postal.iol.unh.edu. [132.177.123.84]) by smtp-relay.gmail.com with ESMTPS id e9e14a558f8ab-3d95f452b47sm2141665ab.46.2025.04.29.09.33.08 (version=TLS1_2 cipher=ECDHE-ECDSA-AES128-GCM-SHA256 bits=128/128); Tue, 29 Apr 2025 09:33:08 -0700 (PDT) X-Relaying-Domain: iol.unh.edu Date: Tue, 29 Apr 2025 09:33:08 -0700 (PDT) Message-ID: <6810ff44.050a0220.35e4a0.4f42SMTPIN_ADDED_MISSING@mx.google.com> Received: from [172.17.0.2] (unknown [172.18.0.74]) by postal.iol.unh.edu (Postfix) with ESMTP id 481D36052471; Tue, 29 Apr 2025 12:33:08 -0400 (EDT) Subject: |SUCCESS| pw153182 [PATCH] [V2] Add new tracepoint function for type From: dpdklab@iol.unh.edu To: Test Report Cc: dpdk-test-reports@iol.unh.edu In-Reply-To: <20250429030437.1128853-1-changqing.li@windriver.com> References: <20250429030437.1128853-1-changqing.li@windriver.com> Content-Type: text/plain X-BeenThere: test-report@dpdk.org X-Mailman-Version: 2.1.29 Precedence: list List-Id: automatic DPDK test reports List-Unsubscribe: , List-Archive: List-Post: List-Help: List-Subscribe: , Errors-To: test-report-bounces@dpdk.org Test-Label: iol-compile-amd64-testing Test-Status: SUCCESS http://dpdk.org/patch/153182 _Testing PASS_ Submitter: Changqing Li Date: Tuesday, April 29 2025 03:04:37 DPDK git baseline: Repo:dpdk Branch: master CommitID:ca1690ebd224f148268285b15b97441ccdbdd07e 153182 --> testing pass Upstream job id: Generic-DPDK-Compile-Meson#383829 Test environment and result as below: +-----------------------------------+--------------------+-------------------+------------------+-------------------+-------------------------+----------------------+ | Environment | dpdk_meson_compile | dpdk_compile_spdk | dpdk_compile_ovs | dpdk_msvc_compile | dpdk_llvm_clang_compile | dpdk_mingw64_compile | +===================================+====================+===================+==================+===================+=========================+======================+ | CentOS Stream 10 | PASS | SKIPPED | SKIPPED | SKIPPED | SKIPPED | SKIPPED | +-----------------------------------+--------------------+-------------------+------------------+-------------------+-------------------------+----------------------+ | Fedora 40 (Clang) | PASS | PASS | SKIPPED | SKIPPED | SKIPPED | SKIPPED | +-----------------------------------+--------------------+-------------------+------------------+-------------------+-------------------------+----------------------+ | Fedora 40 | PASS | PASS | SKIPPED | SKIPPED | SKIPPED | SKIPPED | +-----------------------------------+--------------------+-------------------+------------------+-------------------+-------------------------+----------------------+ | Fedora 41 (Clang) | PASS | PASS | PASS | SKIPPED | SKIPPED | SKIPPED | +-----------------------------------+--------------------+-------------------+------------------+-------------------+-------------------------+----------------------+ | RHEL8 | PASS | SKIPPED | SKIPPED | SKIPPED | SKIPPED | SKIPPED | +-----------------------------------+--------------------+-------------------+------------------+-------------------+-------------------------+----------------------+ | Fedora 41 | PASS | PASS | PASS | SKIPPED | SKIPPED | SKIPPED | +-----------------------------------+--------------------+-------------------+------------------+-------------------+-------------------------+----------------------+ | RHEL9 | PASS | SKIPPED | SKIPPED | SKIPPED | SKIPPED | SKIPPED | +-----------------------------------+--------------------+-------------------+------------------+-------------------+-------------------------+----------------------+ | openSUSE Leap 15 | PASS | SKIPPED | SKIPPED | SKIPPED | SKIPPED | SKIPPED | +-----------------------------------+--------------------+-------------------+------------------+-------------------+-------------------------+----------------------+ | Ubuntu 20.04 | PASS | SKIPPED | SKIPPED | SKIPPED | SKIPPED | SKIPPED | +-----------------------------------+--------------------+-------------------+------------------+-------------------+-------------------------+----------------------+ | Ubuntu 24.04 | PASS | PASS | PASS | SKIPPED | SKIPPED | SKIPPED | +-----------------------------------+--------------------+-------------------+------------------+-------------------+-------------------------+----------------------+ | Ubuntu 22.04 | PASS | PASS | SKIPPED | SKIPPED | SKIPPED | SKIPPED | +-----------------------------------+--------------------+-------------------+------------------+-------------------+-------------------------+----------------------+ | FreeBSD 13.5 | PASS | SKIPPED | SKIPPED | SKIPPED | SKIPPED | SKIPPED | +-----------------------------------+--------------------+-------------------+------------------+-------------------+-------------------------+----------------------+ | Ubuntu 24.04 32 Bit Cross Compile | PASS | SKIPPED | SKIPPED | SKIPPED | SKIPPED | SKIPPED | +-----------------------------------+--------------------+-------------------+------------------+-------------------+-------------------------+----------------------+ | Alpine | PASS | SKIPPED | SKIPPED | SKIPPED | SKIPPED | SKIPPED | +-----------------------------------+--------------------+-------------------+------------------+-------------------+-------------------------+----------------------+ | FreeBSD 14.2 | PASS | SKIPPED | SKIPPED | SKIPPED | SKIPPED | SKIPPED | +-----------------------------------+--------------------+-------------------+------------------+-------------------+-------------------------+----------------------+ | Windows Server 2022 | SKIPPED | SKIPPED | SKIPPED | PASS | PASS | PASS | +-----------------------------------+--------------------+-------------------+------------------+-------------------+-------------------------+----------------------+ CentOS Stream 10 Kernel: Depends on container host Compiler: gcc 14.2.1 20241104 (Red Hat 14.2.1-6) Fedora 40 (Clang) Kernel: Depends on container host Compiler: clang 18.1.8 (Fedora 18.1.8-1.fc40) Fedora 40 Kernel: Depends on container host Compiler: gcc 14.2.1 20240912 (Red Hat 14.2.1-3) Fedora 41 (Clang) Kernel: Depends on container host Compiler: clang 19.1.5 (Fedora 19.1.5-1.fc41) RHEL8 Kernel: Depends on container host Compiler: gcc 8.5.0 20210514 (Red Hat 8.5.0-22) Fedora 41 Kernel: Depends on container host Compiler: gcc 14.2.1 20240912 (Red Hat 14.2.1-3) RHEL9 Kernel: Depends on container host Compiler: gcc 11.5.0 20240719 (Red Hat 11.5.0-2) openSUSE Leap 15 Kernel: Depends on container host Compiler: gcc (SUSE Linux) 7.5.0 Ubuntu 20.04 Kernel: Depends on container host Compiler: gcc (Ubuntu 9.4.0-1ubuntu1~20.04.2) 9.4.0 Ubuntu 24.04 Kernel: Depends on container host Compiler: gcc (Ubuntu 13.3.0-6ubuntu2~24.04) 13.3.0 Ubuntu 22.04 Kernel: Depends on container host Compiler: gcc (Ubuntu 11.4.0-1ubuntu1~22.04) 11.4.0 FreeBSD 13.5 Kernel: 13.5-RELEASE Compiler: clang 19.1.7 Ubuntu 24.04 32 Bit Cross Compile Kernel: Depends on container host Compiler: gcc (Ubuntu 13.3.0-6ubuntu2~24.04) 13.3.0 Alpine Kernel: Depends on container host Compiler: gcc (Alpine 14.2.0) 14.2.0 FreeBSD 14.2 Kernel: 14.2-RELEASE Compiler: clang 18.1.6 Windows Server 2022 Kernel: 10.0.20348.2031 Compiler: clang 15.0.7, gcc 14.1.0 (MinGW), and MSVC VS 19.39.33521 To view detailed results, visit: https://lab.dpdk.org/results/dashboard/patchsets/33083/ UNH-IOL DPDK Community Lab To manage your email subscriptions, visit: https://lab.dpdk.org/results/dashboard/preferences/subscriptions/