From mboxrd@z Thu Jan 1 00:00:00 1970 Return-Path: Received: from mails.dpdk.org (mails.dpdk.org [217.70.189.124]) by inbox.dpdk.org (Postfix) with ESMTP id 57CA446660 for ; Tue, 29 Apr 2025 18:33:38 +0200 (CEST) Received: from mails.dpdk.org (localhost [127.0.0.1]) by mails.dpdk.org (Postfix) with ESMTP id 53725402A3; Tue, 29 Apr 2025 18:33:38 +0200 (CEST) Received: from mail-yw1-f226.google.com (mail-yw1-f226.google.com [209.85.128.226]) by mails.dpdk.org (Postfix) with ESMTP id 2B3FC40277 for ; Tue, 29 Apr 2025 18:33:37 +0200 (CEST) Received: by mail-yw1-f226.google.com with SMTP id 00721157ae682-6ff37565232so50118577b3.3 for ; Tue, 29 Apr 2025 09:33:37 -0700 (PDT) DKIM-Signature: v=1; a=rsa-sha256; c=relaxed/relaxed; d=iol.unh.edu; s=unh-iol; t=1745944416; x=1746549216; darn=dpdk.org; h=references:in-reply-to:cc:to:from:subject:message-id:date:from:to :cc:subject:date:message-id:reply-to; bh=p0YGOELJsV7+Dq9gERtwPHN/IJu32FTQ6MIlIR0fgGI=; b=SNeyj2ulaOcQiiLd0iNY6R++qyI2qqi/JxfjwuLJk5YvqugQngJM5n/NFWZr/ANGSq eCeaFbal4RATHLuGd8+lmdRsx2v14wzAYrWXH2wXKXr9JfvwFTt35KvKAV+mlrNTmmNZ Oa/UYXZS2W9hY4UplE3vlkwIGjOrQD7QUCjcw= X-Google-DKIM-Signature: v=1; a=rsa-sha256; c=relaxed/relaxed; d=1e100.net; s=20230601; t=1745944416; x=1746549216; h=references:in-reply-to:cc:to:from:subject:message-id:date :x-gm-message-state:from:to:cc:subject:date:message-id:reply-to; bh=p0YGOELJsV7+Dq9gERtwPHN/IJu32FTQ6MIlIR0fgGI=; b=FoiCG+Hb0nnyJZSTgam8+EXewUwDoq6yryufXJZhC06L593vg0PhvnAxYFSWOht7D+ 4Yo6+IRf7eRYHTqRP6R4AzSL4rjeXI/59wC3ncLDD/Xg0nzeujg7NI1a96xklExWCY04 aAEhxrWnexRWwVB5hAFHoFK5Awc2IUvebiZhbp0xG/tMHFbuaxALk/+GWXo/iElAHVIY QtYL1b9u9bMrOnFnVxw7TEak11Wqc/tT7oJ7aWvxo1lEYXiYL9A6lPxRgyE0dWZ6sNN2 41Gndm/J1p6wyzqHP3qF0gGv+MU3IDz9+FMI6/tMwTt9af+Z/umL+BLHw6ic12ZFKUWZ UJcg== X-Gm-Message-State: AOJu0YyEACgm55v+MXzcnnCBONJoc4h2SUO0Thjeh5VJsdEoy/oLe4tf /Yoj6GXedlOMV3CCM9GZx8DJJXMBGdw0GeUgEwiQNS5irJ8CVJm8s+6xJkewiLqI0pY27l3nbdN tyasMdgWrbSTIrn1QTjI55ZGyTgJiW+KNVrBSHmWcRQgFhxWAdpsmPHkA X-Gm-Gg: ASbGnctlvpo7jJgTielZuqg9uEMM/fKLubstjK83kZrfjdPNKOuQuWp9v9rpABA1h2K 48dFIFr/0jXgi7GDdZzIfCdavEvB9GGxhr970B6j9/9hd+To1Pyzjxxo3r6Vij2e3pNyL1Df3Rx q3Ol4x+YNwa6IHss+ekGrCBVSFPkInrL3NLFDUqOiL4/5kjhCAyIDV+t1pX2vE0wsqgNWdsqnzK KPLsktGFtRcOWAUAkQjaylvgOLDco1FWzSt7GC//gK7Yh8LIleJ2Z6luTCOJ2EA02yPDUI+md7G cGdgcEPmWqrCLnR0CxbY8x1ylhGA7GmsQfAe6tqYZEUg/NlB X-Google-Smtp-Source: AGHT+IFajxNNuJ57k8GeoewxdWhPJfAJ9a/Ht6/a3oaAfO55KYVAfUsnLoVfxQ7yIRG/iYGY7KvnTIEJryb0 X-Received: by 2002:a05:690c:c83:b0:703:b30d:3e2b with SMTP id 00721157ae682-708abd8f489mr687117b3.20.1745944416008; Tue, 29 Apr 2025 09:33:36 -0700 (PDT) Received: from postal.iol.unh.edu (postal.iol.unh.edu. [2606:4100:3880:1234::84]) by smtp-relay.gmail.com with ESMTPS id 00721157ae682-70841984e87sm10428207b3.29.2025.04.29.09.33.35 (version=TLS1_2 cipher=ECDHE-ECDSA-AES128-GCM-SHA256 bits=128/128); Tue, 29 Apr 2025 09:33:36 -0700 (PDT) X-Relaying-Domain: iol.unh.edu Date: Tue, 29 Apr 2025 09:33:36 -0700 (PDT) Message-ID: <6810ff5f.050a0220.ff152.1eddSMTPIN_ADDED_MISSING@mx.google.com> Received: from [172.17.0.2] (unknown [172.18.0.74]) by postal.iol.unh.edu (Postfix) with ESMTP id 944F76052471; Tue, 29 Apr 2025 12:33:35 -0400 (EDT) Subject: |SUCCESS| pw153182 [PATCH] [V2] Add new tracepoint function for type From: dpdklab@iol.unh.edu To: Test Report Cc: dpdk-test-reports@iol.unh.edu In-Reply-To: <20250429030437.1128853-1-changqing.li@windriver.com> References: <20250429030437.1128853-1-changqing.li@windriver.com> Content-Type: text/plain X-BeenThere: test-report@dpdk.org X-Mailman-Version: 2.1.29 Precedence: list List-Id: automatic DPDK test reports List-Unsubscribe: , List-Archive: List-Post: List-Help: List-Subscribe: , Errors-To: test-report-bounces@dpdk.org Test-Label: iol-unit-arm64-testing Test-Status: SUCCESS http://dpdk.org/patch/153182 _Testing PASS_ Submitter: Changqing Li Date: Tuesday, April 29 2025 03:04:37 DPDK git baseline: Repo:dpdk Branch: master CommitID:ca1690ebd224f148268285b15b97441ccdbdd07e 153182 --> testing pass Upstream job id: Generic-Unit-Test-DPDK#334301 Test environment and result as below: +-----------------------------+----------------+--------------+------------------------------+---------------------------+ | Environment | dpdk_unit_test | lpm_autotest | cryptodev_sw_snow3g_autotest | cryptodev_sw_zuc_autotest | +=============================+================+==============+==============================+===========================+ | CentOS Stream 9 (ARM) | PASS | SKIPPED | SKIPPED | SKIPPED | +-----------------------------+----------------+--------------+------------------------------+---------------------------+ | Fedora 40 (ARM) | PASS | SKIPPED | SKIPPED | SKIPPED | +-----------------------------+----------------+--------------+------------------------------+---------------------------+ | Fedora 40 (ARM Clang) | PASS | SKIPPED | SKIPPED | SKIPPED | +-----------------------------+----------------+--------------+------------------------------+---------------------------+ | CentOS Stream 10 (ARM) | PASS | SKIPPED | SKIPPED | SKIPPED | +-----------------------------+----------------+--------------+------------------------------+---------------------------+ | Fedora 41 (ARM) | PASS | SKIPPED | SKIPPED | SKIPPED | +-----------------------------+----------------+--------------+------------------------------+---------------------------+ | Debian 12 (arm) | PASS | SKIPPED | PASS | PASS | +-----------------------------+----------------+--------------+------------------------------+---------------------------+ | RHEL9 (ARM) | PASS | SKIPPED | SKIPPED | SKIPPED | +-----------------------------+----------------+--------------+------------------------------+---------------------------+ | Fedora 41 (ARM Clang) | PASS | SKIPPED | SKIPPED | SKIPPED | +-----------------------------+----------------+--------------+------------------------------+---------------------------+ | Ubuntu 20.04 (ARM) | PASS | SKIPPED | SKIPPED | SKIPPED | +-----------------------------+----------------+--------------+------------------------------+---------------------------+ | Ubuntu 22.04 (ARM) | PASS | SKIPPED | SKIPPED | SKIPPED | +-----------------------------+----------------+--------------+------------------------------+---------------------------+ | Ubuntu 24.04 (ARM) | PASS | SKIPPED | SKIPPED | SKIPPED | +-----------------------------+----------------+--------------+------------------------------+---------------------------+ | 32-bit Ubuntu 22.04.4 (ARM) | PASS | SKIPPED | SKIPPED | SKIPPED | +-----------------------------+----------------+--------------+------------------------------+---------------------------+ | Ubuntu 20.04 ARM SVE | SKIPPED | PASS | SKIPPED | SKIPPED | +-----------------------------+----------------+--------------+------------------------------+---------------------------+ CentOS Stream 9 (ARM) Kernel: Depends on container host Compiler: gcc 11.5.0 20240719 (Red Hat 11.5.0-2) Fedora 40 (ARM) Kernel: Depends on container host Compiler: gcc 14.2.1 20240912 (Red Hat 14.2.1-3) Fedora 40 (ARM Clang) Kernel: Depends on container host Compiler: clang 18.1.8 (Fedora 18.1.8-1.fc40) CentOS Stream 10 (ARM) Kernel: Depends on container host Compiler: gcc 14.2.1 20241104 (Red Hat 14.2.1-6) Fedora 41 (ARM) Kernel: Depends on container host Compiler: gcc 14.2.1 20240912 (Red Hat 14.2.1-3) Debian 12 (arm) Kernel: Depends on container host Compiler: gcc (Debian 12.2.0-14) 12.2.0 RHEL9 (ARM) Kernel: Depends on container host Compiler: gcc 11.5.0 20240719 (Red Hat 11.5.0-2) Fedora 41 (ARM Clang) Kernel: Depends on container host Compiler: clang 19.1.5 (Fedora 19.1.5-1.fc41) Ubuntu 20.04 (ARM) Kernel: Depends on container host Compiler: gcc (Ubuntu 9.4.0-1ubuntu1~20.04.2) 9.4.0 Ubuntu 22.04 (ARM) Kernel: Depends on container host Compiler: gcc (Ubuntu 11.4.0-1ubuntu1~22.04) 11.4.0 Ubuntu 24.04 (ARM) Kernel: Depends on container host Compiler: gcc (Ubuntu 13.3.0-6ubuntu2~24.04) 13.3.0 32-bit Ubuntu 22.04.4 (ARM) Kernel: 5.15.83+ aarch64 Compiler: gcc (Ubuntu 11.4.0-1ubuntu1~22.04) 11.4.0 Ubuntu 20.04 ARM SVE Kernel: Depends on container host Compiler: gcc (Ubuntu 10.5.0-1ubuntu1~20.04) 10.5.0 To view detailed results, visit: https://lab.dpdk.org/results/dashboard/patchsets/33083/ UNH-IOL DPDK Community Lab To manage your email subscriptions, visit: https://lab.dpdk.org/results/dashboard/preferences/subscriptions/