From mboxrd@z Thu Jan 1 00:00:00 1970 Return-Path: Received: from mails.dpdk.org (mails.dpdk.org [217.70.189.124]) by inbox.dpdk.org (Postfix) with ESMTP id DEA0D46660 for ; Tue, 29 Apr 2025 18:51:48 +0200 (CEST) Received: from mails.dpdk.org (localhost [127.0.0.1]) by mails.dpdk.org (Postfix) with ESMTP id C1C6D402A3; Tue, 29 Apr 2025 18:51:48 +0200 (CEST) Received: from mail-pf1-f226.google.com (mail-pf1-f226.google.com [209.85.210.226]) by mails.dpdk.org (Postfix) with ESMTP id BBDB040277 for ; Tue, 29 Apr 2025 18:51:47 +0200 (CEST) Received: by mail-pf1-f226.google.com with SMTP id d2e1a72fcca58-7396f13b750so6924233b3a.1 for ; Tue, 29 Apr 2025 09:51:47 -0700 (PDT) DKIM-Signature: v=1; a=rsa-sha256; c=relaxed/relaxed; d=iol.unh.edu; s=unh-iol; t=1745945506; x=1746550306; darn=dpdk.org; h=references:in-reply-to:cc:to:from:subject:message-id:date:from:to :cc:subject:date:message-id:reply-to; bh=DwfLwOyrmKUrQctEm+JB96kC5ToEGiS+wEC0qy3ndkw=; b=Vpm9ZakfhNG8kkjJjtjhnahzcAdh1ws06vvTzvwerxPYynXhcGrRZQcbDxpgf7q0zZ Bh10BcKwyT3lcJPptR/rTG/+Sa/I5/32iagZL6NSO7w48jm9+Nvu/ImxQtwU2aIips7+ c2r2qxB4gE/H49kUnvTEuT09Ny7yLTCjcu3B8= X-Google-DKIM-Signature: v=1; a=rsa-sha256; c=relaxed/relaxed; d=1e100.net; s=20230601; t=1745945506; x=1746550306; h=references:in-reply-to:cc:to:from:subject:message-id:date :x-gm-message-state:from:to:cc:subject:date:message-id:reply-to; bh=DwfLwOyrmKUrQctEm+JB96kC5ToEGiS+wEC0qy3ndkw=; b=EOf92N7A95KhLRbpu/M7y9a+kz22cO+qgrpK1gN242myJ6U8p2+p22Q0NlE9Vck4vX TSykIriU+2KcDzISqKWQ1NLQFx1bp/LF/FDu///y8vxmnaHwHLjXKfiQ1w0kkSXztwbV n8tXXb9OW92B7AnNVl8mgTaQA/sn+bxDGP4CVY4FgJzJDzPHkaStLXDEc/dK7SwVhv1m tdgWB/UOECCtUQ24qD8tg+3TxqlyUQS2uYfHZEsXwKqNZ0Wd9dAGWJGz6zqWjhUJ56dz 04P5vS9Coc8BSBVgXmGskbkivlGO/wct5fiI2o9CutWr8RDge5qDRkecwkRjfG8IRufV cBbQ== X-Gm-Message-State: AOJu0Yydlz/1Cg6f8L0XJyxDcWJJ6/hnFJaP/qqvM9ahLbDO0YVNJ1GO sRNHpPva0bPXWpIOLVvWWf2vWp+6Ayh2Ck+wiT5/vhLRsP9Ozgf5e1/qHSMuL5ip+fNScUYIunQ hCjKUuWfEm7nOAOo8z+T7uJdkYsJnt4+1eq9ZNkmIYLq15jUCrQcRBhy1 X-Gm-Gg: ASbGncszsf1DqaC+IH+HBYzVkRyZjQ0P9z+pA1kGjxfrPS5EoJWiDRL5lVCiIOAfez5 ifvpj+u0nCAobdOh7WLpau4aVISD3Lql6qOO1cEzbG4FdGbSgKwy011LZ+PhqBjTMfpnfHdSORH Aowe3wVkQInM7LR1i5MBWL4UAK4GShiK5uk/H99xMGSrjWnC97yn/9eKbG6fMpD6+eiGgeUDS/M Hwxj6TNdwcCTed47UTVb4wEDLeWvhj2O6GG878427FvBhTXxEw9623cSlIK/Gn2rYVuZ3Og7qEs Pv79Uv/+n6wzWYG13uAPuyqDzLXi4WZmmBYicZsGJ6AQYNXT X-Google-Smtp-Source: AGHT+IHDkrLs5iWyHwi1CDusEBmITelguuOtwCJAcrdHdMAvTV98jWU0w+rNJAEM0W9XX1CiR7BvKK5rDwua X-Received: by 2002:a05:6a20:160e:b0:1f5:8e39:9470 with SMTP id adf61e73a8af0-2095aa99f6fmr6405923637.31.1745945506539; Tue, 29 Apr 2025 09:51:46 -0700 (PDT) Received: from postal.iol.unh.edu (postal.iol.unh.edu. [2606:4100:3880:1234::84]) by smtp-relay.gmail.com with ESMTPS id 41be03b00d2f7-b15f859820fsm1107240a12.12.2025.04.29.09.51.46 (version=TLS1_2 cipher=ECDHE-ECDSA-AES128-GCM-SHA256 bits=128/128); Tue, 29 Apr 2025 09:51:46 -0700 (PDT) X-Relaying-Domain: iol.unh.edu Date: Tue, 29 Apr 2025 09:51:46 -0700 (PDT) Message-ID: <681103a2.630a0220.1676cc.778bSMTPIN_ADDED_MISSING@mx.google.com> Received: from [172.17.0.2] (unknown [172.18.0.74]) by postal.iol.unh.edu (Postfix) with ESMTP id A8B536052471; Tue, 29 Apr 2025 12:51:45 -0400 (EDT) Subject: |SUCCESS| pw153182 [PATCH] [V2] Add new tracepoint function for type From: dpdklab@iol.unh.edu To: Test Report Cc: dpdk-test-reports@iol.unh.edu In-Reply-To: <20250429030437.1128853-1-changqing.li@windriver.com> References: <20250429030437.1128853-1-changqing.li@windriver.com> Content-Type: text/plain X-BeenThere: test-report@dpdk.org X-Mailman-Version: 2.1.29 Precedence: list List-Id: automatic DPDK test reports List-Unsubscribe: , List-Archive: List-Post: List-Help: List-Subscribe: , Errors-To: test-report-bounces@dpdk.org Test-Label: iol-sample-apps-testing Test-Status: SUCCESS http://dpdk.org/patch/153182 _Testing PASS_ Submitter: Changqing Li Date: Tuesday, April 29 2025 03:04:37 DPDK git baseline: Repo:dpdk Branch: master CommitID:ca1690ebd224f148268285b15b97441ccdbdd07e 153182 --> testing pass Upstream job id: ACVP-FIPS-testing#9670 Test environment and result as below: +--------------------+----------------------+----------------------+ | Environment | compressdev_zlib_pmd | dpdk_fips_validation | +====================+======================+======================+ | Ubuntu 22.04 (ARM) | PASS | SKIPPED | +--------------------+----------------------+----------------------+ | Ubuntu 22.04 | PASS | SKIPPED | +--------------------+----------------------+----------------------+ | Ubuntu 20.04 | SKIPPED | PASS | +--------------------+----------------------+----------------------+ Ubuntu 22.04 (ARM) Kernel: 5.15.0-97-generic Compiler: gcc gcc (Ubuntu 11.4.0-1ubuntu1~22.04) 11.4.0 Ubuntu 22.04 Kernel: 5.15.0-100-generic Compiler: gcc gcc (Ubuntu 11.4.0-1ubuntu1~22.04) 11.4.0 Ubuntu 20.04 Kernel: Depends on container host Compiler: gcc (Ubuntu 9.4.0-1ubuntu1~20.04.2) 9.4.0 To view detailed results, visit: https://lab.dpdk.org/results/dashboard/patchsets/33083/ UNH-IOL DPDK Community Lab To manage your email subscriptions, visit: https://lab.dpdk.org/results/dashboard/preferences/subscriptions/