From mboxrd@z Thu Jan 1 00:00:00 1970 Return-Path: Received: from mails.dpdk.org (mails.dpdk.org [217.70.189.124]) by inbox.dpdk.org (Postfix) with ESMTP id 6B5F946663 for ; Tue, 29 Apr 2025 21:03:47 +0200 (CEST) Received: from mails.dpdk.org (localhost [127.0.0.1]) by mails.dpdk.org (Postfix) with ESMTP id 67732402A3; Tue, 29 Apr 2025 21:03:47 +0200 (CEST) Received: from mail-il1-f226.google.com (mail-il1-f226.google.com [209.85.166.226]) by mails.dpdk.org (Postfix) with ESMTP id 5075D40277 for ; Tue, 29 Apr 2025 21:03:46 +0200 (CEST) Received: by mail-il1-f226.google.com with SMTP id e9e14a558f8ab-3d817bc6eb0so21127155ab.1 for ; Tue, 29 Apr 2025 12:03:46 -0700 (PDT) DKIM-Signature: v=1; a=rsa-sha256; c=relaxed/relaxed; d=iol.unh.edu; s=unh-iol; t=1745953425; x=1746558225; darn=dpdk.org; h=references:in-reply-to:cc:to:from:subject:message-id:date:from:to :cc:subject:date:message-id:reply-to; bh=1pB9BUoHdCyimJjoCKfnewL36RGh52kdCtxOZKhcUu0=; b=HpIzg3UhNaLTZxiO2tem1XRC+XGxwsx50T1Fx45LE4bu9UtAZb8ObCgirj54Qi7fIu Nkdc9lkMHja21Ac1lpjt9bPZe1c/YcM8YU9yyGh2z4pl3BHIGSyHeuPoM35u2aQrz6+Y 6lEGpuXdDFM3h3bAo55T6GEV8RM/qLDFS2nSc= X-Google-DKIM-Signature: v=1; a=rsa-sha256; c=relaxed/relaxed; d=1e100.net; s=20230601; t=1745953425; x=1746558225; h=references:in-reply-to:cc:to:from:subject:message-id:date :x-gm-message-state:from:to:cc:subject:date:message-id:reply-to; bh=1pB9BUoHdCyimJjoCKfnewL36RGh52kdCtxOZKhcUu0=; b=gRANTrxr6IfTdtE2AsD+XxFeNzF2APans/iPvD46EEimS5FgW1ERL5ViOyDzLbeIR8 ZfZ2vUDbJxKN4YB+VEWmCMbgi00doPSU4MEzbpFd8ubo8V+ZuvWzjLC1JxD8EIf0bUwj zCEMthYsfJt0s9VQ/TMQqiSeZaGv60OkFs70EXYc81EJeRsG1u9ssfPqcaqxtEXhnNdq GLLuYExZ3N2QTLNDnY2hyYXDntNRJVWZBHvGJbtJs/JWJSIY4nEm2X+cvXHF+r2bSERr 1zPs2Abi/nPPyJgYsriu73Hk7CFuhzPyIsOWxrRK2MAPaFxL+JhSeVjDloArwu6MoBbq fqJw== X-Gm-Message-State: AOJu0YzkoUmzgt2XrHHsiEII0K0WMG+XFjLGfMSN6ZG9Iumyy2IWWNc6 vIam6+7Da4N57bJ6FD4bq9wOZ+iXIR3Y135Icb4lXgCOBkel1Bz5vItccp+/Hgxe91MjuIt9iEa /nIPzgWWcaunS3g1AwvPP3Ig2Gl0r/SPLY+Gl3cpmywMTaHvZMl0aTjIE X-Gm-Gg: ASbGncvkBGotgYx6roVb/jtQZ95/HRkgyq+E2IcFNwYI1lPU8ZO1rqK1Arm5wzS1IgV MZM0nIWpL3Tvj0ntfElDD7igEB7B+U2KqP0KgOCaeYGjYBWOLpFnzstQcCFyRo9Px+1IxVoWfJD giEPNtzlPvwYDrCi8quZqWUNFL4ME8OQZcPj5r9cY4Whuj9rnkxrdtcRrwmFrrnUHCVqNO9kehs /t40zNf51BT6brclnBrkI1D4IJL/nu60SQSdTq1N108ERQ8Wf4yaf0Ts3ZWxz9Qst8p/GzMp0ls +S5LJ1zS45fo2q4kRkNj9UC3pcD0msnvtnqLAOMHr1+He4jY X-Google-Smtp-Source: AGHT+IGAI8uWt9iqxW1gjQbC0Zm4J9bUc5NqjHUMGzKfeC8ZKKpkfDXcMntoYa8Ut5H4t/7837ldkDT/JbvO X-Received: by 2002:a05:6e02:1fc5:b0:3d8:1d34:4ee6 with SMTP id e9e14a558f8ab-3d967718b38mr3060305ab.17.1745953425367; Tue, 29 Apr 2025 12:03:45 -0700 (PDT) Received: from postal.iol.unh.edu (postal.iol.unh.edu. [2606:4100:3880:1234::84]) by smtp-relay.gmail.com with ESMTPS id 8926c6da1cb9f-4f863091139sm198371173.52.2025.04.29.12.03.45 (version=TLS1_2 cipher=ECDHE-ECDSA-AES128-GCM-SHA256 bits=128/128); Tue, 29 Apr 2025 12:03:45 -0700 (PDT) X-Relaying-Domain: iol.unh.edu Date: Tue, 29 Apr 2025 12:03:45 -0700 (PDT) Message-ID: <68112291.050a0220.16edc9.57a3SMTPIN_ADDED_MISSING@mx.google.com> Received: from [172.21.0.5] (unknown [172.18.0.240]) by postal.iol.unh.edu (Postfix) with ESMTP id EB4A66052471; Tue, 29 Apr 2025 15:03:44 -0400 (EDT) Subject: |SUCCESS| pw153182 [PATCH] [V2] Add new tracepoint function for type From: dpdklab@iol.unh.edu To: Test Report Cc: dpdk-test-reports@iol.unh.edu In-Reply-To: <20250429030437.1128853-1-changqing.li@windriver.com> References: <20250429030437.1128853-1-changqing.li@windriver.com> Content-Type: text/plain X-BeenThere: test-report@dpdk.org X-Mailman-Version: 2.1.29 Precedence: list List-Id: automatic DPDK test reports List-Unsubscribe: , List-Archive: List-Post: List-Help: List-Subscribe: , Errors-To: test-report-bounces@dpdk.org Test-Label: iol-compile-arm64-testing Test-Status: SUCCESS http://dpdk.org/patch/153182 _Testing PASS_ Submitter: Changqing Li Date: Tuesday, April 29 2025 03:04:37 DPDK git baseline: Repo:dpdk Branch: master CommitID:ca1690ebd224f148268285b15b97441ccdbdd07e 153182 --> testing pass Upstream job id: Generic-DPDK-Compile-Meson#383844 Test environment and result as below: +----------------------------------------+--------------------+ | Environment | dpdk_meson_compile | +========================================+====================+ | RHEL9 (ARM) | PASS | +----------------------------------------+--------------------+ | Ubuntu 20.04 ARM GCC Cross Compile | PASS | +----------------------------------------+--------------------+ | Ubuntu 20.04 ARM SVE | PASS | +----------------------------------------+--------------------+ | Fedora 40 (ARM) | PASS | +----------------------------------------+--------------------+ | Debian 12 with MUSDK | PASS | +----------------------------------------+--------------------+ | Fedora 40 (ARM Clang) | PASS | +----------------------------------------+--------------------+ | Fedora 41 (ARM) | PASS | +----------------------------------------+--------------------+ | Fedora 41 (ARM Clang) | PASS | +----------------------------------------+--------------------+ | Ubuntu 20.04 (ARM) | PASS | +----------------------------------------+--------------------+ | Ubuntu 22.04 (ARM) | PASS | +----------------------------------------+--------------------+ | CentOS Stream 10 (ARM) | PASS | +----------------------------------------+--------------------+ | Ubuntu 24.04 (ARM) | PASS | +----------------------------------------+--------------------+ | CentOS Stream 9 (ARM) | PASS | +----------------------------------------+--------------------+ | Ubuntu 20.04 ARM Clang Cross Compile | PASS | +----------------------------------------+--------------------+ | Debian 12 (arm) | PASS | +----------------------------------------+--------------------+ | Ubuntu 20.04 aarch32 GCC Cross Compile | PASS | +----------------------------------------+--------------------+ RHEL9 (ARM) Kernel: Depends on container host Compiler: gcc 11.5.0 20240719 (Red Hat 11.5.0-2) Ubuntu 20.04 ARM GCC Cross Compile Kernel: Depends on container host Compiler: aarch64-linux-gnu-gcc (Ubuntu 9.4.0-1ubuntu1~20.04.2) 9.4.0 Ubuntu 20.04 ARM SVE Kernel: Depends on container host Compiler: gcc (Ubuntu 10.5.0-1ubuntu1~20.04) 10.5.0 Fedora 40 (ARM) Kernel: Depends on container host Compiler: gcc 14.2.1 20240912 (Red Hat 14.2.1-3) Debian 12 with MUSDK Kernel: Depends on container host Compiler: gcc (Debian 12.2.0-14) 12.2.0 Fedora 40 (ARM Clang) Kernel: Depends on container host Compiler: clang 18.1.8 (Fedora 18.1.8-1.fc40) Fedora 41 (ARM) Kernel: Depends on container host Compiler: gcc 14.2.1 20240912 (Red Hat 14.2.1-3) Fedora 41 (ARM Clang) Kernel: Depends on container host Compiler: clang 19.1.5 (Fedora 19.1.5-1.fc41) Ubuntu 20.04 (ARM) Kernel: Depends on container host Compiler: gcc (Ubuntu 9.4.0-1ubuntu1~20.04.2) 9.4.0 Ubuntu 22.04 (ARM) Kernel: Depends on container host Compiler: gcc (Ubuntu 11.4.0-1ubuntu1~22.04) 11.4.0 CentOS Stream 10 (ARM) Kernel: Depends on container host Compiler: gcc 14.2.1 20241104 (Red Hat 14.2.1-6) Ubuntu 24.04 (ARM) Kernel: Depends on container host Compiler: gcc (Ubuntu 13.3.0-6ubuntu2~24.04) 13.3.0 CentOS Stream 9 (ARM) Kernel: Depends on container host Compiler: gcc 11.5.0 20240719 (Red Hat 11.5.0-2) Ubuntu 20.04 ARM Clang Cross Compile Kernel: Depends on container host Compiler: clang 10.0.0-4ubuntu1 Debian 12 (arm) Kernel: Depends on container host Compiler: gcc (Debian 12.2.0-14) 12.2.0 Ubuntu 20.04 aarch32 GCC Cross Compile Kernel: Depends on container host Compiler: gcc 9.4.0 To view detailed results, visit: https://lab.dpdk.org/results/dashboard/patchsets/33083/ UNH-IOL DPDK Community Lab To manage your email subscriptions, visit: https://lab.dpdk.org/results/dashboard/preferences/subscriptions/