From mboxrd@z Thu Jan 1 00:00:00 1970 Return-Path: Received: from mails.dpdk.org (mails.dpdk.org [217.70.189.124]) by inbox.dpdk.org (Postfix) with ESMTP id D3E8A46666 for ; Tue, 29 Apr 2025 22:15:25 +0200 (CEST) Received: from mails.dpdk.org (localhost [127.0.0.1]) by mails.dpdk.org (Postfix) with ESMTP id A65B8402A3; Tue, 29 Apr 2025 22:15:25 +0200 (CEST) Received: from mail-io1-f99.google.com (mail-io1-f99.google.com [209.85.166.99]) by mails.dpdk.org (Postfix) with ESMTP id 09E6540277 for ; Tue, 29 Apr 2025 22:15:24 +0200 (CEST) Received: by mail-io1-f99.google.com with SMTP id ca18e2360f4ac-85b3f92c866so136353939f.3 for ; Tue, 29 Apr 2025 13:15:23 -0700 (PDT) DKIM-Signature: v=1; a=rsa-sha256; c=relaxed/relaxed; d=iol.unh.edu; s=unh-iol; t=1745957723; x=1746562523; darn=dpdk.org; h=references:in-reply-to:cc:to:from:subject:message-id:date:from:to :cc:subject:date:message-id:reply-to; bh=JZz4kAFhEuTql6MJ5eyPAYZVP5RGCCEX+4qBqkQnq2I=; b=B2uQWhkshsDzhyxhJXD/Utzq9530lk+dpZ6OVTj+qYHU/CJjAChHRtExxlJyVzn7e0 yBrduG2KGQiUk1/hcWhCvvIl2XaDma1LR5Zf8wrPyFoc3dhD+ekkTaB3jWcJFEyg/eQR GXyKgppLIfwOZbPjsWrJRitDpy8+smBvR/LpE= X-Google-DKIM-Signature: v=1; a=rsa-sha256; c=relaxed/relaxed; d=1e100.net; s=20230601; t=1745957723; x=1746562523; h=references:in-reply-to:cc:to:from:subject:message-id:date :x-gm-message-state:from:to:cc:subject:date:message-id:reply-to; bh=JZz4kAFhEuTql6MJ5eyPAYZVP5RGCCEX+4qBqkQnq2I=; b=hk4PZ4UKJpJP5+xYBVekAObstnN69Fxe/N6S++UdDNgozarkvB4YvvGwGoPqi3w0Wy LU9FGyFR5/RAhYADEdGi5ElUKHtyHakYIPht8JHrvP6L3/YQnNs+JNO0JVQfK8gBnek9 d8Ro5tnJg/W5vm8GNbUSTlRfryX7/6be9mi73hDZLxVmS91SDAvGFjy8IvVZeBXGKUA/ 7Wput2x1ik3B9WGmqGzSbuoAs8AelFha+T7NdMPNi/zaCGfsCxmnK37SqA9n6gYAtSwN T7czPqIaW3AQAV9vIlR3F2vwX7TIRtTbtCS5WdW35O+bkSavIfm6eFRBo+93ST9OzM6O j3Og== X-Gm-Message-State: AOJu0YwjhbWFS2mRKCVDUxzSua6EOLKeQOa6ZsHCOkbWA8wLFQWUN0oe Qbu7LmLY1GQXSI4h2/+Fe+Gsq9pwDijxB4y33FCf2rCzwYoGVRGsdQonSV+oyCJtWqpf5XdCWa6 z49J2th77pAz1At3ioqwd0Ad+OhiHbG78CrzmNf6r35ZGsgEjtl9Ego1h X-Gm-Gg: ASbGnctiUWdd36LLGMn0H8zSlrrurzAel0d4Zn/cz0yAJa6+ogQNp4pXPbxWWQMIzUX 057nyxufljd6wn2J/S4xqR7a0EaTWR8roDjXpbhu6gtx36E3eT3WItjfWvLBRQz9XqZQMnOn8h0 8inMD63EJ/om1pU3KLuU6C1t0hPJSxgwhEJ5x9XBCquCiIuR5keshaIsQsWnmJC0nes1eD/sG72 GIpOD/07Ryw1i4tlSo5LcJqR2o3LiVTkWMlrjMbXzFBLMi3ALd/30EVi4cD5tWnr2bF7LLYWEEe NJ+6/R++jVesf2mbSVQenTDD8jgohKu4cz6pjtN47kQtgv7t X-Google-Smtp-Source: AGHT+IFjpo8bR2Rc94VS/vIt6idCiOAh8GVJ7ye92HQ1dxGgyWAyYxjb7Q05RvN8K/s6TP4BBIC5DPNmglfU X-Received: by 2002:a05:6602:401b:b0:862:fc1e:43c4 with SMTP id ca18e2360f4ac-86495e9422cmr109782539f.7.1745957723285; Tue, 29 Apr 2025 13:15:23 -0700 (PDT) Received: from postal.iol.unh.edu (postal.iol.unh.edu. [2606:4100:3880:1234::84]) by smtp-relay.gmail.com with ESMTPS id 8926c6da1cb9f-4f862e0f7e4sm206730173.35.2025.04.29.13.15.23 (version=TLS1_2 cipher=ECDHE-ECDSA-AES128-GCM-SHA256 bits=128/128); Tue, 29 Apr 2025 13:15:23 -0700 (PDT) X-Relaying-Domain: iol.unh.edu Date: Tue, 29 Apr 2025 13:15:23 -0700 (PDT) Message-ID: <6811335b.050a0220.2667ea.60e3SMTPIN_ADDED_MISSING@mx.google.com> Received: from [172.17.0.2] (unknown [172.18.0.74]) by postal.iol.unh.edu (Postfix) with ESMTP id BB5346052471; Tue, 29 Apr 2025 16:15:22 -0400 (EDT) Subject: |SUCCESS| pw153188 [PATCH] ethdev: remove callback checks from fast From: dpdklab@iol.unh.edu To: Test Report Cc: dpdk-test-reports@iol.unh.edu In-Reply-To: <20250429181132.2544771-1-skori@marvell.com> References: <20250429181132.2544771-1-skori@marvell.com> Content-Type: text/plain X-BeenThere: test-report@dpdk.org X-Mailman-Version: 2.1.29 Precedence: list List-Id: automatic DPDK test reports List-Unsubscribe: , List-Archive: List-Post: List-Help: List-Subscribe: , Errors-To: test-report-bounces@dpdk.org Test-Label: iol-unit-amd64-testing Test-Status: SUCCESS http://dpdk.org/patch/153188 _Testing PASS_ Submitter: Sunil Kumar Kori Date: Tuesday, April 29 2025 18:11:30 DPDK git baseline: Repo:dpdk Branch: master CommitID:ff05ee3e3f8fb4ce958a2ce6461e8141aea959c6 153188 --> testing pass Upstream job id: Generic-Unit-Test-DPDK#334326 Test environment and result as below: +---------------------+----------------+ | Environment | dpdk_unit_test | +=====================+================+ | CentOS Stream 10 | PASS | +---------------------+----------------+ | CentOS Stream 9 | PASS | +---------------------+----------------+ | Fedora 40 | PASS | +---------------------+----------------+ | Debian 12 | PASS | +---------------------+----------------+ | Fedora 40 (Clang) | PASS | +---------------------+----------------+ | RHEL8 | PASS | +---------------------+----------------+ | Fedora 41 (Clang) | PASS | +---------------------+----------------+ | RHEL9 | PASS | +---------------------+----------------+ | Fedora 41 | PASS | +---------------------+----------------+ | Ubuntu 20.04 | PASS | +---------------------+----------------+ | Ubuntu 24.04 | PASS | +---------------------+----------------+ | Ubuntu 22.04 | PASS | +---------------------+----------------+ | Windows Server 2022 | PASS | +---------------------+----------------+ CentOS Stream 10 Kernel: Depends on container host Compiler: gcc 14.2.1 20241104 (Red Hat 14.2.1-6) CentOS Stream 9 Kernel: Depends on container host Compiler: gcc 11.5.0 20240719 (Red Hat 11.5.0-2) Fedora 40 Kernel: Depends on container host Compiler: gcc 14.2.1 20240912 (Red Hat 14.2.1-3) Debian 12 Kernel: Depends on container host Compiler: gcc (Debian 12.2.0-14) 12.2.0 Fedora 40 (Clang) Kernel: Depends on container host Compiler: clang 18.1.8 (Fedora 18.1.8-1.fc40) RHEL8 Kernel: Depends on container host Compiler: gcc 8.5.0 20210514 (Red Hat 8.5.0-22) Fedora 41 (Clang) Kernel: Depends on container host Compiler: clang 19.1.5 (Fedora 19.1.5-1.fc41) RHEL9 Kernel: Depends on container host Compiler: gcc 11.5.0 20240719 (Red Hat 11.5.0-2) Fedora 41 Kernel: Depends on container host Compiler: gcc 14.2.1 20240912 (Red Hat 14.2.1-3) Ubuntu 20.04 Kernel: Depends on container host Compiler: gcc (Ubuntu 9.4.0-1ubuntu1~20.04.2) 9.4.0 Ubuntu 24.04 Kernel: Depends on container host Compiler: gcc (Ubuntu 13.3.0-6ubuntu2~24.04) 13.3.0 Ubuntu 22.04 Kernel: Depends on container host Compiler: gcc (Ubuntu 11.4.0-1ubuntu1~22.04) 11.4.0 Windows Server 2022 Kernel: 10.0.20348.2031 Compiler: clang 15.0.7, gcc 14.1.0 (MinGW), and MSVC VS 19.39.33521 To view detailed results, visit: https://lab.dpdk.org/results/dashboard/patchsets/33088/ UNH-IOL DPDK Community Lab To manage your email subscriptions, visit: https://lab.dpdk.org/results/dashboard/preferences/subscriptions/