From mboxrd@z Thu Jan 1 00:00:00 1970 Return-Path: Received: from mails.dpdk.org (mails.dpdk.org [217.70.189.124]) by inbox.dpdk.org (Postfix) with ESMTP id 509D346666 for ; Tue, 29 Apr 2025 23:34:51 +0200 (CEST) Received: from mails.dpdk.org (localhost [127.0.0.1]) by mails.dpdk.org (Postfix) with ESMTP id 47154406B8; Tue, 29 Apr 2025 23:34:51 +0200 (CEST) Received: from mail-qk1-f228.google.com (mail-qk1-f228.google.com [209.85.222.228]) by mails.dpdk.org (Postfix) with ESMTP id 4945E402A3 for ; Tue, 29 Apr 2025 23:34:49 +0200 (CEST) Received: by mail-qk1-f228.google.com with SMTP id af79cd13be357-7c597760323so722214985a.3 for ; Tue, 29 Apr 2025 14:34:49 -0700 (PDT) DKIM-Signature: v=1; a=rsa-sha256; c=relaxed/relaxed; d=iol.unh.edu; s=unh-iol; t=1745962488; x=1746567288; darn=dpdk.org; h=references:in-reply-to:cc:to:from:subject:message-id:date:from:to :cc:subject:date:message-id:reply-to; bh=flIp4KA4kXtQvPw8UCD8YC6T1+O+vgxHWWsd/zx6PRs=; b=Hik33MTw/zqnl1EwW6WTZzc+D1OXoD2vq/DIdDS+MovM/wXoJqtMIjX2/bsRbGmrD8 RYCDD0iBJBUhLuuyaF6BAzDXJLsVC1pU7lvx5qTiqezQwvfrhsGlnz2dIl1wGNXA0Y0X tR21W+uqujbiWqfA55qx/uD5u5TfgIIbdQoCk= X-Google-DKIM-Signature: v=1; a=rsa-sha256; c=relaxed/relaxed; d=1e100.net; s=20230601; t=1745962488; x=1746567288; h=references:in-reply-to:cc:to:from:subject:message-id:date :x-gm-message-state:from:to:cc:subject:date:message-id:reply-to; bh=flIp4KA4kXtQvPw8UCD8YC6T1+O+vgxHWWsd/zx6PRs=; b=Ou4bedX8s02v6CAOeJy/JHSyqy/Y22JvrSd0m8bLHRuQlMYm0M/shSaRQFIdQWFlMX oUn4GpM22CAWFLiKvcpUt9H69p1D4LFXVtWnVRU0KwEiWx+PR34iIXvSQSJgkUMvuOHV vOCKzxlr4ooZ8+JdKgntledsy0EIzU1iJ3fF9KughNWKVopdB1dfCAbjQ0VZtD5wS97N J1nJjpAI9vpmTHS0RCLDKSKcpb9UPCm+dBNtSFsxDVPbKtprWXH1dfkeK3kUj0PnbnKo dnXmbAp2m61L/p7LowEmfQaIOWEvVoUCdUGWntRGq9keSSc/pwYCmysYg+y/iW+r45m0 M/Cw== X-Gm-Message-State: AOJu0Yx4+nYWvqgBTtAT7oGYzh5T89WQG/hv7cxmxNlGCjS75AzLrxPL V7BJxunyBAPc6mTXKOVBTUpGkn+1MnYeCCwoa9N5MxohDsBHkK/dmJ4jNAcFQ7ahemaRZnskgzG QSG/RfNrr9vtPf99bvl4+nRUd7qLWK96pvYrSWfeM0Y8ga44TGnyazXEP X-Gm-Gg: ASbGnctUT2/tt8MhnMMCBnYBJOrWYxHdXGCFXj/fyWtxjRdxsxIbYfUAdp8nOVzI0Gr 1Sf1xoNEAQKjimYJsL+plG9T6RI1IWi3kFdecgOuOhC99S9exeDuSd0FY0s66vD8KptgQVQBpDv vEi8wNw6MN/lcUL48uDYnhXxuSSFBCd6/twJzAksa70FPLHskFm92ZwRaBQZ7WtkJFc4/6I1EGc 8aBs//ErNaKBW92Ixt4oUkHPCHCh/wPlxrpYluw8xVkrTrsp+e5L1qH+0n5bs7kmJz8yqdle8os UgkdHSX+aBqQ+EEZzv1w7bOYLkHm2stxZhUku5Qd2st1RV7N X-Google-Smtp-Source: AGHT+IE7UyUWSpdp5fgxNewKs+GLFnA5UpZiz2QOKp+7CokDhGiuuN/Gi6cu2R89oNn63pi/bSMezgzbT/9n X-Received: by 2002:ad4:5cc6:0:b0:6e8:fbb7:6764 with SMTP id 6a1803df08f44-6f4fcfe35f4mr14190116d6.45.1745962488555; Tue, 29 Apr 2025 14:34:48 -0700 (PDT) Received: from postal.iol.unh.edu (postal.iol.unh.edu. [2606:4100:3880:1234::84]) by smtp-relay.gmail.com with ESMTPS id 6a1803df08f44-6f4fe82167fsm29446d6.58.2025.04.29.14.34.48 (version=TLS1_2 cipher=ECDHE-ECDSA-AES128-GCM-SHA256 bits=128/128); Tue, 29 Apr 2025 14:34:48 -0700 (PDT) X-Relaying-Domain: iol.unh.edu Date: Tue, 29 Apr 2025 14:34:48 -0700 (PDT) Message-ID: <681145f8.050a0220.2a9814.02c2SMTPIN_ADDED_MISSING@mx.google.com> Received: from [172.17.0.2] (unknown [172.18.0.74]) by postal.iol.unh.edu (Postfix) with ESMTP id 2353D6052471; Tue, 29 Apr 2025 17:34:48 -0400 (EDT) Subject: |SUCCESS| pw153188 [PATCH] ethdev: remove callback checks from fast From: dpdklab@iol.unh.edu To: Test Report Cc: dpdk-test-reports@iol.unh.edu In-Reply-To: <20250429181132.2544771-1-skori@marvell.com> References: <20250429181132.2544771-1-skori@marvell.com> Content-Type: text/plain X-BeenThere: test-report@dpdk.org X-Mailman-Version: 2.1.29 Precedence: list List-Id: automatic DPDK test reports List-Unsubscribe: , List-Archive: List-Post: List-Help: List-Subscribe: , Errors-To: test-report-bounces@dpdk.org Test-Label: iol-unit-arm64-testing Test-Status: SUCCESS http://dpdk.org/patch/153188 _Testing PASS_ Submitter: Sunil Kumar Kori Date: Tuesday, April 29 2025 18:11:30 DPDK git baseline: Repo:dpdk Branch: master CommitID:ff05ee3e3f8fb4ce958a2ce6461e8141aea959c6 153188 --> testing pass Upstream job id: Generic-Unit-Test-DPDK#334325 Test environment and result as below: +-----------------------------+---------------------------+--------------+------------------------------+----------------+ | Environment | cryptodev_sw_zuc_autotest | lpm_autotest | cryptodev_sw_snow3g_autotest | dpdk_unit_test | +=============================+===========================+==============+==============================+================+ | Debian 12 (arm) | PASS | SKIPPED | PASS | PASS | +-----------------------------+---------------------------+--------------+------------------------------+----------------+ | Ubuntu 20.04 ARM SVE | SKIPPED | PASS | SKIPPED | SKIPPED | +-----------------------------+---------------------------+--------------+------------------------------+----------------+ | CentOS Stream 9 (ARM) | SKIPPED | SKIPPED | SKIPPED | PASS | +-----------------------------+---------------------------+--------------+------------------------------+----------------+ | Fedora 40 (ARM) | SKIPPED | SKIPPED | SKIPPED | PASS | +-----------------------------+---------------------------+--------------+------------------------------+----------------+ | CentOS Stream 10 (ARM) | SKIPPED | SKIPPED | SKIPPED | PASS | +-----------------------------+---------------------------+--------------+------------------------------+----------------+ | Fedora 40 (ARM Clang) | SKIPPED | SKIPPED | SKIPPED | PASS | +-----------------------------+---------------------------+--------------+------------------------------+----------------+ | Ubuntu 20.04 (ARM) | SKIPPED | SKIPPED | SKIPPED | PASS | +-----------------------------+---------------------------+--------------+------------------------------+----------------+ | Fedora 41 (ARM Clang) | SKIPPED | SKIPPED | SKIPPED | PASS | +-----------------------------+---------------------------+--------------+------------------------------+----------------+ | Fedora 41 (ARM) | SKIPPED | SKIPPED | SKIPPED | PASS | +-----------------------------+---------------------------+--------------+------------------------------+----------------+ | RHEL9 (ARM) | SKIPPED | SKIPPED | SKIPPED | PASS | +-----------------------------+---------------------------+--------------+------------------------------+----------------+ | Ubuntu 24.04 (ARM) | SKIPPED | SKIPPED | SKIPPED | PASS | +-----------------------------+---------------------------+--------------+------------------------------+----------------+ | Ubuntu 22.04 (ARM) | SKIPPED | SKIPPED | SKIPPED | PASS | +-----------------------------+---------------------------+--------------+------------------------------+----------------+ | 32-bit Ubuntu 22.04.4 (ARM) | SKIPPED | SKIPPED | SKIPPED | PASS | +-----------------------------+---------------------------+--------------+------------------------------+----------------+ Debian 12 (arm) Kernel: Depends on container host Compiler: gcc (Debian 12.2.0-14) 12.2.0 Ubuntu 20.04 ARM SVE Kernel: Depends on container host Compiler: gcc (Ubuntu 10.5.0-1ubuntu1~20.04) 10.5.0 CentOS Stream 9 (ARM) Kernel: Depends on container host Compiler: gcc 11.5.0 20240719 (Red Hat 11.5.0-2) Fedora 40 (ARM) Kernel: Depends on container host Compiler: gcc 14.2.1 20240912 (Red Hat 14.2.1-3) CentOS Stream 10 (ARM) Kernel: Depends on container host Compiler: gcc 14.2.1 20241104 (Red Hat 14.2.1-6) Fedora 40 (ARM Clang) Kernel: Depends on container host Compiler: clang 18.1.8 (Fedora 18.1.8-1.fc40) Ubuntu 20.04 (ARM) Kernel: Depends on container host Compiler: gcc (Ubuntu 9.4.0-1ubuntu1~20.04.2) 9.4.0 Fedora 41 (ARM Clang) Kernel: Depends on container host Compiler: clang 19.1.5 (Fedora 19.1.5-1.fc41) Fedora 41 (ARM) Kernel: Depends on container host Compiler: gcc 14.2.1 20240912 (Red Hat 14.2.1-3) RHEL9 (ARM) Kernel: Depends on container host Compiler: gcc 11.5.0 20240719 (Red Hat 11.5.0-2) Ubuntu 24.04 (ARM) Kernel: Depends on container host Compiler: gcc (Ubuntu 13.3.0-6ubuntu2~24.04) 13.3.0 Ubuntu 22.04 (ARM) Kernel: Depends on container host Compiler: gcc (Ubuntu 11.4.0-1ubuntu1~22.04) 11.4.0 32-bit Ubuntu 22.04.4 (ARM) Kernel: 5.15.83+ aarch64 Compiler: gcc (Ubuntu 11.4.0-1ubuntu1~22.04) 11.4.0 To view detailed results, visit: https://lab.dpdk.org/results/dashboard/patchsets/33088/ UNH-IOL DPDK Community Lab To manage your email subscriptions, visit: https://lab.dpdk.org/results/dashboard/preferences/subscriptions/