From mboxrd@z Thu Jan 1 00:00:00 1970 Return-Path: Received: from mails.dpdk.org (mails.dpdk.org [217.70.189.124]) by inbox.dpdk.org (Postfix) with ESMTP id B6C364666C for ; Wed, 30 Apr 2025 00:00:12 +0200 (CEST) Received: from mails.dpdk.org (localhost [127.0.0.1]) by mails.dpdk.org (Postfix) with ESMTP id 9194E402A7; Wed, 30 Apr 2025 00:00:12 +0200 (CEST) Received: from mail-yb1-f226.google.com (mail-yb1-f226.google.com [209.85.219.226]) by mails.dpdk.org (Postfix) with ESMTP id E3F0C402A7 for ; Wed, 30 Apr 2025 00:00:10 +0200 (CEST) Received: by mail-yb1-f226.google.com with SMTP id 3f1490d57ef6-e733e22505fso2526756276.3 for ; Tue, 29 Apr 2025 15:00:10 -0700 (PDT) DKIM-Signature: v=1; a=rsa-sha256; c=relaxed/relaxed; d=iol.unh.edu; s=unh-iol; t=1745964010; x=1746568810; darn=dpdk.org; h=references:in-reply-to:cc:to:from:subject:message-id:date:from:to :cc:subject:date:message-id:reply-to; bh=C0/sLTiKur2n42X6MoAWtk/xaL2P61/JpvMP1/07mJo=; b=CHHI5KlJ2FTubpObR1R8sA2Hs/QCy2OBBjME0CWAhu4TgvaH5lydR2wliIGIx9ui9A PBKFbJ35/P4VLWgXwg2tFlKNkLsikHuXtjZ59xoxsRLLkb4Dcs7nYHgPJ+kdhykGs35n FwLiNA98r+LSS9gPGYMIkE5j5ltF50iKU+Ii8= X-Google-DKIM-Signature: v=1; a=rsa-sha256; c=relaxed/relaxed; d=1e100.net; s=20230601; t=1745964010; x=1746568810; h=references:in-reply-to:cc:to:from:subject:message-id:date :x-gm-message-state:from:to:cc:subject:date:message-id:reply-to; bh=C0/sLTiKur2n42X6MoAWtk/xaL2P61/JpvMP1/07mJo=; b=nYJ0EiUNhvHEdZWlH6mVtSDRBpDq9jpCzxvLeSzvB+56FO3xeFX7+lYZsBGzfOljF0 nCa5uk+tdhrcU1MfsBMeVGpDBM6T/lT/kxDj6BCwLSqCAcEyeI8JMS/4cS8+wmgUrlEv f6aMUuSjpRYh+X4I3hAtEQJLKZMRRUnEu1BVGlWPh3rxdFfAefJLBRjXOPI+bDL9G3XV pjeFYvfvWNHbfjWVvv8b+mU90Rkb681cr28yPQxbEyDngwG9HhEJ/Tlp06nm/RQQGKKe nwBJqXJCcsPneO1LXGmwGoy16pbv/aN48afcavLoS5Wkr7s+36UcZMSwPjGl7K2UUU6r PZcA== X-Gm-Message-State: AOJu0YzLmUwBWSsAMQmPl1uknnQLY5WHbw+GDYJVM8CieAu6V3K3ICkl XmVDYfsWQTb2gPGB6mQcP33r3j9ojn1I0h3T6rPyDTGKVHh+L4aCWuSG6Txqio8WsCviFZjktcj kUoG8MSMO7mpxhZ0pgMx4QhmT/Ti6Vy4Gcakx6Eam X-Gm-Gg: ASbGnctDlbMbE9EevAk4BhoDqM6K6ZzcNz8vraclOEvJW7Eyhzlgli93f/HvY8XJukw J2nGsntaibj4pkvD3cFILfRQlf1USuXjUK7NVeKA/Db9uRczTpNe9cQCsqrINvjQFZf7eSX4Q7C ElpTI+MyNWCLlC3QKzrWYWLF11IRK4X6Ms9z90YXtn22Vo953Bt6BE2lPONwmyVmbzrd9gROLuH tjGj/CGk/laBmQxdiv/2B/aFmz3UGfVlgzIKRdcIAdaQfZPPa8/792jZk0NxrcHdmxAZHW9ki2W zwmTIGX+U2W9fK7aW+aZYb3w5HGzKVBKzY/a X-Google-Smtp-Source: AGHT+IHp4T3GtGJ7HyTlSKkOhhOXspe0obiaSSBk2AC3F4P/1rQyxVqfx3ruprAdxXlaxEhKdTDJcS2cvHDj X-Received: by 2002:a05:6902:e03:b0:e64:b9c:47b7 with SMTP id 3f1490d57ef6-e73eacd55acmr1196706276.19.1745964010090; Tue, 29 Apr 2025 15:00:10 -0700 (PDT) Received: from postal.iol.unh.edu (postal.iol.unh.edu. [132.177.123.84]) by smtp-relay.gmail.com with ESMTPS id 3f1490d57ef6-e74146659d0sm2557276.20.2025.04.29.15.00.10 (version=TLS1_2 cipher=ECDHE-ECDSA-AES128-GCM-SHA256 bits=128/128); Tue, 29 Apr 2025 15:00:10 -0700 (PDT) X-Relaying-Domain: iol.unh.edu Date: Tue, 29 Apr 2025 15:00:10 -0700 (PDT) Message-ID: <68114bea.050a0220.262c22.01fbSMTPIN_ADDED_MISSING@mx.google.com> Received: from [172.17.0.2] (unknown [172.18.0.74]) by postal.iol.unh.edu (Postfix) with ESMTP id A544B6052471; Tue, 29 Apr 2025 18:00:09 -0400 (EDT) Subject: |SUCCESS| pw153170 [PATCH] net/mlx5: add match on IPv6 fragment exte From: dpdklab@iol.unh.edu To: Test Report Cc: dpdk-test-reports@iol.unh.edu In-Reply-To: <20250427112537.108725-1-mkashani@nvidia.com> References: <20250427112537.108725-1-mkashani@nvidia.com> Content-Type: text/plain X-BeenThere: test-report@dpdk.org X-Mailman-Version: 2.1.29 Precedence: list List-Id: automatic DPDK test reports List-Unsubscribe: , List-Archive: List-Post: List-Help: List-Subscribe: , Errors-To: test-report-bounces@dpdk.org Test-Label: iol-sample-apps-testing Test-Status: SUCCESS http://dpdk.org/patch/153170 _Testing PASS RETEST #1_ Submitter: Maayan Kashani Date: Sunday, April 27 2025 11:25:36 DPDK git baseline: Repo:dpdk Branch: master CommitID:edd3f4b1265e6da707c46ca9b6c39d332647baea 153170 --> testing pass Upstream job id: Template-DTS-Pipeline#223568 Test environment and result as below: +--------------------+----------------------+----------------------+ | Environment | compressdev_zlib_pmd | dpdk_fips_validation | +====================+======================+======================+ | Ubuntu 22.04 (ARM) | PASS | SKIPPED | +--------------------+----------------------+----------------------+ | Ubuntu 22.04 | PASS | SKIPPED | +--------------------+----------------------+----------------------+ | Ubuntu 20.04 | SKIPPED | PASS | +--------------------+----------------------+----------------------+ Ubuntu 22.04 (ARM) Kernel: 5.15.0-97-generic Compiler: gcc gcc (Ubuntu 11.4.0-1ubuntu1~22.04) 11.4.0 Ubuntu 22.04 Kernel: 5.15.0-100-generic Compiler: gcc gcc (Ubuntu 11.4.0-1ubuntu1~22.04) 11.4.0 Ubuntu 20.04 Kernel: Depends on container host Compiler: gcc (Ubuntu 9.4.0-1ubuntu1~20.04.2) 9.4.0 To view detailed results, visit: https://lab.dpdk.org/results/dashboard/patchsets/33075/ UNH-IOL DPDK Community Lab To manage your email subscriptions, visit: https://lab.dpdk.org/results/dashboard/preferences/subscriptions/