From mboxrd@z Thu Jan 1 00:00:00 1970 Return-Path: Received: from mails.dpdk.org (mails.dpdk.org [217.70.189.124]) by inbox.dpdk.org (Postfix) with ESMTP id 4A21F46666 for ; Wed, 30 Apr 2025 00:13:47 +0200 (CEST) Received: from mails.dpdk.org (localhost [127.0.0.1]) by mails.dpdk.org (Postfix) with ESMTP id 42272402A7; Wed, 30 Apr 2025 00:13:47 +0200 (CEST) Received: from mail-pl1-f228.google.com (mail-pl1-f228.google.com [209.85.214.228]) by mails.dpdk.org (Postfix) with ESMTP id A2245402A3 for ; Wed, 30 Apr 2025 00:13:46 +0200 (CEST) Received: by mail-pl1-f228.google.com with SMTP id d9443c01a7336-227cf12df27so3638285ad.0 for ; Tue, 29 Apr 2025 15:13:46 -0700 (PDT) DKIM-Signature: v=1; a=rsa-sha256; c=relaxed/relaxed; d=iol.unh.edu; s=unh-iol; t=1745964826; x=1746569626; darn=dpdk.org; h=references:in-reply-to:cc:to:from:subject:message-id:date:from:to :cc:subject:date:message-id:reply-to; bh=C9JjxbbRKwwxfEfzrm9B1GTSRjb6o/tFIQJdNMuKs7o=; b=hw8gzSsas/4QFSwj1CEWlUpSS7o9+7ykN6CIVwEgkiXCQspOBaJtgAjYN1MQmyjeof oRqrv5lnwkITpMJLhYoZC7Laz6or1imGce5DJuaaGlTfFvVWUNU904bYaL60q4Rs0p8V /hbiRVQ9RBxcggtJf63nm5vJ6MKxFS/iBqgss= X-Google-DKIM-Signature: v=1; a=rsa-sha256; c=relaxed/relaxed; d=1e100.net; s=20230601; t=1745964826; x=1746569626; h=references:in-reply-to:cc:to:from:subject:message-id:date :x-gm-message-state:from:to:cc:subject:date:message-id:reply-to; bh=C9JjxbbRKwwxfEfzrm9B1GTSRjb6o/tFIQJdNMuKs7o=; b=BR/Jyipr3R4cw0ClKeekpUNTCg/ZO8aVzXgGMN58G5X2ekAZK8pHOcnLW1UGAtddJE Q7G+QWG3ykxcEKDLlqVcjMfwRpYY3yvz2dwhz2Z0iNsyqDLj9q6VFE1JWjU+Wcn5HlCo p+bTKpq/nr8k0kQdKSxgnWFvzec9j1kuWmaxsNLdezOREJ/rSiYOt+u1ABLS7SRyY6CZ YaBWlqQmYnuy7aMDl4k/lDpLIha/Idj+LVY/BWQYR4AS4UrIK/TiRDGZpBPoDasF+Rb9 46WXDgopmmZUN2xmoIkgVbS+R5cA53IggDydEAvCr4jPIQ32z3oD19cjG7SMvKa8kVrx iqxQ== X-Gm-Message-State: AOJu0YznQCuVPwHiak3IcZ3OipNer3bhEholwX7ngoxBN6ZtMQHEsb7i 0Fs91Rmb7zfpSq0IeBHhE8LpPMRqwxV6MxXzN27xHEIihx79BVqpCL9vqr1G8gM7IHaVGR4HHqT xv+VkszKID8LqrFJGBSxPyzz+Gzdv7+nHSwbJam/X X-Gm-Gg: ASbGnctOvNg7wX6Bls8c06lS/84pip+yRsPkTnY3yjJNYiU7R48elbc5ENX7c+/amnf St47j2yE+k0hSnmGL3Bfgl74+iojVsy4SxHbViPhwVTwb9IG42FgQklCroyHziYWtqAczL2lzsk fCFTihW6LLT3YRqq6VjtgcgMf3jlN7pJkyqzkJydDfAWIzwMAJWcyt0v/Iwqqr9iQ7cR7jaKhaJ pNJW535u0XJDcENHnBh9afxJ2WNnvOq1eRGMEG0yS1ipJId9ZIYN9HAPpQIwV5wUkFC7Uaqektv S8177DmI9HttL99n7r6PrLTc+BFbZ0LU0N6d X-Google-Smtp-Source: AGHT+IHzP4TPPX18ExmAe2H9XZ2fKmNvAGDzMeVIOagTIyUDEu07PNWHjReZWlkKkyYGKY0e08+nbBEGfNJb X-Received: by 2002:a17:903:192:b0:223:3394:3a2e with SMTP id d9443c01a7336-22df47e5b8amr6481775ad.18.1745964825891; Tue, 29 Apr 2025 15:13:45 -0700 (PDT) Received: from postal.iol.unh.edu (postal.iol.unh.edu. [132.177.123.84]) by smtp-relay.gmail.com with ESMTPS id d9443c01a7336-22db4d9ffb9sm14139425ad.4.2025.04.29.15.13.45 (version=TLS1_2 cipher=ECDHE-ECDSA-AES128-GCM-SHA256 bits=128/128); Tue, 29 Apr 2025 15:13:45 -0700 (PDT) X-Relaying-Domain: iol.unh.edu Date: Tue, 29 Apr 2025 15:13:45 -0700 (PDT) Message-ID: <68114f19.170a0220.3390cb.d601SMTPIN_ADDED_MISSING@mx.google.com> Received: from [172.17.0.2] (unknown [172.18.0.74]) by postal.iol.unh.edu (Postfix) with ESMTP id 51DF16052471; Tue, 29 Apr 2025 18:13:45 -0400 (EDT) Subject: |SUCCESS| pw153163 [PATCH] net/mlx5: fix VLAN stripping on hairpin q From: dpdklab@iol.unh.edu To: Test Report Cc: dpdk-test-reports@iol.unh.edu In-Reply-To: <20250425194913.70742-1-dsosnowski@nvidia.com> References: <20250425194913.70742-1-dsosnowski@nvidia.com> Content-Type: text/plain X-BeenThere: test-report@dpdk.org X-Mailman-Version: 2.1.29 Precedence: list List-Id: automatic DPDK test reports List-Unsubscribe: , List-Archive: List-Post: List-Help: List-Subscribe: , Errors-To: test-report-bounces@dpdk.org Test-Label: iol-sample-apps-testing Test-Status: SUCCESS http://dpdk.org/patch/153163 _Testing PASS RETEST #1_ Submitter: Dariusz Sosnowski Date: Friday, April 25 2025 19:49:13 DPDK git baseline: Repo:dpdk Branch: master CommitID:edd3f4b1265e6da707c46ca9b6c39d332647baea 153163 --> testing pass Upstream job id: Template-DTS-Pipeline#223583 Test environment and result as below: +--------------------+----------------------+----------------------+ | Environment | compressdev_zlib_pmd | dpdk_fips_validation | +====================+======================+======================+ | Ubuntu 22.04 (ARM) | PASS | SKIPPED | +--------------------+----------------------+----------------------+ | Ubuntu 22.04 | PASS | SKIPPED | +--------------------+----------------------+----------------------+ | Ubuntu 20.04 | SKIPPED | PASS | +--------------------+----------------------+----------------------+ Ubuntu 22.04 (ARM) Kernel: 5.15.0-97-generic Compiler: gcc gcc (Ubuntu 11.4.0-1ubuntu1~22.04) 11.4.0 Ubuntu 22.04 Kernel: 5.15.0-100-generic Compiler: gcc gcc (Ubuntu 11.4.0-1ubuntu1~22.04) 11.4.0 Ubuntu 20.04 Kernel: Depends on container host Compiler: gcc (Ubuntu 9.4.0-1ubuntu1~20.04.2) 9.4.0 To view detailed results, visit: https://lab.dpdk.org/results/dashboard/patchsets/33070/ UNH-IOL DPDK Community Lab To manage your email subscriptions, visit: https://lab.dpdk.org/results/dashboard/preferences/subscriptions/