From mboxrd@z Thu Jan 1 00:00:00 1970 Return-Path: Received: from mails.dpdk.org (mails.dpdk.org [217.70.189.124]) by inbox.dpdk.org (Postfix) with ESMTP id 1D44646666 for ; Wed, 30 Apr 2025 00:27:35 +0200 (CEST) Received: from mails.dpdk.org (localhost [127.0.0.1]) by mails.dpdk.org (Postfix) with ESMTP id 17335402A7; Wed, 30 Apr 2025 00:27:35 +0200 (CEST) Received: from mail-pf1-f227.google.com (mail-pf1-f227.google.com [209.85.210.227]) by mails.dpdk.org (Postfix) with ESMTP id 56A2A402A3 for ; Wed, 30 Apr 2025 00:27:33 +0200 (CEST) Received: by mail-pf1-f227.google.com with SMTP id d2e1a72fcca58-7376dd56eccso7015417b3a.0 for ; Tue, 29 Apr 2025 15:27:33 -0700 (PDT) DKIM-Signature: v=1; a=rsa-sha256; c=relaxed/relaxed; d=iol.unh.edu; s=unh-iol; t=1745965652; x=1746570452; darn=dpdk.org; h=references:in-reply-to:cc:to:from:subject:message-id:date:from:to :cc:subject:date:message-id:reply-to; bh=rrk2VISLtA6jzqKNMuLKuv2YtFFMqfOFS6qNLL/LfCQ=; b=Iz2be4f2lTWj/tw5+GUe/8lA89/tNA0RXfMAskgLVKXk4D3G9pWOHeR7RZNjOGGppQ 4AV5uvlgXmlNOmBPBJGuKWCNYjQToocfrWaJ+vhgEuau30LpVCwIFluyDywK6wlcRy8d 1o82MHD/MEMSZcSii7ShwmQrFvPK6cqt52F+w= X-Google-DKIM-Signature: v=1; a=rsa-sha256; c=relaxed/relaxed; d=1e100.net; s=20230601; t=1745965652; x=1746570452; h=references:in-reply-to:cc:to:from:subject:message-id:date :x-gm-message-state:from:to:cc:subject:date:message-id:reply-to; bh=rrk2VISLtA6jzqKNMuLKuv2YtFFMqfOFS6qNLL/LfCQ=; b=MmBw37c93x1auG/EoyH86t3SPA0H0VMqIHFkoFO4h1JcR7DWYH7Q9sH9zhzlzVYzZI nvprFLCFGERDfmLVaB1Nqgp2siB4NAQ3prDz7JW/89GJPFyyKCNWgiPgkZ7QCjhly2uj 5HS8lSbChyY8wkX9CizvcFKBB+dlqFfnVXEdzW8BdPsSShOV1Yl9LMJbfoQIk1MSgJka YxO4ibm3n66d63HgQtj8bHoY2WpDrg/qkAiwFRFpKhISmAg2ZKe94/QJqJJ1J4GurF2b Ze3uTSBGnkrol6nRKe9nQdhx7kXnOcs0A9YucMXajjf6iPsFZAvCAU7fIpd+dNW1nP+x mYag== X-Gm-Message-State: AOJu0YwXJbDHOE0VZUvlaBH30H/Brn4WX2C1xmhhcSf9OOZOWTLH18GL ZcIkXH+NsaQpnsX805NQ7AMZKWySXSG47e60NoxGW0DeK/0Hvl9Sor0Hu1RH4hzq7GxqcIyHW7B s/DtzmLXbdqa8OD6VTJdxLFBcm1dsqEnNRNIy5rap X-Gm-Gg: ASbGncthVgJ/DgEenvjKBz/K1pCMZ4AgC75t9X/1nVuymCzPJ+XYpsGE5LzVvmV9xto JxAXIIhMbjiz+DTEtfHo/0oS+q2mNnzjowOA78K6+z3ztBYAHEqp2SsYd8KXK+T6VIz/kD43iWR zc9ftfZ6SBRShLcjxr7aBKk5WW0HjpA1G+pZDSPLNM8lbP6D9/K6kNA/FcRwJY3mgt6qpc3r3D3 H6FHO1HFdln7Gmm1P+zMlCeBshaz8F8xN/VMSPZ6VjW96gu1WHSzoG56YhiZq5aZ4PR/HFx9CFL mWV69S0sO/CieTylAy3zH4meXY8x5xNu98FS X-Google-Smtp-Source: AGHT+IHsi3Sn5K7sirwDGfngOEN8jhQBprwf73tA4dyNMTqkIGVql+hO+1dYNgq/ff418SSVjSSqHkK0+Fur X-Received: by 2002:a05:6a21:1011:b0:1fe:4225:f84b with SMTP id adf61e73a8af0-20a898109fdmr902923637.38.1745965652287; Tue, 29 Apr 2025 15:27:32 -0700 (PDT) Received: from postal.iol.unh.edu (postal.iol.unh.edu. [132.177.123.84]) by smtp-relay.gmail.com with ESMTPS id d2e1a72fcca58-7403990cc2csm21368b3a.9.2025.04.29.15.27.32 (version=TLS1_2 cipher=ECDHE-ECDSA-AES128-GCM-SHA256 bits=128/128); Tue, 29 Apr 2025 15:27:32 -0700 (PDT) X-Relaying-Domain: iol.unh.edu Date: Tue, 29 Apr 2025 15:27:32 -0700 (PDT) Message-ID: <68115254.050a0220.5eab4.11c0SMTPIN_ADDED_MISSING@mx.google.com> Received: from [172.17.0.2] (unknown [172.18.0.74]) by postal.iol.unh.edu (Postfix) with ESMTP id 6802B6052471; Tue, 29 Apr 2025 18:27:31 -0400 (EDT) Subject: |SUCCESS| pw153168-153169 [PATCH] [2/2] net/mlx5: fix coverity warni From: dpdklab@iol.unh.edu To: Test Report Cc: dpdk-test-reports@iol.unh.edu In-Reply-To: <20250427112257.108544-2-mkashani@nvidia.com> References: <20250427112257.108544-2-mkashani@nvidia.com> Content-Type: text/plain X-BeenThere: test-report@dpdk.org X-Mailman-Version: 2.1.29 Precedence: list List-Id: automatic DPDK test reports List-Unsubscribe: , List-Archive: List-Post: List-Help: List-Subscribe: , Errors-To: test-report-bounces@dpdk.org Test-Label: iol-sample-apps-testing Test-Status: SUCCESS http://dpdk.org/patch/153169 _Testing PASS RETEST #1_ Submitter: Maayan Kashani Date: Sunday, April 27 2025 11:22:57 DPDK git baseline: Repo:dpdk Branch: master CommitID:edd3f4b1265e6da707c46ca9b6c39d332647baea 153168-153169 --> testing pass Upstream job id: Template-DTS-Pipeline#223598 Test environment and result as below: +--------------------+----------------------+----------------------+ | Environment | compressdev_zlib_pmd | dpdk_fips_validation | +====================+======================+======================+ | Ubuntu 22.04 (ARM) | PASS | SKIPPED | +--------------------+----------------------+----------------------+ | Ubuntu 22.04 | PASS | SKIPPED | +--------------------+----------------------+----------------------+ | Ubuntu 20.04 | SKIPPED | PASS | +--------------------+----------------------+----------------------+ Ubuntu 22.04 (ARM) Kernel: 5.15.0-97-generic Compiler: gcc gcc (Ubuntu 11.4.0-1ubuntu1~22.04) 11.4.0 Ubuntu 22.04 Kernel: 5.15.0-100-generic Compiler: gcc gcc (Ubuntu 11.4.0-1ubuntu1~22.04) 11.4.0 Ubuntu 20.04 Kernel: Depends on container host Compiler: gcc (Ubuntu 9.4.0-1ubuntu1~20.04.2) 9.4.0 To view detailed results, visit: https://lab.dpdk.org/results/dashboard/patchsets/33074/ UNH-IOL DPDK Community Lab To manage your email subscriptions, visit: https://lab.dpdk.org/results/dashboard/preferences/subscriptions/