From mboxrd@z Thu Jan 1 00:00:00 1970 Return-Path: Received: from mails.dpdk.org (mails.dpdk.org [217.70.189.124]) by inbox.dpdk.org (Postfix) with ESMTP id 74B5B46666 for ; Wed, 30 Apr 2025 00:29:45 +0200 (CEST) Received: from mails.dpdk.org (localhost [127.0.0.1]) by mails.dpdk.org (Postfix) with ESMTP id 4BE1A402A7; Wed, 30 Apr 2025 00:29:45 +0200 (CEST) Received: from mail-qv1-f97.google.com (mail-qv1-f97.google.com [209.85.219.97]) by mails.dpdk.org (Postfix) with ESMTP id 94575402A3 for ; Wed, 30 Apr 2025 00:29:43 +0200 (CEST) Received: by mail-qv1-f97.google.com with SMTP id 6a1803df08f44-6f0ad744811so49679256d6.1 for ; Tue, 29 Apr 2025 15:29:43 -0700 (PDT) DKIM-Signature: v=1; a=rsa-sha256; c=relaxed/relaxed; d=iol.unh.edu; s=unh-iol; t=1745965783; x=1746570583; darn=dpdk.org; h=references:in-reply-to:cc:to:from:subject:message-id:date:from:to :cc:subject:date:message-id:reply-to; bh=AJlhZIrWiaG2HxjxpWanHFCHeZWOiYIHEva0O6s8DNM=; b=crGv1lt6X0aAxxgTwzMGoif7s2YBadEZOHhInKEBnTWgVWx05R/fBg0+7A1dORFlq5 8UAYk7q79XCEBq5p/eH4iFyTMkpLPrJ5U+UaINJdOlG7AO5ySRjpPt7D6x8gCFW9O8k2 Ta6A+ukjSInqYLWE72ZHAjjjirARnUx8zsvGY= X-Google-DKIM-Signature: v=1; a=rsa-sha256; c=relaxed/relaxed; d=1e100.net; s=20230601; t=1745965783; x=1746570583; h=references:in-reply-to:cc:to:from:subject:message-id:date :x-gm-message-state:from:to:cc:subject:date:message-id:reply-to; bh=AJlhZIrWiaG2HxjxpWanHFCHeZWOiYIHEva0O6s8DNM=; b=KE65PxfUhgnxhVX5IWR1o7ZV8avDa9xcuDLTOquzA7o1ZUjtv0lrkhWImalyNuvAtG pe3xwNwQGmVacZ5K9z/OEL2ddZrNFueh3JSQHbeMJ2Ssl/oIFd8b5U0PFXRO7cdV84FH D1LESi4BoNbiBl8P3ZYSrvxXg/rmA+SFMtPo3OR7xUMXPE3ot81xJlKJA6S47nX02LPR l8Sy8tF3CBRUShiy+ICpNLiW/2bFSzaBBrwGy66RvhCpThzoZ3XruRtGQpl+xd1sgqtj YqumGW6Xi9gK/L4tiKosEOhxTNswRUUy7+66RiD7i53taK5uHX9ib79yPGRFCPBCNX/q /wdw== X-Gm-Message-State: AOJu0YzEXPQrcIX9fuNweyDQxcdCyTgqBQ9dWQC3ECun/mLAzTH1tdBP Xtkn6nzIsfYSaN+mOiACYbS2Ph6AAgGYvCG9aGvul0rSneqGCXehkRl+XZ+nZwdS0LhnuyDbzYm 8BPNW7sa63H2TXTgkr+H2dR0skg/y6wK8ZvkuydBT X-Gm-Gg: ASbGncsfqh1+sRCCtdvs/0re5bn+POjb0xxIhUiNP7YgeYVkEvQ2RMaYaoPITE5wa9c pJ413AJndBtPMHNqqV65HtzIJZtQtkKMIiQXw8ntB8bj87TE/kwvuLt8uLJEm4gQJM55PhJWwBk dFA9s/fhpI7Ro4GARTFx0e09kMb1oyUjNqlgG+9kNgrXpCu6ZXO7zpAQHeH66DUxXXydX1ZkMmT PeKkZ88+0nnpp3bwxsAIiARZ0gAeshipiVq9WmHUDZwXXJ+1jvyvfZVhDpTmGrty6NYAayW5NXx 39Y0R78dH+u7Y36Glu678HNaPZknnQcpyeR2 X-Google-Smtp-Source: AGHT+IEjTAoL/AwS23lohib6qrxrEOKgNFpr0be1/TtqY2AyWFaCRisNDO7+7xK3bwe1hi8PoHWHoKMYdLoc X-Received: by 2002:a05:6214:5013:b0:6e8:8e10:424d with SMTP id 6a1803df08f44-6f4fcf9ce26mr15151746d6.41.1745965782860; Tue, 29 Apr 2025 15:29:42 -0700 (PDT) Received: from postal.iol.unh.edu (postal.iol.unh.edu. [132.177.123.84]) by smtp-relay.gmail.com with ESMTPS id 6a1803df08f44-6f4fe8222ccsm72666d6.66.2025.04.29.15.29.42 (version=TLS1_2 cipher=ECDHE-ECDSA-AES128-GCM-SHA256 bits=128/128); Tue, 29 Apr 2025 15:29:42 -0700 (PDT) X-Relaying-Domain: iol.unh.edu Date: Tue, 29 Apr 2025 15:29:42 -0700 (PDT) Message-ID: <681152d6.d40a0220.dc8eb.05daSMTPIN_ADDED_MISSING@mx.google.com> Received: from [172.17.0.2] (unknown [172.18.0.74]) by postal.iol.unh.edu (Postfix) with ESMTP id 8A4EE6052471; Tue, 29 Apr 2025 18:29:42 -0400 (EDT) Subject: |SUCCESS| pw153170 [PATCH] net/mlx5: add match on IPv6 fragment exte From: dpdklab@iol.unh.edu To: Test Report Cc: dpdk-test-reports@iol.unh.edu In-Reply-To: <20250427112537.108725-1-mkashani@nvidia.com> References: <20250427112537.108725-1-mkashani@nvidia.com> Content-Type: text/plain X-BeenThere: test-report@dpdk.org X-Mailman-Version: 2.1.29 Precedence: list List-Id: automatic DPDK test reports List-Unsubscribe: , List-Archive: List-Post: List-Help: List-Subscribe: , Errors-To: test-report-bounces@dpdk.org Test-Label: iol-sample-apps-testing Test-Status: SUCCESS http://dpdk.org/patch/153170 _Testing PASS RETEST #1_ Submitter: Maayan Kashani Date: Sunday, April 27 2025 11:25:36 DPDK git baseline: Repo:dpdk Branch: master CommitID:edd3f4b1265e6da707c46ca9b6c39d332647baea 153170 --> testing pass Upstream job id: Template-DTS-Pipeline#223567 Test environment and result as below: +--------------------+----------------------+----------------------+ | Environment | compressdev_zlib_pmd | dpdk_fips_validation | +====================+======================+======================+ | Ubuntu 22.04 (ARM) | PASS | SKIPPED | +--------------------+----------------------+----------------------+ | Ubuntu 22.04 | PASS | SKIPPED | +--------------------+----------------------+----------------------+ | Ubuntu 20.04 | SKIPPED | PASS | +--------------------+----------------------+----------------------+ Ubuntu 22.04 (ARM) Kernel: 5.15.0-97-generic Compiler: gcc gcc (Ubuntu 11.4.0-1ubuntu1~22.04) 11.4.0 Ubuntu 22.04 Kernel: 5.15.0-100-generic Compiler: gcc gcc (Ubuntu 11.4.0-1ubuntu1~22.04) 11.4.0 Ubuntu 20.04 Kernel: Depends on container host Compiler: gcc (Ubuntu 9.4.0-1ubuntu1~20.04.2) 9.4.0 To view detailed results, visit: https://lab.dpdk.org/results/dashboard/patchsets/33075/ UNH-IOL DPDK Community Lab To manage your email subscriptions, visit: https://lab.dpdk.org/results/dashboard/preferences/subscriptions/