From mboxrd@z Thu Jan 1 00:00:00 1970 Return-Path: Received: from mails.dpdk.org (mails.dpdk.org [217.70.189.124]) by inbox.dpdk.org (Postfix) with ESMTP id 4981B46624 for ; Wed, 30 Apr 2025 00:57:05 +0200 (CEST) Received: from mails.dpdk.org (localhost [127.0.0.1]) by mails.dpdk.org (Postfix) with ESMTP id 4501A402A7; Wed, 30 Apr 2025 00:57:05 +0200 (CEST) Received: from mail-pl1-f226.google.com (mail-pl1-f226.google.com [209.85.214.226]) by mails.dpdk.org (Postfix) with ESMTP id BFA0A402E8 for ; Wed, 30 Apr 2025 00:57:00 +0200 (CEST) Received: by mail-pl1-f226.google.com with SMTP id d9443c01a7336-227d6b530d8so73552755ad.3 for ; Tue, 29 Apr 2025 15:57:00 -0700 (PDT) DKIM-Signature: v=1; a=rsa-sha256; c=relaxed/relaxed; d=iol.unh.edu; s=unh-iol; t=1745967420; x=1746572220; darn=dpdk.org; h=references:in-reply-to:cc:to:from:subject:message-id:date:from:to :cc:subject:date:message-id:reply-to; bh=zI8A6GmMrhq3RPFj42BlefEFhjaM0xiNGi5kHqCRJ9s=; b=Rw3LjZl2lcmZtLjWfElNWPc9+fa+CpFmgmazw/xyOem+7TwIbsBLlMNj+cTCB0G/Ta J6kdEE6MP+i/ZgtkOUJwg+mjhgRXKqRmlQo+U5lMpJ/hy+JN2spprtd7/aa200gBf4s/ edzwNyAnaTNxK8OUhvlE5azbNoLzVQSLg3QZg= X-Google-DKIM-Signature: v=1; a=rsa-sha256; c=relaxed/relaxed; d=1e100.net; s=20230601; t=1745967420; x=1746572220; h=references:in-reply-to:cc:to:from:subject:message-id:date :x-gm-message-state:from:to:cc:subject:date:message-id:reply-to; bh=zI8A6GmMrhq3RPFj42BlefEFhjaM0xiNGi5kHqCRJ9s=; b=hnHMzyoK8XDgzJJTvl1lRMV9nEvzfNvxgLCzvZmNYS6mVWrgYaVc4+VjPAoI0z3u9o O+n6SWOl8eWKB9LCwxUPf6XiSTHQ2danxlYgrRED3H7ezOcIIQ7fgGzWbo+TA+KS3zsm ImjAXSwi4VqEv5wkHqVb6ZT+lr7bBNwOZB79xYGsHnNjOxm04Ws3lMgNj5uLcdflf/JL jaD5ALbr3dKfj7doH1MV37EanIPQXShesBoblZ45Spk/n9064z8qA4V1Q1WMUmlrSWRh CHyuYFG90yh4hh7wBvPHqOEyHqQKXwwcH4ccZGXr6AbKjVnddxTnJcRPaSvitzx2iRam 9aSw== X-Gm-Message-State: AOJu0YxuuNc6NjWDnzWKfdTLCTq/5nbE9crH2HWdiN6HpgfNCGw7QIBT syDbwUENHXD6H7UPKS4VxgFLR+n8WwUbc+o8nqcqGNrPhg3wWTGlsakE2+fMJIiJpWe1J9Zeazm uTdOex5LmrkOwCWXxPXoqi0v+sVbG8GCYu3gMrGo118i0Stv4rV2W957L X-Gm-Gg: ASbGncuiKwDmESZXY2VYaw1O83MBm/x7CXlW5wCuN58vNeH+jJXS8OJKgYsCujKzJ2Y pXI8/t95wK8owD4SftDajWwPES6nj5/xMshhcE/BEwuycC0KXO3bOTrmRwLN7g+GV1WSsyYyC+r X62bB2VA131Lj2hG6ciInOJZUzzdl9/F7eASr73N4s8DKaAA7Gu/VRog0+N9GE/TdDfauNbTXsv +S//avcMuvIQbw3rDHyqvV24IUqJTgFOaupFUoacWvEp4LoSL5o0oIPg6JJSJMJlIddhwxRBihS dJ+8pKLQ+qwv8Ne0dNaZk/HtYxHtKlaR5ZZci5/UiraQwQd4 X-Google-Smtp-Source: AGHT+IFJ+lMypkkNn29tC9E7zryhscFJ3qxwjRuCoJqq3BO0rwrg9eiLij51t2RjCFz2d+eKgSctzZRQ3DPP X-Received: by 2002:a17:902:cf43:b0:224:1c41:a4c0 with SMTP id d9443c01a7336-22df34b3857mr15159375ad.9.1745967419715; Tue, 29 Apr 2025 15:56:59 -0700 (PDT) Received: from postal.iol.unh.edu (postal.iol.unh.edu. [2606:4100:3880:1234::84]) by smtp-relay.gmail.com with ESMTPS id d9443c01a7336-22db521695csm14405495ad.108.2025.04.29.15.56.59 (version=TLS1_2 cipher=ECDHE-ECDSA-AES128-GCM-SHA256 bits=128/128); Tue, 29 Apr 2025 15:56:59 -0700 (PDT) X-Relaying-Domain: iol.unh.edu Date: Tue, 29 Apr 2025 15:56:59 -0700 (PDT) Message-ID: <6811593b.170a0220.14cb62.fdfcSMTPIN_ADDED_MISSING@mx.google.com> Received: from [172.17.0.2] (unknown [172.18.0.76]) by postal.iol.unh.edu (Postfix) with ESMTP id C762F6052472; Tue, 29 Apr 2025 18:56:58 -0400 (EDT) Subject: |SUCCESS| pw153188 [PATCH] ethdev: remove callback checks from fast From: dpdklab@iol.unh.edu To: Test Report Cc: dpdk-test-reports@iol.unh.edu In-Reply-To: <20250429181132.2544771-1-skori@marvell.com> References: <20250429181132.2544771-1-skori@marvell.com> Content-Type: text/plain X-BeenThere: test-report@dpdk.org X-Mailman-Version: 2.1.29 Precedence: list List-Id: automatic DPDK test reports List-Unsubscribe: , List-Archive: List-Post: List-Help: List-Subscribe: , Errors-To: test-report-bounces@dpdk.org Test-Label: iol-compile-arm64-testing Test-Status: SUCCESS http://dpdk.org/patch/153188 _Testing PASS_ Submitter: Sunil Kumar Kori Date: Tuesday, April 29 2025 18:11:30 DPDK git baseline: Repo:dpdk Branch: master CommitID:ff05ee3e3f8fb4ce958a2ce6461e8141aea959c6 153188 --> testing pass Upstream job id: Generic-DPDK-Compile-Meson#383860 Test environment and result as below: +----------------------------------------+--------------------+ | Environment | dpdk_meson_compile | +========================================+====================+ | RHEL9 (ARM) | PASS | +----------------------------------------+--------------------+ | Ubuntu 20.04 ARM GCC Cross Compile | PASS | +----------------------------------------+--------------------+ | Ubuntu 20.04 ARM SVE | PASS | +----------------------------------------+--------------------+ | Fedora 40 (ARM) | PASS | +----------------------------------------+--------------------+ | Debian 12 with MUSDK | PASS | +----------------------------------------+--------------------+ | Fedora 40 (ARM Clang) | PASS | +----------------------------------------+--------------------+ | Fedora 41 (ARM) | PASS | +----------------------------------------+--------------------+ | Ubuntu 20.04 (ARM) | PASS | +----------------------------------------+--------------------+ | Ubuntu 22.04 (ARM) | PASS | +----------------------------------------+--------------------+ | CentOS Stream 9 (ARM) | PASS | +----------------------------------------+--------------------+ | Ubuntu 24.04 (ARM) | PASS | +----------------------------------------+--------------------+ | CentOS Stream 10 (ARM) | PASS | +----------------------------------------+--------------------+ | Debian 12 (arm) | PASS | +----------------------------------------+--------------------+ | Ubuntu 20.04 ARM Clang Cross Compile | PASS | +----------------------------------------+--------------------+ | Ubuntu 20.04 aarch32 GCC Cross Compile | PASS | +----------------------------------------+--------------------+ | Fedora 41 (ARM Clang) | PASS | +----------------------------------------+--------------------+ RHEL9 (ARM) Kernel: Depends on container host Compiler: gcc 11.5.0 20240719 (Red Hat 11.5.0-2) Ubuntu 20.04 ARM GCC Cross Compile Kernel: Depends on container host Compiler: aarch64-linux-gnu-gcc (Ubuntu 9.4.0-1ubuntu1~20.04.2) 9.4.0 Ubuntu 20.04 ARM SVE Kernel: Depends on container host Compiler: gcc (Ubuntu 10.5.0-1ubuntu1~20.04) 10.5.0 Fedora 40 (ARM) Kernel: Depends on container host Compiler: gcc 14.2.1 20240912 (Red Hat 14.2.1-3) Debian 12 with MUSDK Kernel: Depends on container host Compiler: gcc (Debian 12.2.0-14) 12.2.0 Fedora 40 (ARM Clang) Kernel: Depends on container host Compiler: clang 18.1.8 (Fedora 18.1.8-1.fc40) Fedora 41 (ARM) Kernel: Depends on container host Compiler: gcc 14.2.1 20240912 (Red Hat 14.2.1-3) Ubuntu 20.04 (ARM) Kernel: Depends on container host Compiler: gcc (Ubuntu 9.4.0-1ubuntu1~20.04.2) 9.4.0 Ubuntu 22.04 (ARM) Kernel: Depends on container host Compiler: gcc (Ubuntu 11.4.0-1ubuntu1~22.04) 11.4.0 CentOS Stream 9 (ARM) Kernel: Depends on container host Compiler: gcc 11.5.0 20240719 (Red Hat 11.5.0-2) Ubuntu 24.04 (ARM) Kernel: Depends on container host Compiler: gcc (Ubuntu 13.3.0-6ubuntu2~24.04) 13.3.0 CentOS Stream 10 (ARM) Kernel: Depends on container host Compiler: gcc 14.2.1 20241104 (Red Hat 14.2.1-6) Debian 12 (arm) Kernel: Depends on container host Compiler: gcc (Debian 12.2.0-14) 12.2.0 Ubuntu 20.04 ARM Clang Cross Compile Kernel: Depends on container host Compiler: clang 10.0.0-4ubuntu1 Ubuntu 20.04 aarch32 GCC Cross Compile Kernel: Depends on container host Compiler: gcc 9.4.0 Fedora 41 (ARM Clang) Kernel: Depends on container host Compiler: clang 19.1.5 (Fedora 19.1.5-1.fc41) To view detailed results, visit: https://lab.dpdk.org/results/dashboard/patchsets/33088/ UNH-IOL DPDK Community Lab To manage your email subscriptions, visit: https://lab.dpdk.org/results/dashboard/preferences/subscriptions/