From mboxrd@z Thu Jan 1 00:00:00 1970 Return-Path: Received: from mails.dpdk.org (mails.dpdk.org [217.70.189.124]) by inbox.dpdk.org (Postfix) with ESMTP id 6E7BC46624 for ; Wed, 30 Apr 2025 01:15:06 +0200 (CEST) Received: from mails.dpdk.org (localhost [127.0.0.1]) by mails.dpdk.org (Postfix) with ESMTP id 6A7F1402A7; Wed, 30 Apr 2025 01:15:06 +0200 (CEST) Received: from mail-il1-f227.google.com (mail-il1-f227.google.com [209.85.166.227]) by mails.dpdk.org (Postfix) with ESMTP id 2013B402A3 for ; Wed, 30 Apr 2025 01:15:05 +0200 (CEST) Received: by mail-il1-f227.google.com with SMTP id e9e14a558f8ab-3d5e68418b5so62707465ab.2 for ; Tue, 29 Apr 2025 16:15:05 -0700 (PDT) DKIM-Signature: v=1; a=rsa-sha256; c=relaxed/relaxed; d=iol.unh.edu; s=unh-iol; t=1745968504; x=1746573304; darn=dpdk.org; h=references:in-reply-to:cc:to:from:subject:message-id:date:from:to :cc:subject:date:message-id:reply-to; bh=/a+6G8lcIvlMy5u4SV6SMjFlu0kJexRO9dFLL0gtaLM=; b=BDNgMo7FY3hf4wlHvCCbLgpocyt7NR4qs6bP9JVjsLLX3j6eKnbgS7BMtETjnl2zLU 3FCFAxK5WbXsQe3FmW72AqIeFY36kRCNlRzZlubIC4s5cIzlxM3y0n3lOYjOdPHZuNPB TXS92p+U/qr3mBJk3nxFg8xdO39HqCG0Nq/XM= X-Google-DKIM-Signature: v=1; a=rsa-sha256; c=relaxed/relaxed; d=1e100.net; s=20230601; t=1745968504; x=1746573304; h=references:in-reply-to:cc:to:from:subject:message-id:date :x-gm-message-state:from:to:cc:subject:date:message-id:reply-to; bh=/a+6G8lcIvlMy5u4SV6SMjFlu0kJexRO9dFLL0gtaLM=; b=kYjXGf46pTa5CDaxlqk6ckXkx8l3BtMULTYO92SDRZ4/mhqhE/DIxXzCkuHGZ6rq7z u61inBH8AIIlKC+U2LcYwQVMioJXSHal+922MLn1i1tvGVuahiBxYd1fz+E41Ouk/Bv0 poaH0kKn91ED5418qhy51Q8GtHColR8gsW2VJw9V95uAmahfTV70QP0Wso4EAwx5VOVJ sJHGHVo+jE+1cNKjwBeraL4+ko/sgCI8vgfhyfp+rzliSBEDev/7vluJgKcz72QXAnAu Q5pK+nqzVs1/UEfZ5ZX8lZIqfvLdazCUaAqRqhQR2NTdK3ZGcJtY7vI8q/9ItP5FGvI1 vRdA== X-Gm-Message-State: AOJu0YzspRaVm9jYByFKbMsBb5ObimRhine55eK6Px5Q/wLJ1rQQ2sow 9sFJWcVDyy1iNiq+hPpCGjWuod+l4hzUNPQekxjVKGAqmyzLmwn+Y9lPJJUZJqiM3+qnu6kqkhE SLwW9r60Zsf1NcVD2o5m5XtE0viKYPdo3GNchaOlo X-Gm-Gg: ASbGncuthRFgCNvdvjIfb+U8AkZ4PV4zRViBxk3+qtZPUYPiaif3QXBm48Wi4IKUGom eSwzZfcXA1wyqo7YK11AEpRg4a/0wIhOa8zCox1w0R/koXqIH+1ScFwINnG44PTtbK01OJy4naI 7+N+59g7WboBClnsj/fjqLvYvoGGOEHxoIg6g2TwdmYJizcqD9iN2tBC/CbOE9w2gBo926ndjTd hHmUhleVNe2vSnBoflYPGQ7JTF5vXawT7GUs0KilI07DwWdWhE8oqGGTEXi7F+57LMTjQjq+OP/ E873qSEHAAgwhMN5nRM1CDoz2q0eJBWoUwjF X-Google-Smtp-Source: AGHT+IGQiapsJBThegm8LY/USVfq0cfIWXlpVBS6Lik9XQhUKmwVSc7t197GNL4TZdh/Vpaueujy/9j/FiV3 X-Received: by 2002:a92:c244:0:b0:3d9:43fe:8e49 with SMTP id e9e14a558f8ab-3d9676c6226mr12164785ab.8.1745968504489; Tue, 29 Apr 2025 16:15:04 -0700 (PDT) Received: from postal.iol.unh.edu (postal.iol.unh.edu. [132.177.123.84]) by smtp-relay.gmail.com with ESMTPS id 8926c6da1cb9f-4f862e0f7e4sm220535173.35.2025.04.29.16.15.04 (version=TLS1_2 cipher=ECDHE-ECDSA-AES128-GCM-SHA256 bits=128/128); Tue, 29 Apr 2025 16:15:04 -0700 (PDT) X-Relaying-Domain: iol.unh.edu Date: Tue, 29 Apr 2025 16:15:04 -0700 (PDT) Message-ID: <68115d78.050a0220.2667ea.6d13SMTPIN_ADDED_MISSING@mx.google.com> Received: from [172.17.0.2] (unknown [172.18.0.74]) by postal.iol.unh.edu (Postfix) with ESMTP id A603C6052471; Tue, 29 Apr 2025 19:15:03 -0400 (EDT) Subject: |SUCCESS| pw153163 [PATCH] net/mlx5: fix VLAN stripping on hairpin q From: dpdklab@iol.unh.edu To: Test Report Cc: dpdk-test-reports@iol.unh.edu In-Reply-To: <20250425194913.70742-1-dsosnowski@nvidia.com> References: <20250425194913.70742-1-dsosnowski@nvidia.com> Content-Type: text/plain X-BeenThere: test-report@dpdk.org X-Mailman-Version: 2.1.29 Precedence: list List-Id: automatic DPDK test reports List-Unsubscribe: , List-Archive: List-Post: List-Help: List-Subscribe: , Errors-To: test-report-bounces@dpdk.org Test-Label: iol-sample-apps-testing Test-Status: SUCCESS http://dpdk.org/patch/153163 _Testing PASS RETEST #1_ Submitter: Dariusz Sosnowski Date: Friday, April 25 2025 19:49:13 DPDK git baseline: Repo:dpdk Branch: master CommitID:edd3f4b1265e6da707c46ca9b6c39d332647baea 153163 --> testing pass Upstream job id: Template-DTS-Pipeline#223582 Test environment and result as below: +--------------------+----------------------+----------------------+ | Environment | compressdev_zlib_pmd | dpdk_fips_validation | +====================+======================+======================+ | Ubuntu 22.04 (ARM) | PASS | SKIPPED | +--------------------+----------------------+----------------------+ | Ubuntu 22.04 | PASS | SKIPPED | +--------------------+----------------------+----------------------+ | Ubuntu 20.04 | SKIPPED | PASS | +--------------------+----------------------+----------------------+ Ubuntu 22.04 (ARM) Kernel: 5.15.0-97-generic Compiler: gcc gcc (Ubuntu 11.4.0-1ubuntu1~22.04) 11.4.0 Ubuntu 22.04 Kernel: 5.15.0-100-generic Compiler: gcc gcc (Ubuntu 11.4.0-1ubuntu1~22.04) 11.4.0 Ubuntu 20.04 Kernel: Depends on container host Compiler: gcc (Ubuntu 9.4.0-1ubuntu1~20.04.2) 9.4.0 To view detailed results, visit: https://lab.dpdk.org/results/dashboard/patchsets/33070/ UNH-IOL DPDK Community Lab To manage your email subscriptions, visit: https://lab.dpdk.org/results/dashboard/preferences/subscriptions/