From mboxrd@z Thu Jan 1 00:00:00 1970 Return-Path: Received: from mails.dpdk.org (mails.dpdk.org [217.70.189.124]) by inbox.dpdk.org (Postfix) with ESMTP id 827D946624 for ; Wed, 30 Apr 2025 01:59:49 +0200 (CEST) Received: from mails.dpdk.org (localhost [127.0.0.1]) by mails.dpdk.org (Postfix) with ESMTP id 7A302402A7; Wed, 30 Apr 2025 01:59:49 +0200 (CEST) Received: from mail-oa1-f100.google.com (mail-oa1-f100.google.com [209.85.160.100]) by mails.dpdk.org (Postfix) with ESMTP id A21FE402A3 for ; Wed, 30 Apr 2025 01:59:48 +0200 (CEST) Received: by mail-oa1-f100.google.com with SMTP id 586e51a60fabf-2da14a6f89aso865245fac.2 for ; Tue, 29 Apr 2025 16:59:48 -0700 (PDT) DKIM-Signature: v=1; a=rsa-sha256; c=relaxed/relaxed; d=iol.unh.edu; s=unh-iol; t=1745971188; x=1746575988; darn=dpdk.org; h=references:in-reply-to:cc:to:from:subject:message-id:date:from:to :cc:subject:date:message-id:reply-to; bh=JMhVH2g5JG4eQgql1CeJge+2ZPifO1EN8IAKcuYNsgE=; b=LiIyNQAEKr02dpZwpkpBwKGGZeYUGCsaGNsfh+scYgKFCQLXEfGKVOoFlvs7ssGYf2 rTETBa4/i75bOqzuuax00sehnPydD+3kBUb/J3aEt2u1slwdqKJ0TMvU992gaUjlNair Vq+c0haVCtlFJQ2bT0vZZeQmo/fyrWw6QimmU= X-Google-DKIM-Signature: v=1; a=rsa-sha256; c=relaxed/relaxed; d=1e100.net; s=20230601; t=1745971188; x=1746575988; h=references:in-reply-to:cc:to:from:subject:message-id:date :x-gm-message-state:from:to:cc:subject:date:message-id:reply-to; bh=JMhVH2g5JG4eQgql1CeJge+2ZPifO1EN8IAKcuYNsgE=; b=wf5+t1tBs4XAo3JJSaba+uQaVvk5hFfzoRkMmuaZFxVJvCU3QwYGGGb0/XvJfOPk2R fZAjpcKMTJNGu6iVQp1zoH/bK/i50WXGaYKI3lMtTBErNpHOPhYb2SxKmzma09xLZFG3 Up7mfS5m3mPRm7W5DAGiobJe1K9NqTUQGB54OH9llAFwc7OvDiRv7d+wWQwIU8c0zkw2 aEMwUxnzmqTtBDLj6oTe41zvVc7KziYuqQ8CspcxUppQKkRAlQr0rJfW+PvBhojAGPv/ pkz85g81PQ1lWzsqyGu+KhLPDxZXcl4zpNyjVx1gqEazSg6WVItexejbGpUkVHIeAQ8e E0uw== X-Gm-Message-State: AOJu0YwH6NVpZVxgNyEce8T7GykrP3ar9J31ilmzPOa+OKiJlcYZ9emA zRMEkQR7nD4h+Px5g0NX/hSQ2nqMDs3oYB1PiFJMOlzWu31x936PPpnBUWfIO9NNWT4/WB/nMkp wAyeF5ig4jyIzcVuWZSH5LhN/GaMCJpoqeeHfzgT+ X-Gm-Gg: ASbGnctbVGTKUjz5taY14fxxX9iKNQU1TqLGdef+02JYYH6u4P9OH3dSktooU+PqKuL 2kwwUAEjEfkNKRcALxaQVheckk27LK+Ibs8tNrjjB2jhiVxTLI8ST/JKAAN7LLuvxGFG2uJxf7D WTZ9ili20MZjh6mMbZewnOZ4MR4a2ZIQo4ZQtRu5Oi9JU/jUmnHo+jwL6wTh7WWwsqtYHo7pIXR rgXjlwJbo/EZxn22DjUcFHmzbmLAKN458c5Umo0MVOzQDBhaQDDCwMz9He6Q+DXbNVYnoLI4Ndl gLyq3jyy6/aPVPHuiqie/uirM6e5UezMgvbe X-Google-Smtp-Source: AGHT+IG0d4y4BxP1OZaNwEDu2/Hk1UQQ6CqEch48+wuz/xMgurygiE9ER4u9cd+23sqXa4fjRxcvOr6g6H5V X-Received: by 2002:a05:6871:78e:b0:2c7:6150:fff7 with SMTP id 586e51a60fabf-2da6a3605f4mr613079fac.35.1745971187860; Tue, 29 Apr 2025 16:59:47 -0700 (PDT) Received: from postal.iol.unh.edu (postal.iol.unh.edu. [132.177.123.84]) by smtp-relay.gmail.com with ESMTPS id 586e51a60fabf-2da6e04ebd2sm13409fac.1.2025.04.29.16.59.47 (version=TLS1_2 cipher=ECDHE-ECDSA-AES128-GCM-SHA256 bits=128/128); Tue, 29 Apr 2025 16:59:47 -0700 (PDT) X-Relaying-Domain: iol.unh.edu Date: Tue, 29 Apr 2025 16:59:47 -0700 (PDT) Message-ID: <681167f3.050a0220.331d10.0bc9SMTPIN_ADDED_MISSING@mx.google.com> Received: from [172.17.0.2] (unknown [172.18.0.74]) by postal.iol.unh.edu (Postfix) with ESMTP id 475166052471; Tue, 29 Apr 2025 19:59:47 -0400 (EDT) Subject: |SUCCESS| pw153168-153169 [PATCH] [2/2] net/mlx5: fix coverity warni From: dpdklab@iol.unh.edu To: Test Report Cc: dpdk-test-reports@iol.unh.edu In-Reply-To: <20250427112257.108544-2-mkashani@nvidia.com> References: <20250427112257.108544-2-mkashani@nvidia.com> Content-Type: text/plain X-BeenThere: test-report@dpdk.org X-Mailman-Version: 2.1.29 Precedence: list List-Id: automatic DPDK test reports List-Unsubscribe: , List-Archive: List-Post: List-Help: List-Subscribe: , Errors-To: test-report-bounces@dpdk.org Test-Label: iol-sample-apps-testing Test-Status: SUCCESS http://dpdk.org/patch/153169 _Testing PASS RETEST #1_ Submitter: Maayan Kashani Date: Sunday, April 27 2025 11:22:57 DPDK git baseline: Repo:dpdk Branch: master CommitID:edd3f4b1265e6da707c46ca9b6c39d332647baea 153168-153169 --> testing pass Upstream job id: Template-DTS-Pipeline#223597 Test environment and result as below: +--------------------+----------------------+----------------------+ | Environment | compressdev_zlib_pmd | dpdk_fips_validation | +====================+======================+======================+ | Ubuntu 22.04 (ARM) | PASS | SKIPPED | +--------------------+----------------------+----------------------+ | Ubuntu 22.04 | PASS | SKIPPED | +--------------------+----------------------+----------------------+ | Ubuntu 20.04 | SKIPPED | PASS | +--------------------+----------------------+----------------------+ Ubuntu 22.04 (ARM) Kernel: 5.15.0-97-generic Compiler: gcc gcc (Ubuntu 11.4.0-1ubuntu1~22.04) 11.4.0 Ubuntu 22.04 Kernel: 5.15.0-100-generic Compiler: gcc gcc (Ubuntu 11.4.0-1ubuntu1~22.04) 11.4.0 Ubuntu 20.04 Kernel: Depends on container host Compiler: gcc (Ubuntu 9.4.0-1ubuntu1~20.04.2) 9.4.0 To view detailed results, visit: https://lab.dpdk.org/results/dashboard/patchsets/33074/ UNH-IOL DPDK Community Lab To manage your email subscriptions, visit: https://lab.dpdk.org/results/dashboard/preferences/subscriptions/