From mboxrd@z Thu Jan 1 00:00:00 1970 Return-Path: Received: from mails.dpdk.org (mails.dpdk.org [217.70.189.124]) by inbox.dpdk.org (Postfix) with ESMTP id 5B2D046662 for ; Wed, 30 Apr 2025 03:45:36 +0200 (CEST) Received: from mails.dpdk.org (localhost [127.0.0.1]) by mails.dpdk.org (Postfix) with ESMTP id 395BF402A7; Wed, 30 Apr 2025 03:45:36 +0200 (CEST) Received: from mail-qv1-f99.google.com (mail-qv1-f99.google.com [209.85.219.99]) by mails.dpdk.org (Postfix) with ESMTP id 6DFA0402A3 for ; Wed, 30 Apr 2025 03:45:35 +0200 (CEST) Received: by mail-qv1-f99.google.com with SMTP id 6a1803df08f44-6e8fce04655so71733046d6.3 for ; Tue, 29 Apr 2025 18:45:35 -0700 (PDT) DKIM-Signature: v=1; a=rsa-sha256; c=relaxed/relaxed; d=iol.unh.edu; s=unh-iol; t=1745977534; x=1746582334; darn=dpdk.org; h=cc:to:from:subject:message-id:date:from:to:cc:subject:date :message-id:reply-to; bh=cJNQIqqvYgriBDzaBIrcxK57vVrg3qCxMlElhWm4gsw=; b=d9qCK8MDaG4TXUG+Eg9PBENbYtzQ9c/YY9wChw0oIICPzSi1qjy2l/FPSmvD0PFeEi DSYICW9D4SwomLtkTIHhF7txDYMBVFkgGE5snEDCnEczRrxUROEBHogW0/9kx2TftfzO SXXbUnR+df7e1+NtzlLmOm90NO+ELIhCt2Q4s= X-Google-DKIM-Signature: v=1; a=rsa-sha256; c=relaxed/relaxed; d=1e100.net; s=20230601; t=1745977534; x=1746582334; h=cc:to:from:subject:message-id:date:x-gm-message-state:from:to:cc :subject:date:message-id:reply-to; bh=cJNQIqqvYgriBDzaBIrcxK57vVrg3qCxMlElhWm4gsw=; b=cWJqXaf+ZV1Q0unnkp9WcfYqJSwjMjYVOWyhJNujyW8BophcjoJmRtFlhHQtonfb8/ Z5r2FqdKSlWTiH3rjReC31oAlo+DyIdb9pgMNkuJCD1fx8ssRV62yRO2LOffBDOWnCQH 9OWqObZPXEPRNdv77aDMEPhLKWNiSE2+MhOEDFRGO3IKKZsTD9gXH48td+7drBdnNIvr odHQysqW/mtQnofxFnnda9DbztcMBhB92XryIhef2tqQL0uAMECOfDldYKxD6m1LBYXe lF3o1HPjdgMplhjrbWgF8DK2LX2dKPf42lXlhBwEcHxjatAoHjZLPnGTu1jvZsQ9Gxi1 IUVg== X-Gm-Message-State: AOJu0YzQi5upcXWFWePlPHeIpzGFHttWlYivrNIR5FUv1HTtR8Cn/IVn yDeuOagNjnTXOe4hI5Bh4Zj+Eeovd49lNdwnD63iTO8Gf+eXwnOYxxwJusA6toqKdl6NegGE3iZ ewcxwEtdM+prr9tC34QixwOSPW+jv5/h46bmXFRhR X-Gm-Gg: ASbGncso1/mxt8Jl1Aej9dtldFrkfjV8PvTiFTB9A6kFJC0GYkgMN3TOVPVcQCGoYDK CWhmRtNWdb2iFdeU809GWECsVqzy7av0lIUhdxZGEHmHdtiFAgD8e+UnUb0VLc0YWY/bRjI64BF 7/1jr2p0CDgblnhoBFb/BK8iPpyyzCjBfqeilu0WYIvx95FK/+P75nh1ERKc3H2OAr+yTBTr4XX z/UsoSl81OLVPmHnI1Xzd8zZjkzRVRJrKyrooLWHFtPQ24gOyZpOJSHdRIMdZFG6hK/wuUJqc73 BgNQZhOXNbE4Sjd0M0WKXj+tpTQUjdAbTcu/ X-Google-Smtp-Source: AGHT+IGXhSaETq7I41PK9rwXWvcfFHwkOO69EBIAwZM5MaELT3KFLRp/JAgYxqKl3Lda430f5z7RImpWmzJo X-Received: by 2002:a05:6214:d6b:b0:6d8:9ead:c665 with SMTP id 6a1803df08f44-6f4fcf07020mr30998076d6.27.1745977534701; Tue, 29 Apr 2025 18:45:34 -0700 (PDT) Received: from postal.iol.unh.edu (postal.iol.unh.edu. [132.177.123.84]) by smtp-relay.gmail.com with ESMTPS id 6a1803df08f44-6f4fe6fbd90sm230006d6.28.2025.04.29.18.45.34 (version=TLS1_2 cipher=ECDHE-ECDSA-AES128-GCM-SHA256 bits=128/128); Tue, 29 Apr 2025 18:45:34 -0700 (PDT) X-Relaying-Domain: iol.unh.edu Date: Tue, 29 Apr 2025 18:45:34 -0700 (PDT) Message-ID: <681180be.050a0220.a1d2a.12ecSMTPIN_ADDED_MISSING@mx.google.com> Received: from [172.17.0.2] (unknown [172.18.0.76]) by postal.iol.unh.edu (Postfix) with ESMTP id 530C46052471; Tue, 29 Apr 2025 21:45:34 -0400 (EDT) Subject: |SUCCESS| [GIT MASTER] ca1690ebd224f148268285b15b97441ccdbdd07e From: dpdklab@iol.unh.edu To: Test Report Cc: dpdk-test-reports@iol.unh.edu Content-Type: text/plain X-BeenThere: test-report@dpdk.org X-Mailman-Version: 2.1.29 Precedence: list List-Id: automatic DPDK test reports List-Unsubscribe: , List-Archive: List-Post: List-Help: List-Subscribe: , Errors-To: test-report-bounces@dpdk.org _Testing PASS_ Branch: dpdk ca1690ebd224f148268285b15b97441ccdbdd07e --> testing pass Upstream job id: Generic-DPDK-Compile-ABI#124809 Test environment and result as below: +-------------------+----------+ | Environment | abi_test | +===================+==========+ | CentOS Stream 9 | PASS | +-------------------+----------+ | Fedora 40 | PASS | +-------------------+----------+ | CentOS Stream 10 | PASS | +-------------------+----------+ | Fedora 41 (Clang) | PASS | +-------------------+----------+ | Fedora 41 | PASS | +-------------------+----------+ | Fedora 40 (Clang) | PASS | +-------------------+----------+ | Ubuntu 22.04 | PASS | +-------------------+----------+ | openSUSE Leap 15 | PASS | +-------------------+----------+ | RHEL8 | PASS | +-------------------+----------+ | Arch Linux | PASS | +-------------------+----------+ | RHEL9 | PASS | +-------------------+----------+ | Debian 12 | PASS | +-------------------+----------+ | Ubuntu 24.04 | PASS | +-------------------+----------+ CentOS Stream 9 Kernel: Depends on container host Compiler: gcc 11.5.0 20240719 (Red Hat 11.5.0-2) Fedora 40 Kernel: Depends on container host Compiler: gcc 14.2.1 20240912 (Red Hat 14.2.1-3) CentOS Stream 10 Kernel: Depends on container host Compiler: gcc 14.2.1 20241104 (Red Hat 14.2.1-6) Fedora 41 (Clang) Kernel: Depends on container host Compiler: clang 19.1.5 (Fedora 19.1.5-1.fc41) Fedora 41 Kernel: Depends on container host Compiler: gcc 14.2.1 20240912 (Red Hat 14.2.1-3) Fedora 40 (Clang) Kernel: Depends on container host Compiler: clang 18.1.8 (Fedora 18.1.8-1.fc40) Ubuntu 22.04 Kernel: Depends on container host Compiler: gcc (Ubuntu 11.4.0-1ubuntu1~22.04) 11.4.0 openSUSE Leap 15 Kernel: Depends on container host Compiler: gcc (SUSE Linux) 7.5.0 RHEL8 Kernel: Depends on container host Compiler: gcc 8.5.0 20210514 (Red Hat 8.5.0-22) Arch Linux Kernel: Depends on container host Compiler: gcc 14.2.1 20240910 RHEL9 Kernel: Depends on container host Compiler: gcc 11.5.0 20240719 (Red Hat 11.5.0-2) Debian 12 Kernel: Depends on container host Compiler: gcc (Debian 12.2.0-14) 12.2.0 Ubuntu 24.04 Kernel: Depends on container host Compiler: gcc (Ubuntu 13.3.0-6ubuntu2~24.04) 13.3.0 To view detailed results, visit: https://lab.dpdk.org/results/dashboard/tarballs/33392/ UNH-IOL DPDK Community Lab To manage your email subscriptions, visit: https://lab.dpdk.org/results/dashboard/preferences/subscriptions/