From mboxrd@z Thu Jan 1 00:00:00 1970 Return-Path: Received: from mails.dpdk.org (mails.dpdk.org [217.70.189.124]) by inbox.dpdk.org (Postfix) with ESMTP id 9299046662 for ; Wed, 30 Apr 2025 03:48:01 +0200 (CEST) Received: from mails.dpdk.org (localhost [127.0.0.1]) by mails.dpdk.org (Postfix) with ESMTP id 747CA402A7; Wed, 30 Apr 2025 03:48:01 +0200 (CEST) Received: from mail-il1-f227.google.com (mail-il1-f227.google.com [209.85.166.227]) by mails.dpdk.org (Postfix) with ESMTP id 27DA3402A3 for ; Wed, 30 Apr 2025 03:48:00 +0200 (CEST) Received: by mail-il1-f227.google.com with SMTP id e9e14a558f8ab-3d7f111e9e1so75787345ab.1 for ; Tue, 29 Apr 2025 18:48:00 -0700 (PDT) DKIM-Signature: v=1; a=rsa-sha256; c=relaxed/relaxed; d=iol.unh.edu; s=unh-iol; t=1745977679; x=1746582479; darn=dpdk.org; h=cc:to:from:subject:message-id:date:from:to:cc:subject:date :message-id:reply-to; bh=usXIzNuWfp1enImGHAUQHHxQwMHN2bhgIy4+Uh5ER1w=; b=hCdP44uILMkRAEuxEqmh9dOEDenHKGd+vd2joLdZiwUBufiekF/TMz2V4pmd4Ow7Du W8PyeMBDt2Unr11XXJqshexfCAqb2HECXWr8fQeETwCfQwA9FqJdA1kgh9ojzeLv0HAE 4yXmgq0XQEQqVEpj0u0FcXPrdDmwqajJLJask= X-Google-DKIM-Signature: v=1; a=rsa-sha256; c=relaxed/relaxed; d=1e100.net; s=20230601; t=1745977679; x=1746582479; h=cc:to:from:subject:message-id:date:x-gm-message-state:from:to:cc :subject:date:message-id:reply-to; bh=usXIzNuWfp1enImGHAUQHHxQwMHN2bhgIy4+Uh5ER1w=; b=uYFc64/W2vMU4nNNOPoAg1RhK9lq9UxxvGuKY6UTSaMCXN/WG78EHrdMzJ6TZTODt8 XfMEtpIUCe1mqw5W8mSOk/ljWiLytgKGATmETPnzAleu+KnkPfwq1oJbFbLwDOvhnw8e off0SWZxzoGqIY33+CSSY+/5ZeLNaKvER7k5YO8V19kgNRUDdRKFyhfpu+af19dHPmWB uNRCNgrtuI+gSTyF1Kv9qB9z7fCjVRWbE/z2yoZTAEN/mfliGckbgj+Kzk/gsHzJCYuN 94YZ94IuwzDdCtP1ByfXX+gbBvp6o6HZ/j+AR1CFY8JkFprkfLNVNM+fLvZItPUw4LXi shkA== X-Gm-Message-State: AOJu0YwRy0VG8W+5JPe4abjxS7ZSFWr9tKTytSFdq10YFE4a23YC/RYx zlkhfSxw720Gb10cmdwxNelhSPHCkXFy6hJh6zNqYbDvQ5oyaThNzW4O0Scku4nWrYUpeNyOUNC G1A66sRQeIjvOlywDNtYt1TyTXbDdITBJZxLu53XHNaZ+thdQY6esRvIj X-Gm-Gg: ASbGncu5+gx8ptx9DJfs9yPbxdjnjnBjwJFpVZ5T4JHKwlm2d2c9pTFl02+Dcg1sbuQ BFrv+6H1uE0+94yFM7mStKm+VIBwa7etizVaGTd//MZmg8XyiNAfKZnI0HYMlKVtJoi0wzJ2PeJ uE6WQWuC3VwRWY2Q3VIcNmCrQ5ZNTnAO+3G3+P9ZtrSpj4diwn/RSnlagqSTz2RhMCbDfVzSISr Cwd6yZRX61l8qEZchlTX3pjLkkrEo1KC0TNlq9P1Pc3wKqwyJbV0K7ISNgTS9D5udTJw6q/T5E9 MjHQ26gcqhemu3odP9y5NvJswffOexZJV3hb286ZTqQyGEw4 X-Google-Smtp-Source: AGHT+IEf8g2TiwQrsflU7j28UZ312vnG7D7UmVWE8YpKr7NOAkEttmH6VkgHh30eiskcA5stcXB4Mc84GWwG X-Received: by 2002:a05:6e02:218c:b0:3d1:a75e:65f6 with SMTP id e9e14a558f8ab-3d967718d84mr15349015ab.18.1745977679446; Tue, 29 Apr 2025 18:47:59 -0700 (PDT) Received: from postal.iol.unh.edu (postal.iol.unh.edu. [2606:4100:3880:1234::84]) by smtp-relay.gmail.com with ESMTPS id e9e14a558f8ab-3d95f4d254csm2605015ab.61.2025.04.29.18.47.59 (version=TLS1_2 cipher=ECDHE-ECDSA-AES128-GCM-SHA256 bits=128/128); Tue, 29 Apr 2025 18:47:59 -0700 (PDT) X-Relaying-Domain: iol.unh.edu Date: Tue, 29 Apr 2025 18:47:59 -0700 (PDT) Message-ID: <6811814f.050a0220.9af7a.74dbSMTPIN_ADDED_MISSING@mx.google.com> Received: from [172.17.0.2] (unknown [172.18.0.74]) by postal.iol.unh.edu (Postfix) with ESMTP id E27E16052471; Tue, 29 Apr 2025 21:47:58 -0400 (EDT) Subject: |SUCCESS| [GIT MASTER] ca1690ebd224f148268285b15b97441ccdbdd07e From: dpdklab@iol.unh.edu To: Test Report Cc: dpdk-test-reports@iol.unh.edu Content-Type: text/plain X-BeenThere: test-report@dpdk.org X-Mailman-Version: 2.1.29 Precedence: list List-Id: automatic DPDK test reports List-Unsubscribe: , List-Archive: List-Post: List-Help: List-Subscribe: , Errors-To: test-report-bounces@dpdk.org _Testing PASS_ Branch: dpdk ca1690ebd224f148268285b15b97441ccdbdd07e --> testing pass Upstream job id: ACVP-FIPS-testing#9672 Test environment and result as below: +--------------------+----------------------+----------------------+ | Environment | dpdk_fips_validation | compressdev_zlib_pmd | +====================+======================+======================+ | Ubuntu 20.04 | PASS | SKIPPED | +--------------------+----------------------+----------------------+ | Ubuntu 22.04 (ARM) | SKIPPED | PASS | +--------------------+----------------------+----------------------+ | Ubuntu 22.04 | SKIPPED | PASS | +--------------------+----------------------+----------------------+ Ubuntu 20.04 Kernel: Depends on container host Compiler: gcc (Ubuntu 9.4.0-1ubuntu1~20.04.2) 9.4.0 Ubuntu 22.04 (ARM) Kernel: 5.15.0-97-generic Compiler: gcc gcc (Ubuntu 11.4.0-1ubuntu1~22.04) 11.4.0 Ubuntu 22.04 Kernel: 5.15.0-100-generic Compiler: gcc gcc (Ubuntu 11.4.0-1ubuntu1~22.04) 11.4.0 To view detailed results, visit: https://lab.dpdk.org/results/dashboard/tarballs/33392/ UNH-IOL DPDK Community Lab To manage your email subscriptions, visit: https://lab.dpdk.org/results/dashboard/preferences/subscriptions/