From mboxrd@z Thu Jan 1 00:00:00 1970 Return-Path: Received: from mails.dpdk.org (mails.dpdk.org [217.70.189.124]) by inbox.dpdk.org (Postfix) with ESMTP id 662FE46666 for ; Wed, 30 Apr 2025 05:12:45 +0200 (CEST) Received: from mails.dpdk.org (localhost [127.0.0.1]) by mails.dpdk.org (Postfix) with ESMTP id 453A0402A7; Wed, 30 Apr 2025 05:12:45 +0200 (CEST) Received: from mail-qv1-f100.google.com (mail-qv1-f100.google.com [209.85.219.100]) by mails.dpdk.org (Postfix) with ESMTP id 46A7A402A3 for ; Wed, 30 Apr 2025 05:12:44 +0200 (CEST) Received: by mail-qv1-f100.google.com with SMTP id 6a1803df08f44-6e8efefec89so68819246d6.3 for ; Tue, 29 Apr 2025 20:12:44 -0700 (PDT) DKIM-Signature: v=1; a=rsa-sha256; c=relaxed/relaxed; d=iol.unh.edu; s=unh-iol; t=1745982763; x=1746587563; darn=dpdk.org; h=cc:to:from:subject:message-id:date:from:to:cc:subject:date :message-id:reply-to; bh=mUzvTOEQzG2Y7u14IceFiNJfhOwhWXNJxwPuj6+7zf4=; b=YC6KkTKOBeynts7br9aRp7htD/6bt6AfWwvOiJ6B+liT3Qyt8euy04fxxNm5oFH+xa ZOy4jeepW91o8h+F4XrP9Uv+w3bLbH7xfBec8A0ywlCk42t7e4VOo1ljoANGfTjl1oJv ijRrmevqakEryun1rmal9kBrZjrXQ8pqD5G5A= X-Google-DKIM-Signature: v=1; a=rsa-sha256; c=relaxed/relaxed; d=1e100.net; s=20230601; t=1745982763; x=1746587563; h=cc:to:from:subject:message-id:date:x-gm-message-state:from:to:cc :subject:date:message-id:reply-to; bh=mUzvTOEQzG2Y7u14IceFiNJfhOwhWXNJxwPuj6+7zf4=; b=l7Kmz89nrggnFmV6639wN6hoj4G/KOdtJQSL7SXoeWXE6Q9DWKVDfz2LzKmENc8+ne TlPaLjeF4FNYhqLYUrV2ZHRGZHKmKBlq3u6Fwd/em195fMmmHVIqo3tKdH7vm6rgmFrz jmr5bwWgq9T/E9sZ8fdGLi5R1HjcAIIvxidlRWpzB54raNbLD+6aiOA+h5GrXBQNBmE2 FIbIsnt2q/psYLfsXBkhWNAWBvKqAsvP9PFEPuyn3LJV+1OiyE5rBXTpQB471bjLuJxv 6O+NAw8WrL0D4X+ZFj63vL2YweE0hF7N/05xLFgGBrCHdGSbjZjzORn84lv9ayYh/3sz Em6Q== X-Gm-Message-State: AOJu0YxmlKUf8kU2yHrWxjT2kz+A2xNhA+UL/tp38kGrg19dvCXXg5QN wLTnzV/5IUx6SJqhpZLY8b1JNz+bFz+Q17nLN1gBM4sFKaG8LEm96povgwwHpxo6zAB2W6m5Abd xaZok9CMmD/xfA45f0N6LAgIfymqAIp6QTLofmGBr3j/6xS7oOfgRuvME X-Gm-Gg: ASbGnctXddenh0s4PaRFECFiTjQQmBsTrYzJoOkKyOoPcul0zgwUgo2wG0p3DZKO3/O eERxkQirSq9+Wje7cv+62vV1NtneOmwyC1ny+kidF7YV3MMPKIfPy4lf8b+5HKlCvNTCGvRrKgR Oy4ySaNDmJjRf65ByuHk+88MF92VR0TWJJ6RDF3wRgmniAeNKg9Wf7jsNlYpOcEAwewOhzmdKwo kJh2kag78whA5qpnlDV1wOQeOXJ3anDkDu4E11BgQ67tkuNh0cslfzmsGRCx3tg/OGD0hpyRcCj AVqsvY+bqUySuO34kagUTZBMGTv01Rd+90OIHSgWRHl2z3J7 X-Google-Smtp-Source: AGHT+IG9jge2nLh+19S8+OIwRaaY/bknG17olPRqLPD56s7KPQttSUEc+OFMMfSS2PkKq01QFTN0RrVJR5EI X-Received: by 2002:a05:6214:4014:b0:6e4:4164:8baa with SMTP id 6a1803df08f44-6f4fce4106dmr29675236d6.6.1745982763560; Tue, 29 Apr 2025 20:12:43 -0700 (PDT) Received: from postal.iol.unh.edu (postal.iol.unh.edu. [2606:4100:3880:1234::84]) by smtp-relay.gmail.com with ESMTPS id 6a1803df08f44-6f4fe70416bsm288066d6.37.2025.04.29.20.12.43 (version=TLS1_2 cipher=ECDHE-ECDSA-AES128-GCM-SHA256 bits=128/128); Tue, 29 Apr 2025 20:12:43 -0700 (PDT) X-Relaying-Domain: iol.unh.edu Date: Tue, 29 Apr 2025 20:12:43 -0700 (PDT) Message-ID: <6811952b.050a0220.3c4a3b.176eSMTPIN_ADDED_MISSING@mx.google.com> Received: from [172.21.0.5] (unknown [172.18.0.240]) by postal.iol.unh.edu (Postfix) with ESMTP id EFB886052471; Tue, 29 Apr 2025 23:12:42 -0400 (EDT) Subject: |SUCCESS| [GIT MASTER] ca1690ebd224f148268285b15b97441ccdbdd07e From: dpdklab@iol.unh.edu To: Test Report Cc: dpdk-test-reports@iol.unh.edu Content-Type: text/plain X-BeenThere: test-report@dpdk.org X-Mailman-Version: 2.1.29 Precedence: list List-Id: automatic DPDK test reports List-Unsubscribe: , List-Archive: List-Post: List-Help: List-Subscribe: , Errors-To: test-report-bounces@dpdk.org _Testing PASS_ Branch: dpdk ca1690ebd224f148268285b15b97441ccdbdd07e --> testing pass Upstream job id: Generic-DPDK-Compile-Meson#383895 Test environment and result as below: +----------------------------------------+--------------------+ | Environment | dpdk_meson_compile | +========================================+====================+ | RHEL9 (ARM) | PASS | +----------------------------------------+--------------------+ | Ubuntu 20.04 ARM GCC Cross Compile | PASS | +----------------------------------------+--------------------+ | Debian 12 with MUSDK | PASS | +----------------------------------------+--------------------+ | Ubuntu 20.04 ARM SVE | PASS | +----------------------------------------+--------------------+ | Fedora 40 (ARM) | PASS | +----------------------------------------+--------------------+ | Fedora 41 (ARM) | PASS | +----------------------------------------+--------------------+ | Fedora 40 (ARM Clang) | PASS | +----------------------------------------+--------------------+ | Fedora 41 (ARM Clang) | PASS | +----------------------------------------+--------------------+ | Ubuntu 24.04 (ARM) | PASS | +----------------------------------------+--------------------+ | Ubuntu 20.04 (ARM) | PASS | +----------------------------------------+--------------------+ | Ubuntu 22.04 (ARM) | PASS | +----------------------------------------+--------------------+ | CentOS Stream 9 (ARM) | PASS | +----------------------------------------+--------------------+ | CentOS Stream 10 (ARM) | PASS | +----------------------------------------+--------------------+ | Ubuntu 20.04 aarch32 GCC Cross Compile | PASS | +----------------------------------------+--------------------+ | Debian 12 (arm) | PASS | +----------------------------------------+--------------------+ | Ubuntu 20.04 ARM Clang Cross Compile | PASS | +----------------------------------------+--------------------+ RHEL9 (ARM) Kernel: Depends on container host Compiler: gcc 11.5.0 20240719 (Red Hat 11.5.0-2) Ubuntu 20.04 ARM GCC Cross Compile Kernel: Depends on container host Compiler: aarch64-linux-gnu-gcc (Ubuntu 9.4.0-1ubuntu1~20.04.2) 9.4.0 Debian 12 with MUSDK Kernel: Depends on container host Compiler: gcc (Debian 12.2.0-14) 12.2.0 Ubuntu 20.04 ARM SVE Kernel: Depends on container host Compiler: gcc (Ubuntu 10.5.0-1ubuntu1~20.04) 10.5.0 Fedora 40 (ARM) Kernel: Depends on container host Compiler: gcc 14.2.1 20240912 (Red Hat 14.2.1-3) Fedora 41 (ARM) Kernel: Depends on container host Compiler: gcc 14.2.1 20240912 (Red Hat 14.2.1-3) Fedora 40 (ARM Clang) Kernel: Depends on container host Compiler: clang 18.1.8 (Fedora 18.1.8-1.fc40) Fedora 41 (ARM Clang) Kernel: Depends on container host Compiler: clang 19.1.5 (Fedora 19.1.5-1.fc41) Ubuntu 24.04 (ARM) Kernel: Depends on container host Compiler: gcc (Ubuntu 13.3.0-6ubuntu2~24.04) 13.3.0 Ubuntu 20.04 (ARM) Kernel: Depends on container host Compiler: gcc (Ubuntu 9.4.0-1ubuntu1~20.04.2) 9.4.0 Ubuntu 22.04 (ARM) Kernel: Depends on container host Compiler: gcc (Ubuntu 11.4.0-1ubuntu1~22.04) 11.4.0 CentOS Stream 9 (ARM) Kernel: Depends on container host Compiler: gcc 11.5.0 20240719 (Red Hat 11.5.0-2) CentOS Stream 10 (ARM) Kernel: Depends on container host Compiler: gcc 14.2.1 20241104 (Red Hat 14.2.1-6) Ubuntu 20.04 aarch32 GCC Cross Compile Kernel: Depends on container host Compiler: gcc 9.4.0 Debian 12 (arm) Kernel: Depends on container host Compiler: gcc (Debian 12.2.0-14) 12.2.0 Ubuntu 20.04 ARM Clang Cross Compile Kernel: Depends on container host Compiler: clang 10.0.0-4ubuntu1 To view detailed results, visit: https://lab.dpdk.org/results/dashboard/tarballs/33392/ UNH-IOL DPDK Community Lab To manage your email subscriptions, visit: https://lab.dpdk.org/results/dashboard/preferences/subscriptions/