From mboxrd@z Thu Jan 1 00:00:00 1970 Return-Path: Received: from mails.dpdk.org (mails.dpdk.org [217.70.189.124]) by inbox.dpdk.org (Postfix) with ESMTP id CC2B746610 for ; Wed, 30 Apr 2025 05:40:57 +0200 (CEST) Received: from mails.dpdk.org (localhost [127.0.0.1]) by mails.dpdk.org (Postfix) with ESMTP id 96901402A7; Wed, 30 Apr 2025 05:40:57 +0200 (CEST) Received: from mail-qv1-f100.google.com (mail-qv1-f100.google.com [209.85.219.100]) by mails.dpdk.org (Postfix) with ESMTP id DA6B2402A3 for ; Wed, 30 Apr 2025 05:40:55 +0200 (CEST) Received: by mail-qv1-f100.google.com with SMTP id 6a1803df08f44-6f2c45ecaffso71233196d6.2 for ; Tue, 29 Apr 2025 20:40:55 -0700 (PDT) DKIM-Signature: v=1; a=rsa-sha256; c=relaxed/relaxed; d=iol.unh.edu; s=unh-iol; t=1745984455; x=1746589255; darn=dpdk.org; h=references:in-reply-to:cc:to:from:subject:message-id:date:from:to :cc:subject:date:message-id:reply-to; bh=MaDdLgg/fwd9nwtdB7UqdFuDHgrU+Rtk0dOFSCP+Eo8=; b=O98BjrWj+5jMpekHZO801/fRVXlTyfeOU0ZsM481a/wY4Y8h2clqNCN89axMLVR+UH vtRAnL+eRMi3rh3+raYZVG1neh4oTeCGdUsapUBvLn61zLz5LaWDnEWrI2juyc56NMjL +IJs+P45BLoVRMhcFN9DSvBM8kKrAz6wln3Gk= X-Google-DKIM-Signature: v=1; a=rsa-sha256; c=relaxed/relaxed; d=1e100.net; s=20230601; t=1745984455; x=1746589255; h=references:in-reply-to:cc:to:from:subject:message-id:date :x-gm-message-state:from:to:cc:subject:date:message-id:reply-to; bh=MaDdLgg/fwd9nwtdB7UqdFuDHgrU+Rtk0dOFSCP+Eo8=; b=SsE3lanSvQHP2cJq/966vAS0uHMzDEGTaSKgd/ggVkX6jQQCDSI4mCrHc1y8HmXI1B 3ICoUM6eKgLpBdbJyUFnT7csYFe3tntVcGMrOHmoMCefLHbQU6ny7aOhaz3y2eUnQ5rI gA7WPXAgi5XO/QPHVvjh2j20b8f7Jo4wu6wKa66bQmrjt4jENAb3q80Tf9GQtqYUDUv5 +5h8QkcPQUbFxou78/kkg5pqK9a6dQquV1l9YnahYk4R2HOl7aXU4yNdJIULWRoTgnQU VUIndYNV0tIhFxEDGTjoVn5puYnNPxQL3/4qxJvH+2uoOjJ8o/+BfMRk4qq5xqo/j+0C 2PDw== X-Gm-Message-State: AOJu0Yx7Vp8A3HOKopZFZuZvgakDlBxct7l280VVsKWv5HZzpcrvRN69 +EsW4jjp/wjwNFLoWYncF+NDHotmawO/3QGzwWKD9x0edL42fLyMJo69t1PeOzae2FCvLS1bqWb a3UnBfq9eSTfoDGiNHtjJqfTgwtqK95o8fpld3T2X9x+OI4NjhAqbUYUO X-Gm-Gg: ASbGncs7WM2kiQp/99hjrc7tphXTzqzyLuVTh6zk5ZwxFE96Q4R73/J0ojaSpyOnYjQ hyOaG0p0FLfGrFJVuqqZa1aTFSTdIQsPlEADrLGep4oXzUq4B+nnab1ssbo1JucOh/+lz7S+Wt6 aly/5iABBVv62BwyJ+6UESUvMu3299zN86lUcnOIDszKEsOtbhMFIhUxsUEwppmELgzxoTopTma aCpXEWGTmU3LZ1R+rLVGNUb4CO+a6fHlrkk5V+NRKeDtKvd3WiHFhYhfcsEMwBZTgA9lmgH8dZE OYEm2Yv3EQrfQcW1QGIa46G5K5KEgwJtdMvMEOGCwnxjUWLo X-Google-Smtp-Source: AGHT+IEZnaZy7EdemXMhtjDd/9iH+60PjFrGzwvpTcNRCEV9S6dUFoWsNSvDc8yJrH8hJrO4sswGDqURYXwI X-Received: by 2002:a05:6214:2247:b0:6ed:1651:e8dc with SMTP id 6a1803df08f44-6f4fce83401mr23791486d6.11.1745984455210; Tue, 29 Apr 2025 20:40:55 -0700 (PDT) Received: from postal.iol.unh.edu (postal.iol.unh.edu. [2606:4100:3880:1234::84]) by smtp-relay.gmail.com with ESMTPS id 6a1803df08f44-6f4fe5c53desm329686d6.0.2025.04.29.20.40.55 (version=TLS1_2 cipher=ECDHE-ECDSA-AES128-GCM-SHA256 bits=128/128); Tue, 29 Apr 2025 20:40:55 -0700 (PDT) X-Relaying-Domain: iol.unh.edu Date: Tue, 29 Apr 2025 20:40:55 -0700 (PDT) Message-ID: <68119bc7.050a0220.c4358.1a45SMTPIN_ADDED_MISSING@mx.google.com> Received: from [172.17.0.2] (unknown [172.18.0.76]) by postal.iol.unh.edu (Postfix) with ESMTP id CAE5D6052471; Tue, 29 Apr 2025 23:40:54 -0400 (EDT) Subject: |SUCCESS| pw153190 [PATCH] [V3] Add new tracepoint function for type From: dpdklab@iol.unh.edu To: Test Report Cc: dpdk-test-reports@iol.unh.edu In-Reply-To: <20250430013431.2056969-1-changqing.li@windriver.com> References: <20250430013431.2056969-1-changqing.li@windriver.com> Content-Type: text/plain X-BeenThere: test-report@dpdk.org X-Mailman-Version: 2.1.29 Precedence: list List-Id: automatic DPDK test reports List-Unsubscribe: , List-Archive: List-Post: List-Help: List-Subscribe: , Errors-To: test-report-bounces@dpdk.org Test-Label: iol-unit-amd64-testing Test-Status: SUCCESS http://dpdk.org/patch/153190 _Testing PASS_ Submitter: Changqing Li Date: Wednesday, April 30 2025 01:34:30 DPDK git baseline: Repo:dpdk Branch: master CommitID:ca1690ebd224f148268285b15b97441ccdbdd07e 153190 --> testing pass Upstream job id: Generic-Unit-Test-DPDK#334368 Test environment and result as below: +---------------------+----------------+ | Environment | dpdk_unit_test | +=====================+================+ | CentOS Stream 10 | PASS | +---------------------+----------------+ | Fedora 40 | PASS | +---------------------+----------------+ | Ubuntu 20.04 | PASS | +---------------------+----------------+ | CentOS Stream 9 | PASS | +---------------------+----------------+ | Fedora 40 (Clang) | PASS | +---------------------+----------------+ | Fedora 41 (Clang) | PASS | +---------------------+----------------+ | Debian 12 | PASS | +---------------------+----------------+ | Fedora 41 | PASS | +---------------------+----------------+ | Ubuntu 22.04 | PASS | +---------------------+----------------+ | RHEL8 | PASS | +---------------------+----------------+ | RHEL9 | PASS | +---------------------+----------------+ | Ubuntu 24.04 | PASS | +---------------------+----------------+ | Windows Server 2022 | PASS | +---------------------+----------------+ CentOS Stream 10 Kernel: Depends on container host Compiler: gcc 14.2.1 20241104 (Red Hat 14.2.1-6) Fedora 40 Kernel: Depends on container host Compiler: gcc 14.2.1 20240912 (Red Hat 14.2.1-3) Ubuntu 20.04 Kernel: Depends on container host Compiler: gcc (Ubuntu 9.4.0-1ubuntu1~20.04.2) 9.4.0 CentOS Stream 9 Kernel: Depends on container host Compiler: gcc 11.5.0 20240719 (Red Hat 11.5.0-2) Fedora 40 (Clang) Kernel: Depends on container host Compiler: clang 18.1.8 (Fedora 18.1.8-1.fc40) Fedora 41 (Clang) Kernel: Depends on container host Compiler: clang 19.1.5 (Fedora 19.1.5-1.fc41) Debian 12 Kernel: Depends on container host Compiler: gcc (Debian 12.2.0-14) 12.2.0 Fedora 41 Kernel: Depends on container host Compiler: gcc 14.2.1 20240912 (Red Hat 14.2.1-3) Ubuntu 22.04 Kernel: Depends on container host Compiler: gcc (Ubuntu 11.4.0-1ubuntu1~22.04) 11.4.0 RHEL8 Kernel: Depends on container host Compiler: gcc 8.5.0 20210514 (Red Hat 8.5.0-22) RHEL9 Kernel: Depends on container host Compiler: gcc 11.5.0 20240719 (Red Hat 11.5.0-2) Ubuntu 24.04 Kernel: Depends on container host Compiler: gcc (Ubuntu 13.3.0-6ubuntu2~24.04) 13.3.0 Windows Server 2022 Kernel: 10.0.20348.2031 Compiler: clang 15.0.7, gcc 14.1.0 (MinGW), and MSVC VS 19.39.33521 To view detailed results, visit: https://lab.dpdk.org/results/dashboard/patchsets/33089/ UNH-IOL DPDK Community Lab To manage your email subscriptions, visit: https://lab.dpdk.org/results/dashboard/preferences/subscriptions/