From mboxrd@z Thu Jan 1 00:00:00 1970 Return-Path: Received: from mails.dpdk.org (mails.dpdk.org [217.70.189.124]) by inbox.dpdk.org (Postfix) with ESMTP id B6DF346610 for ; Wed, 30 Apr 2025 05:41:18 +0200 (CEST) Received: from mails.dpdk.org (localhost [127.0.0.1]) by mails.dpdk.org (Postfix) with ESMTP id B302A402A7; Wed, 30 Apr 2025 05:41:18 +0200 (CEST) Received: from mail-oo1-f97.google.com (mail-oo1-f97.google.com [209.85.161.97]) by mails.dpdk.org (Postfix) with ESMTP id 33BD1402A3 for ; Wed, 30 Apr 2025 05:41:17 +0200 (CEST) Received: by mail-oo1-f97.google.com with SMTP id 006d021491bc7-6060a70ba80so3804261eaf.2 for ; Tue, 29 Apr 2025 20:41:17 -0700 (PDT) DKIM-Signature: v=1; a=rsa-sha256; c=relaxed/relaxed; d=iol.unh.edu; s=unh-iol; t=1745984476; x=1746589276; darn=dpdk.org; h=references:in-reply-to:cc:to:from:subject:message-id:date:from:to :cc:subject:date:message-id:reply-to; bh=0z270ZXnaRRDP+UQkBmxAQVKPU1qDGDYxlvlytRLwVs=; b=aueaS4XNTYVjs2gx9HGq2Nz32eV2Wgxema7iBJMFc8Ad2euYg/EXQAI5xyLrKb+G41 5f8jIg6MTT0e8QoJ7psMObcEUWDpenQFx7xMb9qGeECrT9wnqDoDWbc5pF4it16uCCod tvvO95ZaapK4CMMCXjZZhVMCQCMlsUuk/FKs0= X-Google-DKIM-Signature: v=1; a=rsa-sha256; c=relaxed/relaxed; d=1e100.net; s=20230601; t=1745984476; x=1746589276; h=references:in-reply-to:cc:to:from:subject:message-id:date :x-gm-message-state:from:to:cc:subject:date:message-id:reply-to; bh=0z270ZXnaRRDP+UQkBmxAQVKPU1qDGDYxlvlytRLwVs=; b=UougXr2QoT8F/VIxi0LOyqFICWGsw7Svzht0fifJZRqB0QOTq4jaZi9SzmypDM3xif MvlO7sszJ1fs/ikCp17oREV3753G9MZiPZXLhu3hXuuYlvZgmEuk/gc2PbvB1bGxgyN/ mbUZlxYehqdOgOeE8ZlP80PAhlFpxnZkb/EtCen/yyRrjuAtakFAf8zhkF9JYJWrXFYk jEVojyOdGSXKKd1ETKUvEv+MM++dEBrGRb29jPpUbkZ6RsfsoCbkWMmucbFnRYj8NOSf HO0+dtLAjVq3JWRIMol0pLA8k4TCsZ3lwFbnsjbIJmrhyR93Cm7DJhisxMi1YrozBBf2 axMw== X-Gm-Message-State: AOJu0Yyyr2QYu/xiG78FmcVh/jqymMRvcRTzDt2rJAzNJNwTHpnTfODz of1U+g20CtCAxIEqPMgT4nLHfDRg1fFPz3K1Pc+TPqikWhNCt3CZYa21s6iuiZe6NmTIWAYZXmv OOACqli85VCg2YTvQBaKiSyAOdF1uWdKlRw4HNQ+vn+4RuKskahW0bovS X-Gm-Gg: ASbGncshHvvwdaoNahc5seFGPakVgmaXilFBV6O9PRjQy/qAiX7djAddHNyknJuGiIS q4/GJCg2SIUsCdYcivXT2RCPJzS5UyQtyjWtYjypBURW9UhX0Uv8i59JxbGoOb4Up9fBi5HDHAZ /wK5LpJ4iN2H/MO56ZDlUZpN0DU52SoZJ2v9coC7iVWPqQ1/f9fn66J0N7tf+BjlsZxhTp1s7lM YMa1A8TcQFNgrh4bfbSzWN9+JeWHObkvI+ZeNIFXv/rkfTIKBIjsdN1RShmz4AFYTIwgKNBunfn atzLTmip6GEh3RQRJkjxmMs0Me2X4kLiOrDZ/jV6j4A2IFHQ X-Google-Smtp-Source: AGHT+IGI+Bs0f4VgdX8XelGjcpS3dab5a/E8EdwZczlkhPSy9IEAL2G3fEeph+7fo6tSoHztHakWh7QkF3DD X-Received: by 2002:a05:6820:310b:b0:606:293f:f37e with SMTP id 006d021491bc7-607d452f263mr1075274eaf.6.1745984475033; Tue, 29 Apr 2025 20:41:15 -0700 (PDT) Received: from postal.iol.unh.edu (postal.iol.unh.edu. [2606:4100:3880:1234::84]) by smtp-relay.gmail.com with ESMTPS id 006d021491bc7-607d8bbbc15sm2800eaf.13.2025.04.29.20.41.14 (version=TLS1_2 cipher=ECDHE-ECDSA-AES128-GCM-SHA256 bits=128/128); Tue, 29 Apr 2025 20:41:14 -0700 (PDT) X-Relaying-Domain: iol.unh.edu Date: Tue, 29 Apr 2025 20:41:14 -0700 (PDT) Message-ID: <68119bda.050a0220.3c9d45.01b8SMTPIN_ADDED_MISSING@mx.google.com> Received: from [172.17.0.3] (unknown [172.18.0.74]) by postal.iol.unh.edu (Postfix) with ESMTP id 081016052471; Tue, 29 Apr 2025 23:41:14 -0400 (EDT) Subject: |SUCCESS| pw153190 [PATCH] [V3] Add new tracepoint function for type From: dpdklab@iol.unh.edu To: Test Report Cc: dpdk-test-reports@iol.unh.edu In-Reply-To: <20250430013431.2056969-1-changqing.li@windriver.com> References: <20250430013431.2056969-1-changqing.li@windriver.com> Content-Type: text/plain X-BeenThere: test-report@dpdk.org X-Mailman-Version: 2.1.29 Precedence: list List-Id: automatic DPDK test reports List-Unsubscribe: , List-Archive: List-Post: List-Help: List-Subscribe: , Errors-To: test-report-bounces@dpdk.org Test-Label: iol-unit-amd64-testing Test-Status: SUCCESS http://dpdk.org/patch/153190 _Testing PASS_ Submitter: Changqing Li Date: Wednesday, April 30 2025 01:34:30 DPDK git baseline: Repo:dpdk Branch: master CommitID:ca1690ebd224f148268285b15b97441ccdbdd07e 153190 --> testing pass Upstream job id: Generic-Unit-Test-DPDK#334379 Test environment and result as below: +---------------------+----------------+ | Environment | dpdk_unit_test | +=====================+================+ | CentOS Stream 10 | PASS | +---------------------+----------------+ | Fedora 40 | PASS | +---------------------+----------------+ | Ubuntu 20.04 | PASS | +---------------------+----------------+ | CentOS Stream 9 | PASS | +---------------------+----------------+ | Fedora 40 (Clang) | PASS | +---------------------+----------------+ | Fedora 41 (Clang) | PASS | +---------------------+----------------+ | Debian 12 | PASS | +---------------------+----------------+ | Fedora 41 | PASS | +---------------------+----------------+ | Ubuntu 22.04 | PASS | +---------------------+----------------+ | RHEL8 | PASS | +---------------------+----------------+ | RHEL9 | PASS | +---------------------+----------------+ | Ubuntu 24.04 | PASS | +---------------------+----------------+ | Windows Server 2022 | PASS | +---------------------+----------------+ CentOS Stream 10 Kernel: Depends on container host Compiler: gcc 14.2.1 20241104 (Red Hat 14.2.1-6) Fedora 40 Kernel: Depends on container host Compiler: gcc 14.2.1 20240912 (Red Hat 14.2.1-3) Ubuntu 20.04 Kernel: Depends on container host Compiler: gcc (Ubuntu 9.4.0-1ubuntu1~20.04.2) 9.4.0 CentOS Stream 9 Kernel: Depends on container host Compiler: gcc 11.5.0 20240719 (Red Hat 11.5.0-2) Fedora 40 (Clang) Kernel: Depends on container host Compiler: clang 18.1.8 (Fedora 18.1.8-1.fc40) Fedora 41 (Clang) Kernel: Depends on container host Compiler: clang 19.1.5 (Fedora 19.1.5-1.fc41) Debian 12 Kernel: Depends on container host Compiler: gcc (Debian 12.2.0-14) 12.2.0 Fedora 41 Kernel: Depends on container host Compiler: gcc 14.2.1 20240912 (Red Hat 14.2.1-3) Ubuntu 22.04 Kernel: Depends on container host Compiler: gcc (Ubuntu 11.4.0-1ubuntu1~22.04) 11.4.0 RHEL8 Kernel: Depends on container host Compiler: gcc 8.5.0 20210514 (Red Hat 8.5.0-22) RHEL9 Kernel: Depends on container host Compiler: gcc 11.5.0 20240719 (Red Hat 11.5.0-2) Ubuntu 24.04 Kernel: Depends on container host Compiler: gcc (Ubuntu 13.3.0-6ubuntu2~24.04) 13.3.0 Windows Server 2022 Kernel: 10.0.20348.2031 Compiler: clang 15.0.7, gcc 14.1.0 (MinGW), and MSVC VS 19.39.33521 To view detailed results, visit: https://lab.dpdk.org/results/dashboard/patchsets/33089/ UNH-IOL DPDK Community Lab To manage your email subscriptions, visit: https://lab.dpdk.org/results/dashboard/preferences/subscriptions/