From mboxrd@z Thu Jan 1 00:00:00 1970 Return-Path: Received: from mails.dpdk.org (mails.dpdk.org [217.70.189.124]) by inbox.dpdk.org (Postfix) with ESMTP id 1138946623 for ; Wed, 30 Apr 2025 06:07:30 +0200 (CEST) Received: from mails.dpdk.org (localhost [127.0.0.1]) by mails.dpdk.org (Postfix) with ESMTP id DFCE5402A7; Wed, 30 Apr 2025 06:07:29 +0200 (CEST) Received: from mail-pg1-f225.google.com (mail-pg1-f225.google.com [209.85.215.225]) by mails.dpdk.org (Postfix) with ESMTP id 0B321402A3 for ; Wed, 30 Apr 2025 06:07:28 +0200 (CEST) Received: by mail-pg1-f225.google.com with SMTP id 41be03b00d2f7-b13e0471a2dso5041408a12.2 for ; Tue, 29 Apr 2025 21:07:27 -0700 (PDT) DKIM-Signature: v=1; a=rsa-sha256; c=relaxed/relaxed; d=iol.unh.edu; s=unh-iol; t=1745986047; x=1746590847; darn=dpdk.org; h=references:in-reply-to:cc:to:from:subject:message-id:date:from:to :cc:subject:date:message-id:reply-to; bh=KoZJbag5bKA4m6led+uhtiF20908iMbg/PcRoAjwdMU=; b=MWHsmOCmaY90grzkiESQvB5AR6El56AUfM+Of3wiIoGyQXPvDmkl+ofnz95pKQzurS fR3AQLe0+eLO753rKZQkoytO8H6szHiSCtFusPXvjdiKDRVJ9sePIMp2L/bGLsbR/nzP 4Pjeyj4fRFjR2iPlGzqo3YUMj2/n03Jrm9DFU= X-Google-DKIM-Signature: v=1; a=rsa-sha256; c=relaxed/relaxed; d=1e100.net; s=20230601; t=1745986047; x=1746590847; h=references:in-reply-to:cc:to:from:subject:message-id:date :x-gm-message-state:from:to:cc:subject:date:message-id:reply-to; bh=KoZJbag5bKA4m6led+uhtiF20908iMbg/PcRoAjwdMU=; b=L+bDeEFLpHwAY4Nt76B+C46p/6BqJYhq2VG1LFOlMAxsn/7UIvEE/as78SgtS/+I6Q vnyMrluQ7Bk/6v5PNffhdUrV+mDRwdJRU6z99WjcdV6q7gv58fQ+JGSgL4ngpwttUpCu ryfuBGsIEQZr1ISKrOSwrkQQhYHGrw8oSnABGyYv7IriPwBtyoSNI8qK/NE08oQF6Ndp IU/f8mpbGzM4YJi5asokBRMTnTJE6WN3JWksHFgyfByNVUoFx4wKryuH9t02lTtUcOE3 Z412yc5/7hg0d+qN5FvnvR3yelm0epdno93O+BQ4Z7MWyIfbgZJ1KH4CqtJEhQZDDs4J roOg== X-Gm-Message-State: AOJu0Yzk/FA/QgQccrb4rY4lkb5QpVxx4bOUzSM2YpRIZR/LQSuOHq9I FOU2wu1qTtJy+gQd1Uh1xk6CmDo66n3LOHDEtEKJCFL70bRxH2r7mbIY8Ki16jmrPqbgdRk9Yw9 REXngDGHw279qZ/Ds6nCldKF8TDhvup+rm6MVQ1KQnsEkN5LfEGWGvMST X-Gm-Gg: ASbGncunDi2UcQM2HvHIaaakUMo0ny3YPdDr2YiaiqsXGd/sG462wvlCogf3577fRjc jxQ6euxdFIyXTvUFZBjUmBs6LQH4Y8wVHgOzlo+1FFejn7P9LJ0NA+XVdHIHHcBbgkJZ3z39oPH gAwQRAaX6GDGYxuHR6EemNmOov9Lm/g05D7waReGWDR1cYqk/lgTyXyTDQbONli8zfV/sw7GkJy LSlPkW47b+1tMuN54z+z23sgul+yzCWruVTUUungiDLmM5CCr0dqxlzLxCi6Fxh3KK2euxi8HDG CJFCokTAEbZ+POWckiafs5G4ZM2lSj5nasvU/0DpAC/DRNee X-Google-Smtp-Source: AGHT+IGpvdgpTqeL9f0/SuYjdrKvYG6xznsmoE1o4tGyRz4jusnUI6quV/jqkTkSt7TuXrsboLY4Xyu18uRP X-Received: by 2002:a05:6a20:c703:b0:1f5:7ba7:69d3 with SMTP id adf61e73a8af0-20aa2be6093mr1668243637.15.1745986046983; Tue, 29 Apr 2025 21:07:26 -0700 (PDT) Received: from postal.iol.unh.edu (postal.iol.unh.edu. [2606:4100:3880:1234::84]) by smtp-relay.gmail.com with ESMTPS id 41be03b00d2f7-b15fb1d6a1csm821110a12.26.2025.04.29.21.07.26 (version=TLS1_2 cipher=ECDHE-ECDSA-AES128-GCM-SHA256 bits=128/128); Tue, 29 Apr 2025 21:07:26 -0700 (PDT) X-Relaying-Domain: iol.unh.edu Date: Tue, 29 Apr 2025 21:07:26 -0700 (PDT) Message-ID: <6811a1fe.050a0220.2482b2.152eSMTPIN_ADDED_MISSING@mx.google.com> Received: from [172.17.0.2] (unknown [172.18.0.74]) by postal.iol.unh.edu (Postfix) with ESMTP id 2813C6052471; Wed, 30 Apr 2025 00:07:26 -0400 (EDT) Subject: |SUCCESS| pw153190 [PATCH] [V3] Add new tracepoint function for type From: dpdklab@iol.unh.edu To: Test Report Cc: dpdk-test-reports@iol.unh.edu In-Reply-To: <20250430013431.2056969-1-changqing.li@windriver.com> References: <20250430013431.2056969-1-changqing.li@windriver.com> Content-Type: text/plain X-BeenThere: test-report@dpdk.org X-Mailman-Version: 2.1.29 Precedence: list List-Id: automatic DPDK test reports List-Unsubscribe: , List-Archive: List-Post: List-Help: List-Subscribe: , Errors-To: test-report-bounces@dpdk.org Test-Label: iol-sample-apps-testing Test-Status: SUCCESS http://dpdk.org/patch/153190 _Testing PASS_ Submitter: Changqing Li Date: Wednesday, April 30 2025 01:34:30 DPDK git baseline: Repo:dpdk Branch: master CommitID:ca1690ebd224f148268285b15b97441ccdbdd07e 153190 --> testing pass Upstream job id: ACVP-FIPS-testing#9673 Test environment and result as below: +--------------------+----------------------+----------------------+ | Environment | dpdk_fips_validation | compressdev_zlib_pmd | +====================+======================+======================+ | Ubuntu 20.04 | PASS | SKIPPED | +--------------------+----------------------+----------------------+ | Ubuntu 22.04 (ARM) | SKIPPED | PASS | +--------------------+----------------------+----------------------+ | Ubuntu 22.04 | SKIPPED | PASS | +--------------------+----------------------+----------------------+ Ubuntu 20.04 Kernel: Depends on container host Compiler: gcc (Ubuntu 9.4.0-1ubuntu1~20.04.2) 9.4.0 Ubuntu 22.04 (ARM) Kernel: 5.15.0-97-generic Compiler: gcc gcc (Ubuntu 11.4.0-1ubuntu1~22.04) 11.4.0 Ubuntu 22.04 Kernel: 5.15.0-100-generic Compiler: gcc gcc (Ubuntu 11.4.0-1ubuntu1~22.04) 11.4.0 To view detailed results, visit: https://lab.dpdk.org/results/dashboard/patchsets/33089/ UNH-IOL DPDK Community Lab To manage your email subscriptions, visit: https://lab.dpdk.org/results/dashboard/preferences/subscriptions/