From mboxrd@z Thu Jan 1 00:00:00 1970 Return-Path: Received: from mails.dpdk.org (mails.dpdk.org [217.70.189.124]) by inbox.dpdk.org (Postfix) with ESMTP id 7E2FF46623 for ; Wed, 30 Apr 2025 06:32:29 +0200 (CEST) Received: from mails.dpdk.org (localhost [127.0.0.1]) by mails.dpdk.org (Postfix) with ESMTP id 66358402A7; Wed, 30 Apr 2025 06:32:29 +0200 (CEST) Received: from mail-yw1-f227.google.com (mail-yw1-f227.google.com [209.85.128.227]) by mails.dpdk.org (Postfix) with ESMTP id 6DF10402A3 for ; Wed, 30 Apr 2025 06:32:27 +0200 (CEST) Received: by mail-yw1-f227.google.com with SMTP id 00721157ae682-7086dcab64bso33480017b3.1 for ; Tue, 29 Apr 2025 21:32:27 -0700 (PDT) DKIM-Signature: v=1; a=rsa-sha256; c=relaxed/relaxed; d=iol.unh.edu; s=unh-iol; t=1745987546; x=1746592346; darn=dpdk.org; h=references:in-reply-to:cc:to:from:subject:message-id:date:from:to :cc:subject:date:message-id:reply-to; bh=b/JVIDVNuzX5XgPT7dkBNCbc1U7hjbmV5gprtdtsrDk=; b=jFlDElE1/Zzb0Cf7HVxhV0PWy4xUVTvDsj87dPvHWddVQ6g5otK16Quvchi9wRvbRd nhOJV7MkbJu81aDo5aM4vi62UOoD3oKY7apuSTM93EiSSqvIL84lkcWoeui6oWDQet49 8mBKuxh9W0mXhdnObklpaS94G4r4BnnDvuzh8= X-Google-DKIM-Signature: v=1; a=rsa-sha256; c=relaxed/relaxed; d=1e100.net; s=20230601; t=1745987546; x=1746592346; h=references:in-reply-to:cc:to:from:subject:message-id:date :x-gm-message-state:from:to:cc:subject:date:message-id:reply-to; bh=b/JVIDVNuzX5XgPT7dkBNCbc1U7hjbmV5gprtdtsrDk=; b=FKIQsA8bLjl91fYRgGkW53rMmheN1JMKABbpZjYMqq+4HOBS5jaWs4kUN+O9KRDljh 7WQQo746vguluTnqUJCYfMUNLMxdU37mUSKIX555gnLpnqHSBepWamIuaaRl+q//WWSj K+ysj8KnyZWx5u7xQlz1kYkg4XSGUNbKrqNm70GPM1gnAcbqmwA2YU1HOBDa75LESMyJ 4IQTyMSB26nInw7EMNqxVA2EjvSjhEdALLGNOr0NyXgvFqoJfxurmMyEalrz3/SmYTMY j33KLEVv8si6hN8C9XCi/9yulmr/04EvpX5EslbcfL+pQ8KzuEbzksnHsPCY4nenzSXu fDDQ== X-Gm-Message-State: AOJu0YzaX/bwUaER4su+iJ5PvRPg1o8Pc7mbqb134p0JIdzMPl2Xw6o7 0A1fFrItJmtOhLGMp4L/XDzX2krRmtLZ4WSnJkA6VrFBJhtoNa3ZUEZETAd3J7XynmY2yuIXoQK dwhoCW3WfZHT3PseVIqmB8jQc5/n3se29/Wd/hfgRqqudKu8u42psSzlb X-Gm-Gg: ASbGnct88ak6vt8CWmbC7ptqvoo0ywIkrGKb8YLGm5vkxmL01MtZwomVupVzdoAuCfk +ZAMCCTCOjWNudFKSV/SCF6zKgx2u9Ht5I+qQK2BMi92hAlRf/EoBa9KvSFvV6EUpUsoYjiFKus fWPHtglCvBI57Xs6aKtd5T2Me2KkfwZuV/0+uTkWGEglER2r6LqFodwvaRjfEZcsOSwCnUtTq2X b8Y07eKulK8ySXB4kL0DU5LnUbGkX4C6db7OOJRxduHSVZk6BbV74ENk9OZIYRxgZJ6LzVMb5ed P+/oDf5SZQD1UpSigr2hUZkU3mKWmbxpXvzLFojO7pVT47/Y X-Google-Smtp-Source: AGHT+IHsjXs3rH6aMrN7IsaA7u+f9mz/GtK4bFwzW9D7pv2bCrsX22XUe1QRRnkxbiTNpZZHnhCqvrF4IRuu X-Received: by 2002:a05:690c:9a01:b0:703:b278:db30 with SMTP id 00721157ae682-708abd587dbmr26474467b3.4.1745987546711; Tue, 29 Apr 2025 21:32:26 -0700 (PDT) Received: from postal.iol.unh.edu (postal.iol.unh.edu. [2606:4100:3880:1234::84]) by smtp-relay.gmail.com with ESMTPS id 00721157ae682-708ae1dda41sm295927b3.48.2025.04.29.21.32.26 (version=TLS1_2 cipher=ECDHE-ECDSA-AES128-GCM-SHA256 bits=128/128); Tue, 29 Apr 2025 21:32:26 -0700 (PDT) X-Relaying-Domain: iol.unh.edu Date: Tue, 29 Apr 2025 21:32:26 -0700 (PDT) Message-ID: <6811a7da.050a0220.2a871f.179cSMTPIN_ADDED_MISSING@mx.google.com> Received: from [172.21.0.5] (unknown [172.18.0.240]) by postal.iol.unh.edu (Postfix) with ESMTP id 47E876052471; Wed, 30 Apr 2025 00:32:26 -0400 (EDT) Subject: |SUCCESS| pw153190 [PATCH] [V3] Add new tracepoint function for type From: dpdklab@iol.unh.edu To: Test Report Cc: dpdk-test-reports@iol.unh.edu In-Reply-To: <20250430013431.2056969-1-changqing.li@windriver.com> References: <20250430013431.2056969-1-changqing.li@windriver.com> Content-Type: text/plain X-BeenThere: test-report@dpdk.org X-Mailman-Version: 2.1.29 Precedence: list List-Id: automatic DPDK test reports List-Unsubscribe: , List-Archive: List-Post: List-Help: List-Subscribe: , Errors-To: test-report-bounces@dpdk.org Test-Label: iol-compile-amd64-testing Test-Status: SUCCESS http://dpdk.org/patch/153190 _Testing PASS_ Submitter: Changqing Li Date: Wednesday, April 30 2025 01:34:30 DPDK git baseline: Repo:dpdk Branch: master CommitID:ca1690ebd224f148268285b15b97441ccdbdd07e 153190 --> testing pass Upstream job id: Generic-DPDK-Compile-Meson#383916 Test environment and result as below: +-----------------------------------+--------------------+-------------------+------------------+-------------------------+-------------------+----------------------+ | Environment | dpdk_meson_compile | dpdk_compile_spdk | dpdk_compile_ovs | dpdk_llvm_clang_compile | dpdk_msvc_compile | dpdk_mingw64_compile | +===================================+====================+===================+==================+=========================+===================+======================+ | CentOS Stream 9 | PASS | PASS | SKIPPED | SKIPPED | SKIPPED | SKIPPED | +-----------------------------------+--------------------+-------------------+------------------+-------------------------+-------------------+----------------------+ | CentOS Stream 10 | PASS | SKIPPED | SKIPPED | SKIPPED | SKIPPED | SKIPPED | +-----------------------------------+--------------------+-------------------+------------------+-------------------------+-------------------+----------------------+ | Debian 12 | PASS | PASS | SKIPPED | SKIPPED | SKIPPED | SKIPPED | +-----------------------------------+--------------------+-------------------+------------------+-------------------------+-------------------+----------------------+ | Fedora 41 (Clang) | PASS | PASS | PASS | SKIPPED | SKIPPED | SKIPPED | +-----------------------------------+--------------------+-------------------+------------------+-------------------------+-------------------+----------------------+ | Fedora 40 | PASS | PASS | SKIPPED | SKIPPED | SKIPPED | SKIPPED | +-----------------------------------+--------------------+-------------------+------------------+-------------------------+-------------------+----------------------+ | Fedora 40 (Clang) | PASS | PASS | SKIPPED | SKIPPED | SKIPPED | SKIPPED | +-----------------------------------+--------------------+-------------------+------------------+-------------------------+-------------------+----------------------+ | RHEL8 | PASS | SKIPPED | SKIPPED | SKIPPED | SKIPPED | SKIPPED | +-----------------------------------+--------------------+-------------------+------------------+-------------------------+-------------------+----------------------+ | RHEL9 | PASS | SKIPPED | SKIPPED | SKIPPED | SKIPPED | SKIPPED | +-----------------------------------+--------------------+-------------------+------------------+-------------------------+-------------------+----------------------+ | openSUSE Leap 15 | PASS | SKIPPED | SKIPPED | SKIPPED | SKIPPED | SKIPPED | +-----------------------------------+--------------------+-------------------+------------------+-------------------------+-------------------+----------------------+ | Ubuntu 20.04 | PASS | SKIPPED | SKIPPED | SKIPPED | SKIPPED | SKIPPED | +-----------------------------------+--------------------+-------------------+------------------+-------------------------+-------------------+----------------------+ | Fedora 41 | PASS | PASS | PASS | SKIPPED | SKIPPED | SKIPPED | +-----------------------------------+--------------------+-------------------+------------------+-------------------------+-------------------+----------------------+ | Ubuntu 24.04 | PASS | PASS | PASS | SKIPPED | SKIPPED | SKIPPED | +-----------------------------------+--------------------+-------------------+------------------+-------------------------+-------------------+----------------------+ | Alpine | PASS | SKIPPED | SKIPPED | SKIPPED | SKIPPED | SKIPPED | +-----------------------------------+--------------------+-------------------+------------------+-------------------------+-------------------+----------------------+ | Ubuntu 22.04 | PASS | PASS | SKIPPED | SKIPPED | SKIPPED | SKIPPED | +-----------------------------------+--------------------+-------------------+------------------+-------------------------+-------------------+----------------------+ | Ubuntu 24.04 32 Bit Cross Compile | PASS | SKIPPED | SKIPPED | SKIPPED | SKIPPED | SKIPPED | +-----------------------------------+--------------------+-------------------+------------------+-------------------------+-------------------+----------------------+ | FreeBSD 13.5 | PASS | SKIPPED | SKIPPED | SKIPPED | SKIPPED | SKIPPED | +-----------------------------------+--------------------+-------------------+------------------+-------------------------+-------------------+----------------------+ | FreeBSD 14.2 | PASS | SKIPPED | SKIPPED | SKIPPED | SKIPPED | SKIPPED | +-----------------------------------+--------------------+-------------------+------------------+-------------------------+-------------------+----------------------+ | Windows Server 2022 | SKIPPED | SKIPPED | SKIPPED | PASS | PASS | PASS | +-----------------------------------+--------------------+-------------------+------------------+-------------------------+-------------------+----------------------+ CentOS Stream 9 Kernel: Depends on container host Compiler: gcc 11.5.0 20240719 (Red Hat 11.5.0-2) CentOS Stream 10 Kernel: Depends on container host Compiler: gcc 14.2.1 20241104 (Red Hat 14.2.1-6) Debian 12 Kernel: Depends on container host Compiler: gcc (Debian 12.2.0-14) 12.2.0 Fedora 41 (Clang) Kernel: Depends on container host Compiler: clang 19.1.5 (Fedora 19.1.5-1.fc41) Fedora 40 Kernel: Depends on container host Compiler: gcc 14.2.1 20240912 (Red Hat 14.2.1-3) Fedora 40 (Clang) Kernel: Depends on container host Compiler: clang 18.1.8 (Fedora 18.1.8-1.fc40) RHEL8 Kernel: Depends on container host Compiler: gcc 8.5.0 20210514 (Red Hat 8.5.0-22) RHEL9 Kernel: Depends on container host Compiler: gcc 11.5.0 20240719 (Red Hat 11.5.0-2) openSUSE Leap 15 Kernel: Depends on container host Compiler: gcc (SUSE Linux) 7.5.0 Ubuntu 20.04 Kernel: Depends on container host Compiler: gcc (Ubuntu 9.4.0-1ubuntu1~20.04.2) 9.4.0 Fedora 41 Kernel: Depends on container host Compiler: gcc 14.2.1 20240912 (Red Hat 14.2.1-3) Ubuntu 24.04 Kernel: Depends on container host Compiler: gcc (Ubuntu 13.3.0-6ubuntu2~24.04) 13.3.0 Alpine Kernel: Depends on container host Compiler: gcc (Alpine 14.2.0) 14.2.0 Ubuntu 22.04 Kernel: Depends on container host Compiler: gcc (Ubuntu 11.4.0-1ubuntu1~22.04) 11.4.0 Ubuntu 24.04 32 Bit Cross Compile Kernel: Depends on container host Compiler: gcc (Ubuntu 13.3.0-6ubuntu2~24.04) 13.3.0 FreeBSD 13.5 Kernel: 13.5-RELEASE Compiler: clang 19.1.7 FreeBSD 14.2 Kernel: 14.2-RELEASE Compiler: clang 18.1.6 Windows Server 2022 Kernel: 10.0.20348.2031 Compiler: clang 15.0.7, gcc 14.1.0 (MinGW), and MSVC VS 19.39.33521 To view detailed results, visit: https://lab.dpdk.org/results/dashboard/patchsets/33089/ UNH-IOL DPDK Community Lab To manage your email subscriptions, visit: https://lab.dpdk.org/results/dashboard/preferences/subscriptions/