From mboxrd@z Thu Jan 1 00:00:00 1970 Return-Path: Received: from mails.dpdk.org (mails.dpdk.org [217.70.189.124]) by inbox.dpdk.org (Postfix) with ESMTP id 40C7646623 for ; Wed, 30 Apr 2025 06:45:39 +0200 (CEST) Received: from mails.dpdk.org (localhost [127.0.0.1]) by mails.dpdk.org (Postfix) with ESMTP id 3764A402A7; Wed, 30 Apr 2025 06:45:39 +0200 (CEST) Received: from mail-pf1-f228.google.com (mail-pf1-f228.google.com [209.85.210.228]) by mails.dpdk.org (Postfix) with ESMTP id 161B8402A3 for ; Wed, 30 Apr 2025 06:45:38 +0200 (CEST) Received: by mail-pf1-f228.google.com with SMTP id d2e1a72fcca58-739b3fe7ce8so6426929b3a.0 for ; Tue, 29 Apr 2025 21:45:38 -0700 (PDT) DKIM-Signature: v=1; a=rsa-sha256; c=relaxed/relaxed; d=iol.unh.edu; s=unh-iol; t=1745988337; x=1746593137; darn=dpdk.org; h=references:in-reply-to:cc:to:from:subject:message-id:date:from:to :cc:subject:date:message-id:reply-to; bh=C9LsGengDUbuRHvb4LCdYF34vmSTLp6xkyjq+CnuGFs=; b=BB8DvtzRmnSesVf48+n8v9mE1JBo5TYOtm4/QWiEaUGvNkdcjvH/fQFkhh1dDdPayk 6ybK8fx0uzVd7R1Ptr0rk1N67X+QiZNBcODk5yJTKE/pGr8LD+Zs0wtZiDrzFjr1nOC6 qnRfCz/CnCwitZ/KGPeh8Q2hNvx+6QLwRcHI8= X-Google-DKIM-Signature: v=1; a=rsa-sha256; c=relaxed/relaxed; d=1e100.net; s=20230601; t=1745988337; x=1746593137; h=references:in-reply-to:cc:to:from:subject:message-id:date :x-gm-message-state:from:to:cc:subject:date:message-id:reply-to; bh=C9LsGengDUbuRHvb4LCdYF34vmSTLp6xkyjq+CnuGFs=; b=WcYUs4peLfLl6afOJvIhK9p4uBoRK1eEgsTnW5oymhPB37yMX4IW5ok1KCzCkq3C2/ zzjBL/F40iVoYm0IODtfksd6pSstM8mbyXdYWHEUWmN0oCKJbFZuu5q9JXfvuE2uw9lC c8ep2XWeQW9ULhcNdaQ0Wfj3agOPXAVu/LciB+xLPtniOAOXSw4vcznFic43T4qHoDCr W4hhcPkAhfeftPyuB/SghQrBYIzWllhQ0AO4pdoTZQ7GeSrUN2468DEZe3HrYu5ufJx5 0JFT3U43kttjtrTTOFXQo9Aume9MQwicYo0dZiKvPOn+Sncqpn830H2KDcmeWNcH3QvI 9uDQ== X-Gm-Message-State: AOJu0YzCuJpU3DwsvSVBsymI2Fw4yLCjAKRmtLiqk2ki3ITmRledWSTS 1v+UNN/UmZaUwAyN3gRCi4VrdVg/9JEL2Bo+weqt+G7JlG6NDN5Px5kmbh+r6isg9YuBy3rISAc 1rBpaUzigQDibQ8Y97Jhe05+ZyvvB+toX6kwDM2NB X-Gm-Gg: ASbGncu9KX44m7lp0kijSRLj70ckjMcxQy3+Jr/HyuXCGewRLN9zQFYe37Tn9X0nP2h Yc30J8I3HnnMpFA+0fbuCuvwBggnqHt7xceLQD+r6EIRQJijLl7NLabRp5hmgsGSvxbQvTQTuyJ i8kkHZNxLGGPdbTURoVbz343AkBfrmQ//tRofpyUT+QMShHB+9A2gUxwUUqKPRPHonn5T4Gd3HF ZPfh8DZGa67Ac6tIDcz/Ctmn4V2QxeHPh+Mi7G45AXEdvyQ0mpmvBd00xNXbY/ad+u4n4c4RGj0 nRhdExDyI84zDSVXG7RDxD/4GlY9eILrf6V1 X-Google-Smtp-Source: AGHT+IE1Hq0IRFrWH6w9ebtGrqrIwGYk9kcUvr6gYJOM1QuR1334vNwgjFErZXb06vhm7DFE/QorFcL2ZAa7 X-Received: by 2002:a05:6a21:8dc5:b0:1f3:345e:4054 with SMTP id adf61e73a8af0-20a87c51bb9mr2369614637.14.1745988337217; Tue, 29 Apr 2025 21:45:37 -0700 (PDT) Received: from postal.iol.unh.edu (postal.iol.unh.edu. [132.177.123.84]) by smtp-relay.gmail.com with ESMTPS id d2e1a72fcca58-74039935692sm53522b3a.13.2025.04.29.21.45.37 (version=TLS1_2 cipher=ECDHE-ECDSA-AES128-GCM-SHA256 bits=128/128); Tue, 29 Apr 2025 21:45:37 -0700 (PDT) X-Relaying-Domain: iol.unh.edu Date: Tue, 29 Apr 2025 21:45:37 -0700 (PDT) Message-ID: <6811aaf1.050a0220.2d0ec2.2abcSMTPIN_ADDED_MISSING@mx.google.com> Received: from [172.21.0.5] (unknown [172.18.0.240]) by postal.iol.unh.edu (Postfix) with ESMTP id 59F006052471; Wed, 30 Apr 2025 00:45:36 -0400 (EDT) Subject: |SUCCESS| pw153190 [PATCH] [V3] Add new tracepoint function for type From: dpdklab@iol.unh.edu To: Test Report Cc: dpdk-test-reports@iol.unh.edu In-Reply-To: <20250430013431.2056969-1-changqing.li@windriver.com> References: <20250430013431.2056969-1-changqing.li@windriver.com> Content-Type: text/plain X-BeenThere: test-report@dpdk.org X-Mailman-Version: 2.1.29 Precedence: list List-Id: automatic DPDK test reports List-Unsubscribe: , List-Archive: List-Post: List-Help: List-Subscribe: , Errors-To: test-report-bounces@dpdk.org Test-Label: iol-unit-arm64-testing Test-Status: SUCCESS http://dpdk.org/patch/153190 _Testing PASS_ Submitter: Changqing Li Date: Wednesday, April 30 2025 01:34:30 DPDK git baseline: Repo:dpdk Branch: master CommitID:ca1690ebd224f148268285b15b97441ccdbdd07e 153190 --> testing pass Upstream job id: Generic-Unit-Test-DPDK#334376 Test environment and result as below: +-----------------------------+--------------+------------------------------+---------------------------+----------------+ | Environment | lpm_autotest | cryptodev_sw_snow3g_autotest | cryptodev_sw_zuc_autotest | dpdk_unit_test | +=============================+==============+==============================+===========================+================+ | Ubuntu 20.04 ARM SVE | PASS | SKIPPED | SKIPPED | SKIPPED | +-----------------------------+--------------+------------------------------+---------------------------+----------------+ | Debian 12 (arm) | SKIPPED | PASS | PASS | PASS | +-----------------------------+--------------+------------------------------+---------------------------+----------------+ | CentOS Stream 9 (ARM) | SKIPPED | SKIPPED | SKIPPED | PASS | +-----------------------------+--------------+------------------------------+---------------------------+----------------+ | Ubuntu 22.04 (ARM) | SKIPPED | SKIPPED | SKIPPED | PASS | +-----------------------------+--------------+------------------------------+---------------------------+----------------+ | Fedora 40 (ARM) | SKIPPED | SKIPPED | SKIPPED | PASS | +-----------------------------+--------------+------------------------------+---------------------------+----------------+ | CentOS Stream 10 (ARM) | SKIPPED | SKIPPED | SKIPPED | PASS | +-----------------------------+--------------+------------------------------+---------------------------+----------------+ | Fedora 40 (ARM Clang) | SKIPPED | SKIPPED | SKIPPED | PASS | +-----------------------------+--------------+------------------------------+---------------------------+----------------+ | Fedora 41 (ARM) | SKIPPED | SKIPPED | SKIPPED | PASS | +-----------------------------+--------------+------------------------------+---------------------------+----------------+ | RHEL9 (ARM) | SKIPPED | SKIPPED | SKIPPED | PASS | +-----------------------------+--------------+------------------------------+---------------------------+----------------+ | Fedora 41 (ARM Clang) | SKIPPED | SKIPPED | SKIPPED | PASS | +-----------------------------+--------------+------------------------------+---------------------------+----------------+ | Ubuntu 24.04 (ARM) | SKIPPED | SKIPPED | SKIPPED | PASS | +-----------------------------+--------------+------------------------------+---------------------------+----------------+ | Ubuntu 20.04 (ARM) | SKIPPED | SKIPPED | SKIPPED | PASS | +-----------------------------+--------------+------------------------------+---------------------------+----------------+ | 32-bit Ubuntu 22.04.4 (ARM) | SKIPPED | SKIPPED | SKIPPED | PASS | +-----------------------------+--------------+------------------------------+---------------------------+----------------+ Ubuntu 20.04 ARM SVE Kernel: Depends on container host Compiler: gcc (Ubuntu 10.5.0-1ubuntu1~20.04) 10.5.0 Debian 12 (arm) Kernel: Depends on container host Compiler: gcc (Debian 12.2.0-14) 12.2.0 CentOS Stream 9 (ARM) Kernel: Depends on container host Compiler: gcc 11.5.0 20240719 (Red Hat 11.5.0-2) Ubuntu 22.04 (ARM) Kernel: Depends on container host Compiler: gcc (Ubuntu 11.4.0-1ubuntu1~22.04) 11.4.0 Fedora 40 (ARM) Kernel: Depends on container host Compiler: gcc 14.2.1 20240912 (Red Hat 14.2.1-3) CentOS Stream 10 (ARM) Kernel: Depends on container host Compiler: gcc 14.2.1 20241104 (Red Hat 14.2.1-6) Fedora 40 (ARM Clang) Kernel: Depends on container host Compiler: clang 18.1.8 (Fedora 18.1.8-1.fc40) Fedora 41 (ARM) Kernel: Depends on container host Compiler: gcc 14.2.1 20240912 (Red Hat 14.2.1-3) RHEL9 (ARM) Kernel: Depends on container host Compiler: gcc 11.5.0 20240719 (Red Hat 11.5.0-2) Fedora 41 (ARM Clang) Kernel: Depends on container host Compiler: clang 19.1.5 (Fedora 19.1.5-1.fc41) Ubuntu 24.04 (ARM) Kernel: Depends on container host Compiler: gcc (Ubuntu 13.3.0-6ubuntu2~24.04) 13.3.0 Ubuntu 20.04 (ARM) Kernel: Depends on container host Compiler: gcc (Ubuntu 9.4.0-1ubuntu1~20.04.2) 9.4.0 32-bit Ubuntu 22.04.4 (ARM) Kernel: 5.15.83+ aarch64 Compiler: gcc (Ubuntu 11.4.0-1ubuntu1~22.04) 11.4.0 To view detailed results, visit: https://lab.dpdk.org/results/dashboard/patchsets/33089/ UNH-IOL DPDK Community Lab To manage your email subscriptions, visit: https://lab.dpdk.org/results/dashboard/preferences/subscriptions/