From mboxrd@z Thu Jan 1 00:00:00 1970 Return-Path: Received: from mails.dpdk.org (mails.dpdk.org [217.70.189.124]) by inbox.dpdk.org (Postfix) with ESMTP id F1F9046667 for ; Wed, 30 Apr 2025 08:46:55 +0200 (CEST) Received: from mails.dpdk.org (localhost [127.0.0.1]) by mails.dpdk.org (Postfix) with ESMTP id CE779402A3; Wed, 30 Apr 2025 08:46:55 +0200 (CEST) Received: from mail-yw1-f225.google.com (mail-yw1-f225.google.com [209.85.128.225]) by mails.dpdk.org (Postfix) with ESMTP id 97C344026C for ; Wed, 30 Apr 2025 08:46:54 +0200 (CEST) Received: by mail-yw1-f225.google.com with SMTP id 00721157ae682-6feab7c5f96so61269247b3.3 for ; Tue, 29 Apr 2025 23:46:54 -0700 (PDT) DKIM-Signature: v=1; a=rsa-sha256; c=relaxed/relaxed; d=iol.unh.edu; s=unh-iol; t=1745995614; x=1746600414; darn=dpdk.org; h=cc:to:from:subject:message-id:date:from:to:cc:subject:date :message-id:reply-to; bh=XdcCNR63pzKJH7kFTyVGAn+Ik8X5cwoGhprIsz/na+Y=; b=hTOCP2HRzc7wmm64sQzAwXEKZfYuBYM4jJMpVzkHvvj2ezzpwTnMLxNzr92SE2InSZ nRnBufqxSann0VqHNvL6zEcUdeKfpz9AictYzTCLP2RLJtQGmkeRkkkNh07u7ZY4aM/7 y/1BmXG/W/OwDhdELtZjyIEMFncrsw7Cctr58= X-Google-DKIM-Signature: v=1; a=rsa-sha256; c=relaxed/relaxed; d=1e100.net; s=20230601; t=1745995614; x=1746600414; h=cc:to:from:subject:message-id:date:x-gm-message-state:from:to:cc :subject:date:message-id:reply-to; bh=XdcCNR63pzKJH7kFTyVGAn+Ik8X5cwoGhprIsz/na+Y=; b=xFzNKTwssd7QDSeOVMT5sQtv4Hh6dYYlqfxWal5T63yZmL0y/BkfZftF104OlH8N8u WH6GqfzBIZb52LJXOJwU3uWD9Ixc7OhvLKBfKP43kistDdULnAVJaxtSRw/dfsxJ++cn xysCZqKbqTL+6NWLCvxTUhqijnw7+znlRsaSRCGlcrB0rDgjyxZLa1t+mzJ+/ADkcvAc ywmUk3wXVY+mRmSDdRZKgqkGs6BZAHicsOQeCfjEVEkTvtzFK2cDb7Ouv+7nmX1qvRqq ZXxqR5dXlTEgfx+1IXnC3zM+IUk/KdT4+7YOdN0+VABqESAPhidvHmua7BAWYc/wF4+r 9aKA== X-Gm-Message-State: AOJu0YxPNJV9huHVAqDitc3pnHyr7SMCBahY2pSSfjsCr9a3Xvun4Ap0 986M/xbxD2siDXB5bYyqcsUON9Lz0r7EQaduOCLkCEyMdjGe406acVWagbhSSUKe1pJWtHgWggD +4f2Z09VOhwDK5OMqAsbyhIcdBJxQTlvehUR/SW4eoqtxEFPj X-Gm-Gg: ASbGnctT1PyS43ATTohhzyE2gt7TuQ6mHTztYqUrpyIJsgdxrNIw8icBrpubHLfYIZ5 j2R4G6ARMdHhQ0Wk9Af3Nxx7IyPRo5O2C0X9yh5d3kUSc0f1b8ubpa5SbwJr67ZMPIivXmLBKPv GxLP/wkKBcmhEVNf6ijj0rfA1gjVx3L4RhrWhNh8WtSE+CokGkNYD4H98d7A/IGp0P5wCmUlHn/ b7J0OXIlNUWCd57Jb3UcKOy39wJqKazYDYCbKjlYW/C9Ef+HX5rIQMbMsziVSbZf9V15BG4m1oC iNRrbSfbpkJ0qH4pHJrhBXRW78dS+NOKglbRg979VyUfeEut X-Google-Smtp-Source: AGHT+IH2dcjRbwpkoZQYYn/I5l7dwaB2+6HiotLW1TCof0TQjbEk8hIJLZO1jTQiqOFqFdFStu1nfKBGZ3PF X-Received: by 2002:a05:690c:48ca:b0:706:ca86:d79e with SMTP id 00721157ae682-708ad61d354mr20002947b3.19.1745995613892; Tue, 29 Apr 2025 23:46:53 -0700 (PDT) Received: from postal.iol.unh.edu (postal.iol.unh.edu. [2606:4100:3880:1234::84]) by smtp-relay.gmail.com with ESMTPS id 00721157ae682-708ae1dda64sm333547b3.54.2025.04.29.23.46.53 (version=TLS1_2 cipher=ECDHE-ECDSA-AES128-GCM-SHA256 bits=128/128); Tue, 29 Apr 2025 23:46:53 -0700 (PDT) X-Relaying-Domain: iol.unh.edu Date: Tue, 29 Apr 2025 23:46:53 -0700 (PDT) Message-ID: <6811c75d.050a0220.3a0dda.190aSMTPIN_ADDED_MISSING@mx.google.com> Received: from [172.21.0.5] (unknown [172.18.0.240]) by postal.iol.unh.edu (Postfix) with ESMTP id 7A6F06052471; Wed, 30 Apr 2025 02:46:53 -0400 (EDT) Subject: |SUCCESS| [GIT MASTER] 4c5634de9f933555bab9c64a533d3dca999071cd From: dpdklab@iol.unh.edu To: Test Report Cc: dpdk-test-reports@iol.unh.edu, Xueming Li , Christian Ehrhardt , Kevin Traynor , Luca Boccassi Content-Type: text/plain X-BeenThere: test-report@dpdk.org X-Mailman-Version: 2.1.29 Precedence: list List-Id: automatic DPDK test reports List-Unsubscribe: , List-Archive: List-Post: List-Help: List-Subscribe: , Errors-To: test-report-bounces@dpdk.org _Testing PASS_ Branch: tags/v24.11 4c5634de9f933555bab9c64a533d3dca999071cd --> testing pass Upstream job id: Generic-DPDK-Compile-ABI#124868 Test environment and result as below: +-------------------+----------+ | Environment | abi_test | +===================+==========+ | CentOS Stream 9 | PASS | +-------------------+----------+ | CentOS Stream 10 | PASS | +-------------------+----------+ | Fedora 40 (Clang) | PASS | +-------------------+----------+ | Debian 12 | PASS | +-------------------+----------+ | Fedora 40 | PASS | +-------------------+----------+ | Fedora 41 (Clang) | PASS | +-------------------+----------+ | Fedora 41 | PASS | +-------------------+----------+ | openSUSE Leap 15 | PASS | +-------------------+----------+ | Ubuntu 22.04 | PASS | +-------------------+----------+ | RHEL8 | PASS | +-------------------+----------+ | RHEL9 | PASS | +-------------------+----------+ | Ubuntu 24.04 | PASS | +-------------------+----------+ CentOS Stream 9 Kernel: Depends on container host Compiler: gcc 11.5.0 20240719 (Red Hat 11.5.0-2) CentOS Stream 10 Kernel: Depends on container host Compiler: gcc 14.2.1 20241104 (Red Hat 14.2.1-6) Fedora 40 (Clang) Kernel: Depends on container host Compiler: clang 18.1.8 (Fedora 18.1.8-1.fc40) Debian 12 Kernel: Depends on container host Compiler: gcc (Debian 12.2.0-14) 12.2.0 Fedora 40 Kernel: Depends on container host Compiler: gcc 14.2.1 20240912 (Red Hat 14.2.1-3) Fedora 41 (Clang) Kernel: Depends on container host Compiler: clang 19.1.5 (Fedora 19.1.5-1.fc41) Fedora 41 Kernel: Depends on container host Compiler: gcc 14.2.1 20240912 (Red Hat 14.2.1-3) openSUSE Leap 15 Kernel: Depends on container host Compiler: gcc (SUSE Linux) 7.5.0 Ubuntu 22.04 Kernel: Depends on container host Compiler: gcc (Ubuntu 11.4.0-1ubuntu1~22.04) 11.4.0 RHEL8 Kernel: Depends on container host Compiler: gcc 8.5.0 20210514 (Red Hat 8.5.0-22) RHEL9 Kernel: Depends on container host Compiler: gcc 11.5.0 20240719 (Red Hat 11.5.0-2) Ubuntu 24.04 Kernel: Depends on container host Compiler: gcc (Ubuntu 13.3.0-6ubuntu2~24.04) 13.3.0 To view detailed results, visit: https://lab.dpdk.org/results/dashboard/tarballs/33395/ UNH-IOL DPDK Community Lab To manage your email subscriptions, visit: https://lab.dpdk.org/results/dashboard/preferences/subscriptions/